BEGIN:VCALENDAR
VERSION:2.0
PRODID:-//遊方 FOR YOU! - ECPv6.15.20//NONSGML v1.0//EN
CALSCALE:GREGORIAN
METHOD:PUBLISH
X-WR-CALNAME:遊方 FOR YOU!
X-ORIGINAL-URL:https://yuho-tsukitei.com
X-WR-CALDESC:遊方 FOR YOU! のイベント
REFRESH-INTERVAL;VALUE=DURATION:PT1H
X-Robots-Tag:noindex
X-PUBLISHED-TTL:PT1H
BEGIN:VTIMEZONE
TZID:Asia/Tokyo
BEGIN:STANDARD
TZOFFSETFROM:+0900
TZOFFSETTO:+0900
TZNAME:JST
DTSTART:20240101T000000
END:STANDARD
END:VTIMEZONE
BEGIN:VEVENT
DTSTART;TZID=Asia/Tokyo:20251027T190000
DTEND;TZID=Asia/Tokyo:20251027T210000
DTSTAMP:20260424T081433
CREATED:20250824T231932Z
LAST-MODIFIED:20250828T044012Z
UID:3910-1761591600-1761598800@yuho-tsukitei.com
SUMMARY:第30回 ロン毛・トーク・ファニー
DESCRIPTION:日時：10月27日（月）午後7時開演（6時30分開場） \n場所：ツギハギ荘（地下鉄「南森町」駅より南へ徒歩10分\n               / 大阪市北区天神橋1-8-15） \n出演：月亭遊方『雨男のブルース』\n     桂 雀喜『天保山』 \n予約1800円、当日2000円 \n予約：桂雀喜ホームページの予約フォームからお願いします。https://r.goope.jp/marumarupanda/reservation/event/detail/33290 \n問合せ：jacky7super@nifty.com（ロン毛カンパニー）
URL:https://yuho-tsukitei.com/event/%e7%ac%ac30%e5%9b%9e-%e3%83%ad%e3%83%b3%e6%af%9b%e3%83%bb%e3%83%88%e3%83%bc%e3%82%af%e3%83%bb%e3%83%95%e3%82%a1%e3%83%8b%e3%83%bc
ATTACH;FMTTYPE=image/jpeg:https://yuho-tsukitei.com/wp-content/uploads/2025/08/IMG_4510.jpeg
END:VEVENT
BEGIN:VEVENT
DTSTART;TZID=Asia/Tokyo:20251026T133000
DTEND;TZID=Asia/Tokyo:20251026T163000
DTSTAMP:20260424T081433
CREATED:20250909T133805Z
LAST-MODIFIED:20250909T133805Z
UID:3930-1761485400-1761496200@yuho-tsukitei.com
SUMMARY:天満天神繁昌亭〜桂米朝生誕百周年記念ウィーク〜
DESCRIPTION:日時：10月26日（日）午後1時30分開演（1時開場、4時10\n     分頃終演） \n場所：天満天神繁昌亭（地下鉄「南森町」駅4-A出口より徒\n     歩3分） \n出演：桂米舞、桂二豆、桂吉の丞、月亭遊方（ギター弾き語\n     り）、桂あおば、桂米左 〜仲入り〜 桂米二、桂米之\n     助、桂米平（立体紙芝居）、月亭八方 \n料金：前売2500円、当日2800円、65歳以上2300円/2500\n     円、身障者2000円/2200円、学生（25才未満）1000\n     円/1500円 \nチケット＆問合せ：06-6352-4874（天満天神繁昌亭）\n     チケットぴあ(Pコード:597-700)、セブンイレブン\n     (要Pコード)
URL:https://yuho-tsukitei.com/event/%e5%a4%a9%e6%ba%80%e5%a4%a9%e7%a5%9e%e7%b9%81%e6%98%8c%e4%ba%ad%e3%80%9c%e6%a1%82%e7%b1%b3%e6%9c%9d%e7%94%9f%e8%aa%95%e7%99%be%e5%91%a8%e5%b9%b4%e8%a8%98%e5%bf%b5%e3%82%a6%e3%82%a3%e3%83%bc%e3%82%af-2
ATTACH;FMTTYPE=image/jpeg:https://yuho-tsukitei.com/wp-content/uploads/2025/07/IMG_1407.jpeg
END:VEVENT
BEGIN:VEVENT
DTSTART;TZID=Asia/Tokyo:20251025T133000
DTEND;TZID=Asia/Tokyo:20251025T163000
DTSTAMP:20260424T081433
CREATED:20250909T133357Z
LAST-MODIFIED:20250909T133357Z
UID:3928-1761399000-1761409800@yuho-tsukitei.com
SUMMARY:天満天神繁昌亭〜桂米朝生誕百周年記念ウィーク〜
DESCRIPTION:日時：10月25日（土）午後1時30分開演（1時開場、4時10\n     分頃終演） \n場所：天満天神繁昌亭（地下鉄「南森町」駅4-A出口より徒\n     歩3分） \n出演：桂米舞、桂慶治朗、桂佐ん吉、内海英華（女道楽）、\n     月亭遊方、桂米平 〜仲入り〜 桂米團治、桂歌之助、\n    【リレー落語「動物園」桂米紫、桂鯛蔵、桂小鯛】、\n     桂春若 \n料金：前売2500円、当日2800円、65歳以上2300円/2500\n     円、身障者2000円/2200円、学生（25才未満）1000\n     円/1500円 \nチケット＆問合せ：06-6352-4874（天満天神繁昌亭）\n     チケットぴあ(Pコード:597-700)、セブンイレブン\n     (要Pコード)
URL:https://yuho-tsukitei.com/event/%e5%a4%a9%e6%ba%80%e5%a4%a9%e7%a5%9e%e7%b9%81%e6%98%8c%e4%ba%ad%e3%80%9c%e6%a1%82%e7%b1%b3%e6%9c%9d%e7%94%9f%e8%aa%95%e7%99%be%e5%91%a8%e5%b9%b4%e8%a8%98%e5%bf%b5%e3%82%a6%e3%82%a3%e3%83%bc%e3%82%af
ATTACH;FMTTYPE=image/jpeg:https://yuho-tsukitei.com/wp-content/uploads/2025/07/IMG_1407.jpeg
END:VEVENT
BEGIN:VEVENT
DTSTART;TZID=Asia/Tokyo:20251019T140000
DTEND;TZID=Asia/Tokyo:20251019T163000
DTSTAMP:20260424T081433
CREATED:20250909T132251Z
LAST-MODIFIED:20251010T001717Z
UID:3924-1760882400-1760891400@yuho-tsukitei.com
SUMMARY:喜楽館昼席〜防犯ウィーク〜
DESCRIPTION:日時：10月19日（日）午後2時開演（1時30分開場、4時30\n     分頃終演） \n場所：神戸新開地・喜楽館（各線「新開地」駅東改札③番出\n     口より徒歩2分） \n出演：桂結女花（開演前の一席 1時45分から）、桂文路\n     郎、笑福亭喬若、寒空はだか（漫談）、月亭遊方 〜\n     仲入り〜 笑福亭扇平、桂雀五郎、笑福亭松喬 \n料金：前売2300円、当日2800円  /  以下前売当日共：65\n     歳以上2300円、障がい者・高校・大学生2000円、小\n     中学生1500円  ※要証明書 \n問合せ：078-335-7088（喜楽館）
URL:https://yuho-tsukitei.com/event/%e5%96%9c%e6%a5%bd%e9%a4%a8%e6%98%bc%e5%b8%ad%e3%80%9c%e9%98%b2%e7%8a%af%e3%82%a6%e3%82%a3%e3%83%bc%e3%82%af%e3%80%9c
ATTACH;FMTTYPE=image/jpeg:https://yuho-tsukitei.com/wp-content/uploads/2025/09/IMG_5897.jpeg
END:VEVENT
BEGIN:VEVENT
DTSTART;TZID=Asia/Tokyo:20251018T180000
DTEND;TZID=Asia/Tokyo:20251018T200000
DTSTAMP:20260424T081433
CREATED:20250803T070458Z
LAST-MODIFIED:20250803T071647Z
UID:3849-1760810400-1760817600@yuho-tsukitei.com
SUMMARY:表現者工房プロデュース 落語 × 講談 劇的「噺」
DESCRIPTION:日時：10月18日（土）午後6時開演（5時30分開場、8時終\n     演） \n場所：表現者工房（JR「寺田町」駅北口より徒歩15分、大\n     阪市営バス「林寺1丁目」停留所より徒歩5分）\n     大阪市生野区生野東2丁目1-17 寺田町延三ビル1階 \n出演：落語×講談 長講1席ずつ\n     月亭遊方『ベガーズバンケット』\n     旭堂南璃『安倍晴明』\n     ☆演目前トークあり \n料金：前売3000円、当日3500円（全席自由） \n予約＆問合せ：表現者工房\n            iksalonhyogensha@gmail.com\n            06-6147-2897
URL:https://yuho-tsukitei.com/event/%e8%a1%a8%e7%8f%be%e8%80%85%e5%b7%a5%e6%88%bf%e3%83%97%e3%83%ad%e3%83%87%e3%83%a5%e3%83%bc%e3%82%b9-%e8%90%bd%e8%aa%9e-x-%e8%ac%9b%e8%ab%87-%e5%8a%87%e7%9a%84%e3%80%8c%e5%99%ba%e3%80%8d-2
ATTACH;FMTTYPE=image/jpeg:https://yuho-tsukitei.com/wp-content/uploads/2025/08/IMG_3360.jpeg
END:VEVENT
BEGIN:VEVENT
DTSTART;TZID=Asia/Tokyo:20251018T140000
DTEND;TZID=Asia/Tokyo:20251018T160000
DTSTAMP:20260424T081433
CREATED:20250803T070330Z
LAST-MODIFIED:20250803T070330Z
UID:3846-1760796000-1760803200@yuho-tsukitei.com
SUMMARY:表現者工房プロデュース 落語 × 講談 劇的「噺」
DESCRIPTION:日時：10月18日（土）午後2時開演（1時30分開場、4時終\n     演） \n場所：表現者工房（JR「寺田町」駅北口より徒歩15分、大\n     阪市営バス「林寺1丁目」停留所より徒歩5分）\n     大阪市生野区生野東2丁目1-17 寺田町延三ビル1階 \n出演：落語×講談 長講1席ずつ\n     月亭遊方『ベガーズバンケット』\n     旭堂南璃『安倍晴明』\n     ☆演目前トークあり \n料金：前売3000円、当日3500円（全席自由） \n予約＆問合せ：表現者工房\n            iksalonhyogensha@gmail.com\n            06-6147-2897
URL:https://yuho-tsukitei.com/event/%e8%a1%a8%e7%8f%be%e8%80%85%e5%b7%a5%e6%88%bf%e3%83%97%e3%83%ad%e3%83%87%e3%83%a5%e3%83%bc%e3%82%b9-%e8%90%bd%e8%aa%9e-x-%e8%ac%9b%e8%ab%87-%e5%8a%87%e7%9a%84%e3%80%8c%e5%99%ba%e3%80%8d
ATTACH;FMTTYPE=image/jpeg:https://yuho-tsukitei.com/wp-content/uploads/2025/08/IMG_3360.jpeg
END:VEVENT
BEGIN:VEVENT
DTSTART;TZID=Asia/Tokyo:20251013T183000
DTEND;TZID=Asia/Tokyo:20251013T210000
DTSTAMP:20260424T081433
CREATED:20250803T065342Z
LAST-MODIFIED:20250803T065342Z
UID:3843-1760380200-1760389200@yuho-tsukitei.com
SUMMARY:月亭遊真独演会〜入門十周年記念〜
DESCRIPTION:日時：10月13日（月祝）午後6時30分開演（6時開場） \n場所：天満天神繁昌亭昼席（地下鉄「南森町」駅4-A出口より徒歩3分） \n出演：月亭遊真\n      ゲスト：月亭遊方\n      開口一番：桂笑金\n      三味線：岡野鏡 \n料金：前売3000円、当日3500円（全席指定） \nチケット：チケットぴあ t.pia.jp 、セブンイレブン（ど\n        ちらもPコード：597-700）、繁昌亭窓口（11\n        時〜19時）\n        月亭遊真 Tel：090-2108-5441\n                Mail：t.uma0504@gmail.com
URL:https://yuho-tsukitei.com/event/%e6%9c%88%e4%ba%ad%e9%81%8a%e7%9c%9f%e7%8b%ac%e6%bc%94%e4%bc%9a%e3%80%9c%e5%85%a5%e9%96%80%e5%8d%81%e5%91%a8%e5%b9%b4%e8%a8%98%e5%bf%b5%e3%80%9c
ATTACH;FMTTYPE=image/jpeg:https://yuho-tsukitei.com/wp-content/uploads/2025/08/IMG_3662.jpeg
END:VEVENT
BEGIN:VEVENT
DTSTART;TZID=Asia/Tokyo:20251012T140000
DTEND;TZID=Asia/Tokyo:20251012T163000
DTSTAMP:20260424T081433
CREATED:20250803T072522Z
LAST-MODIFIED:20250812T174000Z
UID:3862-1760277600-1760286600@yuho-tsukitei.com
SUMMARY:第24回 紫雲の会〜むらさき落語勉強会〜
DESCRIPTION:日時：10月12日（日）午後2時開演（1時30分開場） \n場所：大倫寺（地下鉄「谷町九丁目」駅②番出口より徒歩5\n            分 / 大阪市中央区中寺2-4-9） \n出演：露の紫『柳田格之進』他1席、桂弥壱\n     ゲスト：月亭遊方 \n料金：前売2000円、当日2500円 \n予約＆問合せ：murakugo489＠gmail.com\n            090-2705-6039（ムラクゴベース）
URL:https://yuho-tsukitei.com/event/%e9%9c%b2%e3%81%ae%e7%b4%ab%e3%81%95%e3%82%93%e3%81%ae%e4%bc%9a
ATTACH;FMTTYPE=image/jpeg:https://yuho-tsukitei.com/wp-content/uploads/2025/08/IMG_3730.jpeg
END:VEVENT
BEGIN:VEVENT
DTSTART;TZID=Asia/Tokyo:20251012T100000
DTEND;TZID=Asia/Tokyo:20251012T120000
DTSTAMP:20260424T081433
CREATED:20250803T071520Z
LAST-MODIFIED:20251002T081407Z
UID:3855-1760263200-1760270400@yuho-tsukitei.com
SUMMARY:桂慶枝の早起き寄席 〜スポーツ特集〜
DESCRIPTION:日時：10月12日（日）午前10時開演（9時30分開場） \n場所：天満天神繁昌亭（地下鉄「南森町」駅4-A出口より徒歩3分） \n出演：桂慶枝『ヒーローインタビュー』\n     月亭遊方『パンチ！パンチ！パンチ！』\n     林家染八『相撲場風景』\n     桂おとめ『アタック！ナンバ一番(作/桂あやめ)』) \n料金：前売2000円、当日2500円、25歳以下1000円（前当\n     共、要証明書）\n     ※全席自由 \n予約＆問合せ：0120-874-315（落語ファクトリー）
URL:https://yuho-tsukitei.com/event/%e6%a1%82%e6%85%b6%e6%9e%9d%e3%81%ae%e6%97%a9%e8%b5%b7%e3%81%8d%e5%af%84%e5%b8%ad
ATTACH;FMTTYPE=image/jpeg:https://yuho-tsukitei.com/wp-content/uploads/2025/08/IMG_5668-scaled.jpeg
END:VEVENT
BEGIN:VEVENT
DTSTART;TZID=Asia/Tokyo:20251006T190000
DTEND;TZID=Asia/Tokyo:20251006T213000
DTSTAMP:20260424T081433
CREATED:20250724T053441Z
LAST-MODIFIED:20250808T084114Z
UID:3822-1759777200-1759786200@yuho-tsukitei.com
SUMMARY:百年長屋・遊方基地＃9
DESCRIPTION:日時：10月6日（月）午後7時開演（6時30分開場、9時過ぎ終演） \n場所：百年長屋（JR「玉造」駅、JR「森ノ宮」駅より徒歩6分） \n出演：月亭遊方『住吉駕籠』他、新作落語1席\n     ゲスト：桂梅團治（演目はお楽しみ）\n     ☆遊方×梅團治 対談あり \n      三味線：はやしや福 \n料金：予約2000円、当日2500円（全席自由） \n予約：kyoushoudou@hotmail.com\n     075-279-2868（京升堂）
URL:https://yuho-tsukitei.com/event/%e7%99%be%e5%b9%b4%e9%95%b7%e5%b1%8b%e3%83%bb%e9%81%8a%e6%96%b9%e5%9f%ba%e5%9c%b0%ef%bc%839
ATTACH;FMTTYPE=image/jpeg:https://yuho-tsukitei.com/wp-content/uploads/2025/07/IMG_3282.jpeg
END:VEVENT
BEGIN:VEVENT
DTSTART;TZID=Asia/Tokyo:20251004T133000
DTEND;TZID=Asia/Tokyo:20251004T163000
DTSTAMP:20260424T081433
CREATED:20250803T071156Z
LAST-MODIFIED:20250803T071156Z
UID:3851-1759584600-1759595400@yuho-tsukitei.com
SUMMARY:桂あおば噺家十五周年 翔ぶトリウィーク
DESCRIPTION:日時：10月4日（土）午後1時30分開演（1時開場、4時過ぎ終演予定） \n場所：天満天神繁昌亭（地下鉄「南森町」駅4-A出口より徒歩3分） \n出演：桂九ノ一、桂米輝、桂しん吉、木村ライダー（ギター漫談）、桂吉の丞、月亭遊方 〜仲入り〜 記念口上（桂あおば、月亭遊方、桂吉の丞、司会/桂米紫）、笑福亭松喬、桂米紫、桂あおば\n※出演順 \n料金：前売2500円、当日2800円  /  65歳以上 前売2300円、当日2500円 / 身障者 前売2000円、当日2200円 / 学生（25歳未満）前売1000円 当日1500円   ※各種料金要証明書） \nチケット：チケットぴあ t.pia.jp 、セブンイレブン（どちらもPコード：597-700）、繁昌亭窓口（11時〜19時） \n問合せ：06-6352-4874（天満天神繁昌亭）
URL:https://yuho-tsukitei.com/event/%e6%a1%82%e3%81%82%e3%81%8a%e3%81%b0%e5%99%ba%e5%ae%b6%e5%8d%81%e4%ba%94%e5%91%a8%e5%b9%b4-%e7%bf%94%e3%81%b6%e3%83%88%e3%83%aa%e3%82%a6%e3%82%a3%e3%83%bc%e3%82%af
ATTACH;FMTTYPE=image/jpeg:https://yuho-tsukitei.com/wp-content/uploads/2025/08/IMG_3548.jpeg
END:VEVENT
BEGIN:VEVENT
DTSTART;TZID=Asia/Tokyo:20250923T150000
DTEND;TZID=Asia/Tokyo:20250923T163000
DTSTAMP:20260424T081433
CREATED:20250803T064644Z
LAST-MODIFIED:20250809T101011Z
UID:3840-1758639600-1758645000@yuho-tsukitei.com
SUMMARY:さのDAY落語会
DESCRIPTION:日時：9月23日（火祝）午後3時開演（2時30分開場、4時30\n     分終演） \n場所：レフ関空泉佐野byベッセルホテルズ3階フロント奥ス\n     ペース（南海「泉佐野」駅東口隣接） \n出演：月亭遊方、笑福亭喬龍\n     ☆落語1席ずつと昼下がりのトークショー \n料金：予約2000円（ソフトドリンクBAR＆焼き菓子付） \n予約＆問合せ：080-4766-0911（sho-yaカンパニー）
URL:https://yuho-tsukitei.com/event/%e3%81%95%e3%81%aeday%e8%90%bd%e8%aa%9e%e4%bc%9a-4
ATTACH;FMTTYPE=image/jpeg:https://yuho-tsukitei.com/wp-content/uploads/2025/08/att.ofXWy_33cwcpnJeQD2horKaO9ZjsmRTrqXXbg1CfTeM.jpeg
END:VEVENT
BEGIN:VEVENT
DTSTART;TZID=Asia/Tokyo:20250921T170000
DTEND;TZID=Asia/Tokyo:20250921T170000
DTSTAMP:20260424T081433
CREATED:20250827T222748Z
LAST-MODIFIED:20250827T222748Z
UID:3919-1758474000-1758474000@yuho-tsukitei.com
SUMMARY:ツッキー新世界〜白附克仁トークショー〜
DESCRIPTION:日時：9月21日（日）午後5時開演 \n場所：新今宮FPホテル1階レストラン（JR「新今宮」駅すぐ） \n出演：白附克仁\n     落語ゲスト：月亭遊方（お馴染みのネタを演ります） \n料金：自由席3300円、最前列プレミアムチケット（グッズ\n     付）5500円 \n予約＆問合せ：https://t.livepocket.jp/e/tsukky-live
URL:https://yuho-tsukitei.com/event/%e3%83%84%e3%83%83%e3%82%ad%e3%83%bc%e6%96%b0%e4%b8%96%e7%95%8c%e3%80%9c%e7%99%bd%e9%99%84%e5%85%8b%e4%bb%81%e3%83%88%e3%83%bc%e3%82%af%e3%82%b7%e3%83%a7%e3%83%bc%e3%80%9c
ATTACH;FMTTYPE=image/jpeg:https://yuho-tsukitei.com/wp-content/uploads/2025/08/IMG_4462.jpeg
END:VEVENT
BEGIN:VEVENT
DTSTART;TZID=Asia/Tokyo:20250920T183000
DTEND;TZID=Asia/Tokyo:20250920T210000
DTSTAMP:20260424T081434
CREATED:20250803T063607Z
LAST-MODIFIED:20250803T063607Z
UID:3835-1758393000-1758402000@yuho-tsukitei.com
SUMMARY:できらく！〜新作落語ネタおろしの会〜
DESCRIPTION:日時：9月20日（土）午後6時30分開演（6時開場） \n場所：恵美寿寄（地下鉄「恵美須町」駅③出口より徒歩5分） \n出演：桂あやめ『ぞくぞくぞくぞく』\n     桂慶枝『ヒーローインタビュー』\n     月亭遊方『裸の国宝』\n     旭堂南湖『私を万博に連れてって』\n     桂三度『泥酔であるようなないような』 \n料金：予約2000円 \n予約＆問合せ：https://www.katsura-ayame.com/\n（桂あやめホームページ公演欄の予約フォームからお願いします）
URL:https://yuho-tsukitei.com/event/%e3%81%a7%e3%81%8d%e3%82%89%e3%81%8f%ef%bc%81%e3%80%9c%e6%96%b0%e4%bd%9c%e8%90%bd%e8%aa%9e%e3%83%8d%e3%82%bf%e3%81%8a%e3%82%8d%e3%81%97%e3%81%ae%e4%bc%9a%e3%80%9c-2
ATTACH;FMTTYPE=image/jpeg:https://yuho-tsukitei.com/wp-content/uploads/2025/08/IMG_3655.jpeg
END:VEVENT
BEGIN:VEVENT
DTSTART;TZID=Asia/Tokyo:20250916T190000
DTEND;TZID=Asia/Tokyo:20250916T210000
DTSTAMP:20260424T081434
CREATED:20250625T145346Z
LAST-MODIFIED:20250625T145346Z
UID:3733-1758049200-1758056400@yuho-tsukitei.com
SUMMARY:月亭遊方の 噺のROCK＃6
DESCRIPTION:日時：9月16日（火）午後7時開演（6時30分開場、9時終演予定）\n場所：アートスペース兜座5F演芸フロア（地下鉄「茅場町」\n     駅12出口より徒歩3分、「日本橋」駅D1出口より徒歩\n     4分） \n出演：月亭遊方『ベガーズバンケット』他 \n料金：予約3000円、当日3500円（全席自由） \n予約＆問合せ：090-1408-3942 /\n           info@yuho-tsukitei.com（遊方基地）
URL:https://yuho-tsukitei.com/event/%e6%9c%88%e4%ba%ad%e9%81%8a%e6%96%b9%e3%81%ae-%e5%99%ba%e3%81%aerock%ef%bc%836
ATTACH;FMTTYPE=image/jpeg:https://yuho-tsukitei.com/wp-content/uploads/2025/06/IMG_1708.jpeg
END:VEVENT
BEGIN:VEVENT
DTSTART;TZID=Asia/Tokyo:20250914T140000
DTEND;TZID=Asia/Tokyo:20250914T170000
DTSTAMP:20260424T081434
CREATED:20250803T062912Z
LAST-MODIFIED:20250803T062912Z
UID:3832-1757858400-1757869200@yuho-tsukitei.com
SUMMARY:笑福亭たま十番勝負〜月亭遊方一門に挑む〜
DESCRIPTION:日時：9月14日（日）午後2時開演（1時30分開場） \n場所：銭屋ホール（近鉄「上本町」駅より徒歩3分、地下鉄\n    「谷町九丁目」駅より徒歩10分） \n出演：笑福亭たま『らくだ』『尼買い』『新作落語』\n     ゲスト：月亭遊方、月亭遊真、月亭希遊 \n料金：前売3500円、40歳以下1500円（当日各500円アッ\n     プ） \nチケット＆問合せ：：イープラス（座席選択可能）\nyoyakutamajimusho@gmail.com（笑福亭たま事務所）\n080-8515-1810（笑福亭たま事務所）
URL:https://yuho-tsukitei.com/event/%e7%ac%91%e7%a6%8f%e4%ba%ad%e3%81%9f%e3%81%be%e5%8d%81%e7%95%aa%e5%8b%9d%e8%b2%a0%e3%80%9c%e6%9c%88%e4%ba%ad%e9%81%8a%e6%96%b9%e4%b8%80%e9%96%80%e3%81%ab%e6%8c%91%e3%82%80%e3%80%9c
ATTACH;FMTTYPE=image/jpeg:https://yuho-tsukitei.com/wp-content/uploads/2025/08/IMG_3659.jpeg
END:VEVENT
BEGIN:VEVENT
DTSTART;TZID=Asia/Tokyo:20250913T140000
DTEND;TZID=Asia/Tokyo:20250913T163000
DTSTAMP:20260424T081434
CREATED:20250803T063804Z
LAST-MODIFIED:20250812T172747Z
UID:3838-1757772000-1757781000@yuho-tsukitei.com
SUMMARY:無学亭 若鑽会 vol.29
DESCRIPTION:日時：9月13日（土）午後2時開演（1時30分開場） \n場所：無学（南海本線「粉浜」駅、阪堺線「東粉浜」駅より\n     東へ徒歩5分 / 大阪市住吉区帝塚山西4-12-31） \n出演：笑福亭鉄瓶（2席）、桂九寿玉\n     ゲスト：月亭遊方 \n料金：前売2000円、当日2500円 \n予約＆問合せ：0798-33-5699（リバーボトル）\n           ※席数に限りがございますので必ずお問い合わ\n            せください
URL:https://yuho-tsukitei.com/event/%e7%ac%91%e7%a6%8f%e4%ba%ad%e9%89%84%e7%93%b6%e3%81%95%e3%82%93%e3%81%ae%e4%bc%9a
ATTACH;FMTTYPE=image/jpeg:https://yuho-tsukitei.com/wp-content/uploads/2025/08/IMG_3950.jpeg
END:VEVENT
BEGIN:VEVENT
DTSTART;TZID=Asia/Tokyo:20250912T183000
DTEND;TZID=Asia/Tokyo:20250912T210000
DTSTAMP:20260424T081434
CREATED:20250625T144708Z
LAST-MODIFIED:20250625T144708Z
UID:3730-1757701800-1757710800@yuho-tsukitei.com
SUMMARY:どっかんBROTHERS
DESCRIPTION:日時：9月12日（金）午後6時30分開演（6時開場） \n場所：天満天神繁昌亭（地下鉄「南森町」駅4-A出口より徒歩3分） \n出演：笑福亭鶴笑『令和の西遊記』\n     月亭遊方『彫刻の腕』\n     桂文華『按摩炬燵』 \n  三味線：はやしや福\n  ☆各演目の前に3人のマクラ代わりトークあり\n  ☆勝者を当てて福袋をGet！3人の大人気がないゲームあり \n料金：前売3000円、当日3500円 \nチケット：チケットぴあ(Pコード:597-700)、セブンイレ\n        ブン(要Pコード)\n問合せ：075-279-2868 /\n       kyoushoudou@hotmail.com（京升堂）
URL:https://yuho-tsukitei.com/event/%e3%81%a9%e3%81%a3%e3%81%8b%e3%82%93brothers
ATTACH;FMTTYPE=image/jpeg:https://yuho-tsukitei.com/wp-content/uploads/2025/06/IMG_0831.jpeg
END:VEVENT
BEGIN:VEVENT
DTSTART;TZID=Asia/Tokyo:20250907T140000
DTEND;TZID=Asia/Tokyo:20250907T163000
DTSTAMP:20260424T081434
CREATED:20250721T123147Z
LAST-MODIFIED:20250721T123147Z
UID:3820-1757253600-1757262600@yuho-tsukitei.com
SUMMARY:神戸新開地・喜楽館昼席
DESCRIPTION:日時：9月7日（日）午後2時開演（1時30分開場、4時25分\n     終演予定） \n場所：神戸新開地・喜楽館（各線「新開地」駅東改札③番出\n     口より徒歩2分） \n出演：開演前の一席（未定）、桂雪鹿、林家染太、めぐまり\n     こ（ものまね）、桂枝女太 〜仲入り〜 桂楽珍、月亭\n     方気、月亭遊方\n     ※開演前の一席は午後1時45分から \n料金：前売2300円、当日2800円  /  以下前売当日共：65\n     歳以上2300円、障がい者・高校・大学生2000円、小\n     中学生1500円  ※要証明書 \nチケット：https://t.pia.jp/pia/ticketInformation.do?eventCd=2519713&rlsCd=005 \n問合せ：078-335-7088（神戸新開地・喜楽館）
URL:https://yuho-tsukitei.com/event/%e7%a5%9e%e6%88%b8%e6%96%b0%e9%96%8b%e5%9c%b0%e3%83%bb%e5%96%9c%e6%a5%bd%e9%a4%a8%e6%98%bc%e5%b8%ad-9
ATTACH;FMTTYPE=image/jpeg:https://yuho-tsukitei.com/wp-content/uploads/2025/07/IMG_3034.jpeg
END:VEVENT
BEGIN:VEVENT
DTSTART;TZID=Asia/Tokyo:20250906T140000
DTEND;TZID=Asia/Tokyo:20250906T163000
DTSTAMP:20260424T081434
CREATED:20250721T123041Z
LAST-MODIFIED:20250808T230256Z
UID:3818-1757167200-1757176200@yuho-tsukitei.com
SUMMARY:神戸新開地・喜楽館昼席
DESCRIPTION:日時：9月6日（土）午後2時開演（1時30分開場、4時25分\n     終演予定） \n場所：神戸新開地・喜楽館（各線「新開地」駅東改札③番出\n     口より徒歩2分） \n出演：開演前の一席（未定）、桂雪鹿、林家染太、木村ライ\n     ダー（ギター漫談）、桂枝女太 〜仲入り〜 桂楽珍、\n     月亭方気、月亭遊方\n     ※開演前の一席は午後1時45分から \n料金：前売2300円、当日2800円  /  以下前売当日共：65\n     歳以上2300円、障がい者・高校・大学生2000円、小\n     中学生1500円  ※要証明書 \nチケット：https://t.pia.jp/pia/ticketInformation.do?eventCd=2519713&rlsCd=005 \n問合せ：078-335-7088（神戸新開地・喜楽館）
URL:https://yuho-tsukitei.com/event/%e7%a5%9e%e6%88%b8%e6%96%b0%e9%96%8b%e5%9c%b0%e3%83%bb%e5%96%9c%e6%a5%bd%e9%a4%a8%e6%98%bc%e5%b8%ad-8
ATTACH;FMTTYPE=image/jpeg:https://yuho-tsukitei.com/wp-content/uploads/2025/07/IMG_3034.jpeg
END:VEVENT
BEGIN:VEVENT
DTSTART;TZID=Asia/Tokyo:20250905T140000
DTEND;TZID=Asia/Tokyo:20250905T163000
DTSTAMP:20260424T081434
CREATED:20250721T122938Z
LAST-MODIFIED:20250808T230148Z
UID:3816-1757080800-1757089800@yuho-tsukitei.com
SUMMARY:神戸新開地・喜楽館昼席
DESCRIPTION:日時：9月5日（金）午後2時開演（1時30分開場、4時25分\n     終演予定） \n場所：神戸新開地・喜楽館（各線「新開地」駅東改札③番出\n     口より徒歩2分） \n出演：開演前の一席（未定）、桂二豆、林家染太、木村ライ\n     ダー（ギター漫談）、桂枝女太 〜仲入り〜 桂楽珍、\n     月亭方気、月亭遊方\n     ※開演前の一席は午後1時45分から \n料金：前売2300円、当日2800円  /  以下前売当日共：65\n     歳以上2300円、障がい者・高校・大学生2000円、小\n     中学生1500円  ※要証明書 \nチケット：https://t.pia.jp/pia/ticketInformation.do?eventCd=2519713&rlsCd=005 \n問合せ：078-335-7088（神戸新開地・喜楽館）
URL:https://yuho-tsukitei.com/event/%e7%a5%9e%e6%88%b8%e6%96%b0%e9%96%8b%e5%9c%b0%e3%83%bb%e5%96%9c%e6%a5%bd%e9%a4%a8%e6%98%bc%e5%b8%ad-7
ATTACH;FMTTYPE=image/jpeg:https://yuho-tsukitei.com/wp-content/uploads/2025/07/IMG_3034.jpeg
END:VEVENT
BEGIN:VEVENT
DTSTART;TZID=Asia/Tokyo:20250904T183000
DTEND;TZID=Asia/Tokyo:20250904T203000
DTSTAMP:20260424T081434
CREATED:20250803T072328Z
LAST-MODIFIED:20250824T221118Z
UID:3858-1757010600-1757017800@yuho-tsukitei.com
SUMMARY:喜楽館 元気寄席
DESCRIPTION:日時：9月4日（木）午後6時30分開演（6時開場、8時10分\n     終演予定） \n場所：神戸新開地・喜楽館（各線「新開地」駅東改札③番出口より徒歩2分） \n出演：桂二豆、月亭方気、月亭遊方 〜仲入り〜 桂枝女太\n     ※出演順 \n料金：前売1500円、当日1800円（全席自由） \n問合せ：078-335-7088（神戸新開地・喜楽館）
URL:https://yuho-tsukitei.com/event/%e5%96%9c%e6%a5%bd%e9%a4%a8-%e5%85%83%e6%b0%97%e5%af%84%e5%b8%ad-5
ATTACH;FMTTYPE=image/jpeg:https://yuho-tsukitei.com/wp-content/uploads/2025/08/IMG_4373-scaled.jpeg
END:VEVENT
BEGIN:VEVENT
DTSTART;TZID=Asia/Tokyo:20250904T140000
DTEND;TZID=Asia/Tokyo:20250904T163000
DTSTAMP:20260424T081434
CREATED:20250721T122832Z
LAST-MODIFIED:20250808T230033Z
UID:3814-1756994400-1757003400@yuho-tsukitei.com
SUMMARY:神戸新開地・喜楽館昼席
DESCRIPTION:日時：9月4日（木）午後2時開演（1時30分開場、4時25分\n     終演予定） \n場所：神戸新開地・喜楽館（各線「新開地」駅東改札③番出\n     口より徒歩2分） \n出演：開演前の一席（未定）、桂二豆、林家染太、木村ライ\n     ダー（ギター漫談）、桂枝女太 〜仲入り〜 桂楽珍、\n     月亭方気、月亭遊方\n     ※開演前の一席は午後1時45分から \n料金：前売2300円、当日2800円  /  以下前売当日共：65\n     歳以上2300円、障がい者・高校・大学生2000円、小\n     中学生1500円  ※要証明書 \nチケット：https://t.pia.jp/pia/ticketInformation.do?eventCd=2519713&rlsCd=005 \n問合せ：078-335-7088（神戸新開地・喜楽館）
URL:https://yuho-tsukitei.com/event/%e7%a5%9e%e6%88%b8%e6%96%b0%e9%96%8b%e5%9c%b0%e3%83%bb%e5%96%9c%e6%a5%bd%e9%a4%a8%e6%98%bc%e5%b8%ad-6
ATTACH;FMTTYPE=image/jpeg:https://yuho-tsukitei.com/wp-content/uploads/2025/07/IMG_3034.jpeg
END:VEVENT
BEGIN:VEVENT
DTSTART;TZID=Asia/Tokyo:20250903T140000
DTEND;TZID=Asia/Tokyo:20250903T163000
DTSTAMP:20260424T081434
CREATED:20250721T122612Z
LAST-MODIFIED:20250721T122612Z
UID:3811-1756908000-1756917000@yuho-tsukitei.com
SUMMARY:神戸新開地・喜楽館昼席
DESCRIPTION:日時：9月3日（水）午後2時開演（1時30分開場、4時25分\n     終演予定） \n場所：神戸新開地・喜楽館（各線「新開地」駅東改札③番出口より徒歩2分） \n出演：開演前の一席（未定）、桂二豆、林家染太、めぐまり\n     こ（ものまね）、桂枝女太 〜仲入り〜 桂楽珍、笑福\n     亭大智、月亭遊方\n     ※開演前の一席は午後1時45分から \n料金：前売2300円、当日2800円  /  以下前売当日共：65\n     歳以上2300円、障がい者・高校・大学生2000円、小\n     中学生1500円  ※要証明書 \nチケット：https://t.pia.jp/pia/ticketInformation.do?eventCd=2519713&rlsCd=005 \n問合せ：078-335-7088（神戸新開地・喜楽館）
URL:https://yuho-tsukitei.com/event/%e7%a5%9e%e6%88%b8%e6%96%b0%e9%96%8b%e5%9c%b0%e3%83%bb%e5%96%9c%e6%a5%bd%e9%a4%a8%e6%98%bc%e5%b8%ad-5
ATTACH;FMTTYPE=image/jpeg:https://yuho-tsukitei.com/wp-content/uploads/2025/07/IMG_3034.jpeg
END:VEVENT
BEGIN:VEVENT
DTSTART;TZID=Asia/Tokyo:20250902T140000
DTEND;TZID=Asia/Tokyo:20250902T163000
DTSTAMP:20260424T081434
CREATED:20250721T122416Z
LAST-MODIFIED:20250721T122416Z
UID:3809-1756821600-1756830600@yuho-tsukitei.com
SUMMARY:神戸新開地・喜楽館昼席
DESCRIPTION:日時：9月2日（火）午後2時開演（1時30分開場、4時25分\n     終演予定） \n場所：神戸新開地・喜楽館（各線「新開地」駅東改札③番出\n     口より徒歩2分） \n出演：開演前の一席（未定）、桂弥壱、林家染太、めぐまり\n     こ（ものまね）、桂枝女太 〜仲入り〜 桂楽珍、月亭\n     方気、月亭遊方\n     ※開演前の一席は午後1時45分から \n料金：前売2300円、当日2800円  /  以下前売当日共：65\n     歳以上2300円、障がい者・高校・大学生2000円、小\n     中学生1500円  ※要証明書 \nチケット：https://t.pia.jp/pia/ticketInformation.do?eventCd=2519713&rlsCd=005 \n問合せ：078-335-7088（神戸新開地・喜楽館）
URL:https://yuho-tsukitei.com/event/%e7%a5%9e%e6%88%b8%e6%96%b0%e9%96%8b%e5%9c%b0%e3%83%bb%e5%96%9c%e6%a5%bd%e9%a4%a8%e6%98%bc%e5%b8%ad-4
ATTACH;FMTTYPE=image/jpeg:https://yuho-tsukitei.com/wp-content/uploads/2025/07/IMG_3034.jpeg
END:VEVENT
BEGIN:VEVENT
DTSTART;TZID=Asia/Tokyo:20250901T140000
DTEND;TZID=Asia/Tokyo:20250901T163000
DTSTAMP:20260424T081434
CREATED:20250721T122152Z
LAST-MODIFIED:20250721T122733Z
UID:3806-1756735200-1756744200@yuho-tsukitei.com
SUMMARY:神戸新開地・喜楽館昼席
DESCRIPTION:日時：9月1日（月）午後2時開演（1時30分開場、4時25分\n     終演予定） \n場所：神戸新開地・喜楽館（各線「新開地」駅東改札③番出\n     口より徒歩2分） \n出演：開演前の一席（未定）、桂二豆、林家染太、めぐまり\n     こ（ものまね）、桂枝女太 〜仲入り〜 桂楽珍、月亭\n     方気、月亭遊方\n     ※開演前の一席は午後1時45分から \n料金：前売2300円、当日2800円  /  以下前売当日共：65\n     歳以上2300円、障がい者・高校・大学生2000円、小\n     中学生1500円  ※要証明書 \nチケット：https://t.pia.jp/pia/ticketInformation.do?eventCd=2519713&rlsCd=005 \n問合せ：078-335-7088（神戸新開地・喜楽館）
URL:https://yuho-tsukitei.com/event/%e7%a5%9e%e6%88%b8%e6%96%b0%e9%96%8b%e5%9c%b0%e3%83%bb%e5%96%9c%e6%a5%bd%e9%a4%a8%e6%98%bc%e5%b8%ad-3
ATTACH;FMTTYPE=image/jpeg:https://yuho-tsukitei.com/wp-content/uploads/2025/07/IMG_3034.jpeg
END:VEVENT
BEGIN:VEVENT
DTSTART;TZID=Asia/Tokyo:20250830T183000
DTEND;TZID=Asia/Tokyo:20250830T203000
DTSTAMP:20260424T081434
CREATED:20250625T151104Z
LAST-MODIFIED:20250720T050424Z
UID:3742-1756578600-1756585800@yuho-tsukitei.com
SUMMARY:月亭遊方の噺の招待席＃2
DESCRIPTION:日時：8月30日（土）午後6時30分開演（6時開場、8時30分\n     終演）\n     ※甲子園球場で阪神戦ナイターの日ですが、お帰りの\n      阪神電車、混み合わない時間に終わります \n場所：西宮えびす亭（阪神｢西宮」駅より徒歩5分 / 西宮市\n     和上町8-14） \n出演：月亭遊方『つぼ算』『算段の平兵衛』他1席あるかも\n     ☆各演目の考察、エピソード、裏話等あり\n     ※生三味線ではありません \n料金：予約当日とも2500円（定員25名） \n予約＆問合せ：km@fujinabe.com（FUJI鍋）\n            072-355-8286（FUJI鍋）
URL:https://yuho-tsukitei.com/event/%e6%9c%88%e4%ba%ad%e9%81%8a%e6%96%b9%e3%81%ae%e5%99%ba%e3%81%ae%e6%8b%9b%e5%be%85%e5%b8%ad%ef%bc%832
ATTACH;FMTTYPE=image/jpeg:https://yuho-tsukitei.com/wp-content/uploads/2025/06/IMG_2949.jpeg
END:VEVENT
BEGIN:VEVENT
DTSTART;TZID=Asia/Tokyo:20250823T160000
DTEND;TZID=Asia/Tokyo:20250823T180000
DTSTAMP:20260424T081434
CREATED:20250625T150048Z
LAST-MODIFIED:20250625T150048Z
UID:3736-1755964800-1755972000@yuho-tsukitei.com
SUMMARY:月亭遊方 in 岐阜 まめな落語会
DESCRIPTION:日時：8月23日（土）午後4時開演（3時30分開場） \n場所：珈琲家まめ（岐阜県揖斐郡揖斐川町市場194）\n     ※駐車場あり \n出演：月亭遊方『ベガーズバンケット』他 \n料金：2500円（1ドリンク付） \n予約＆問合せ：0585-52-9193（珈琲家まめ）\n            gifudeufo@gmai.com（事務局）
URL:https://yuho-tsukitei.com/event/%e6%9c%88%e4%ba%ad%e9%81%8a%e6%96%b9-in-%e5%b2%90%e9%98%9c-%e3%81%be%e3%82%81%e3%81%aa%e8%90%bd%e8%aa%9e%e4%bc%9a
ATTACH;FMTTYPE=image/jpeg:https://yuho-tsukitei.com/wp-content/uploads/2025/06/IMG_1100.jpeg
END:VEVENT
BEGIN:VEVENT
DTSTART;TZID=Asia/Tokyo:20250822T183000
DTEND;TZID=Asia/Tokyo:20250822T210000
DTSTAMP:20260424T081434
CREATED:20250625T150542Z
LAST-MODIFIED:20250625T150542Z
UID:3739-1755887400-1755896400@yuho-tsukitei.com
SUMMARY:坂本頼光オンステージ in 大須
DESCRIPTION:日時：8月22日（金）午後6時30分開演（6時開場） \n場所：大須演芸場（名古屋市中区大須2丁目19-39 / 地下\n     鉄「大須観音」駅②番出口より徒歩5分） \n出演：坂本頼光\n     ゲスト：月亭遊方 \n料金：前売当日とも3500円（全席指定） \nチケット＆問合せ：MUGEプランニング\n               mugeplan51@au.com\n               070-2673-1203
URL:https://yuho-tsukitei.com/event/%e5%9d%82%e6%9c%ac%e9%a0%bc%e5%85%89%e3%82%aa%e3%83%b3%e3%82%b9%e3%83%86%e3%83%bc%e3%82%b8-in-%e5%a4%a7%e9%a0%88
ATTACH;FMTTYPE=image/jpeg:https://yuho-tsukitei.com/wp-content/uploads/2025/06/IMG_0334.jpeg
END:VEVENT
BEGIN:VEVENT
DTSTART;TZID=Asia/Tokyo:20250817T133000
DTEND;TZID=Asia/Tokyo:20250817T163000
DTSTAMP:20260424T081434
CREATED:20250710T121619Z
LAST-MODIFIED:20250710T121619Z
UID:3784-1755437400-1755448200@yuho-tsukitei.com
SUMMARY:天満天神繁昌亭昼席
DESCRIPTION:日時：8月17日（日）午後1時30分開演（1時開場、4時10分終演予定） \n場所：天満天神繁昌亭（地下鉄「南森町」駅4-A出口より徒\n     歩3分） \n出演：桂健枝郎、桂団治郎、月亭遊方、キングダムけんた\n    （ギター漫談）、笑福亭由瓶、桂文福 〜仲入り〜 桂\n     枝曾丸、桂わかば、チキチキジョニー（漫才）、桂千\n     朝\n     ※出演順 \n料金：前売2500円、当日2800円、65歳以上2300円/2500\n     円、身障者2000円/2200円、学生（25才未満）1000\n     円/1500円 \nチケット：チケットぴあ t.pia.jp 、セブンイレブン（ど\n         ちらもPコード：597-700）、繁昌亭窓口（11\n         時〜19時） \n問合せ：06-6352-4874（天満天神繁昌亭）
URL:https://yuho-tsukitei.com/event/%e5%a4%a9%e6%ba%80%e5%a4%a9%e7%a5%9e%e7%b9%81%e6%98%8c%e4%ba%ad%e6%98%bc%e5%b8%ad-41
ATTACH;FMTTYPE=image/jpeg:https://yuho-tsukitei.com/wp-content/uploads/2025/07/IMG_1407.jpeg
END:VEVENT
END:VCALENDAR