BEGIN:VCALENDAR
VERSION:2.0
PRODID:-//遊方 FOR YOU! - ECPv6.15.20//NONSGML v1.0//EN
CALSCALE:GREGORIAN
METHOD:PUBLISH
X-ORIGINAL-URL:https://yuho-tsukitei.com
X-WR-CALDESC:遊方 FOR YOU! のイベント
REFRESH-INTERVAL;VALUE=DURATION:PT1H
X-Robots-Tag:noindex
X-PUBLISHED-TTL:PT1H
BEGIN:VTIMEZONE
TZID:Asia/Tokyo
BEGIN:STANDARD
TZOFFSETFROM:+0900
TZOFFSETTO:+0900
TZNAME:JST
DTSTART:20230101T000000
END:STANDARD
END:VTIMEZONE
BEGIN:VEVENT
DTSTART;TZID=Asia/Tokyo:20241101T190000
DTEND;TZID=Asia/Tokyo:20241101T210000
DTSTAMP:20260426T012109
CREATED:20240822T080337Z
LAST-MODIFIED:20240822T080337Z
UID:3229-1730487600-1730494800@yuho-tsukitei.com
SUMMARY:百年長屋・遊方基地 #4
DESCRIPTION:日時：11月1日（金）午後7時開演（6時30分開場、9時過ぎ終演予定） \n場所：百年長屋（JR「玉造」駅より徒歩6分、JR「森ノ宮」駅より徒歩7分） \n出演：月亭遊方『稲荷俥』他、新作落語1席\n     ゲスト：桂福楽『死神』\n     遊方 × 福楽 対談あり \n料金：予約2000円、当日2500円 \n予約＆問合せ：京升堂\n電話：075-279-2868\nメール：kyoushoudou@hotmail.com \n予約フォーム：https://business.form-mailer.jp/fms/392a8060253755
URL:https://yuho-tsukitei.com/event/%e7%99%be%e5%b9%b4%e9%95%b7%e5%b1%8b%e3%83%bb%e9%81%8a%e6%96%b9%e5%9f%ba%e5%9c%b0-4
ATTACH;FMTTYPE=image/jpeg:https://yuho-tsukitei.com/wp-content/uploads/2024/08/IMG_1255.jpeg
END:VEVENT
BEGIN:VEVENT
DTSTART;TZID=Asia/Tokyo:20241103T140000
DTEND;TZID=Asia/Tokyo:20241103T160000
DTSTAMP:20260426T012109
CREATED:20240917T204429Z
LAST-MODIFIED:20240917T204429Z
UID:3271-1730642400-1730649600@yuho-tsukitei.com
SUMMARY:門戸寄席「月亭遊方落語会〜ねこ噺特集〜」
DESCRIPTION:日時：11月3日（日）午後2時開演（1時30分開場、4時終演予定） \n場所：門戸寄席J:SPACE（阪急「門戸厄神」駅より東へ徒歩1分 / 西宮市下大市東町13-1） \n出演：月亭遊方『猫写真家の苦悩』『猫は鎹』\n     開口一番：月亭太遊\n     ☆遊方 × 太遊 対談あり \n料金：予約2500円、当日3000円 \n予約＆問合せ：070-3603-3192（安田）\n           jspace_event@yahoo.co.jp（門戸寄席）
URL:https://yuho-tsukitei.com/event/%e9%96%80%e6%88%b8%e5%af%84%e5%b8%ad%e3%80%8c%e6%9c%88%e4%ba%ad%e9%81%8a%e6%96%b9%e8%90%bd%e8%aa%9e%e4%bc%9a%e3%80%9c%e3%81%ad%e3%81%93%e5%99%ba%e7%89%b9%e9%9b%86%e3%80%9c%e3%80%8d-2
ATTACH;FMTTYPE=image/jpeg:https://yuho-tsukitei.com/wp-content/uploads/2024/09/IMG_1723.jpeg
END:VEVENT
BEGIN:VEVENT
DTSTART;TZID=Asia/Tokyo:20241104T160000
DTEND;TZID=Asia/Tokyo:20241104T180000
DTSTAMP:20260426T012109
CREATED:20241003T095120Z
LAST-MODIFIED:20241003T095120Z
UID:3324-1730736000-1730743200@yuho-tsukitei.com
SUMMARY:天３秋まつり・上方落語家による辻ライブ
DESCRIPTION:日時：11月4日（月祝）午後4時〜6時 \n場所：天神橋筋商店街・夫婦橋 \n出演：月亭遊方（Vo＆G）with Butch（B）\n     林家そめすけ（Vo＆G）with 露の新幸（G）\n     桂雀喜（Vo＆G）withノリーヌ・ディオン（Acco）\n     露の新幸（Vo＆G） \n料金：無料 \n主催：天神橋三丁目商店街振興組合
URL:https://yuho-tsukitei.com/event/%e5%a4%a9%ef%bc%93%e7%a7%8b%e3%81%be%e3%81%a4%e3%82%8a%e3%83%bb%e4%b8%8a%e6%96%b9%e8%90%bd%e8%aa%9e%e5%ae%b6%e3%81%ab%e3%82%88%e3%82%8b%e8%be%bb%e3%83%a9%e3%82%a4%e3%83%96
ATTACH;FMTTYPE=image/jpeg:https://yuho-tsukitei.com/wp-content/uploads/2024/10/IMG_2825.jpeg
END:VEVENT
BEGIN:VEVENT
DTSTART;TZID=Asia/Tokyo:20241109T140000
DTEND;TZID=Asia/Tokyo:20241109T163000
DTSTAMP:20260426T012109
CREATED:20240901T061558Z
LAST-MODIFIED:20240901T061558Z
UID:3260-1731160800-1731169800@yuho-tsukitei.com
SUMMARY:神戸新開地・喜楽館〜桂梅枝・桂慶枝W襲名公演6日目〜
DESCRIPTION:日時：11月9日（土）午後2時開演（1時30分開場、4時30分頃終演予定） \n場所：神戸新開地・喜楽館（各線「新開地」駅東改札③番出口より徒歩2分） \n出演：桂三四郎、桂三歩、月亭遊方、四代目桂梅枝（枝光改メ）〜仲入り〜 記念口上（桂三歩、月亭遊方、まるむし商店、桂梅枝、桂慶枝、司会/桂三四郎）、まるむし商店（漫才）、五代目桂慶枝（三風改メ） ※出演順 \n料金：前売2300円、当日2800円  /  以下前売当日共：65歳以上2300円、障がい者・高校・大学生2000円、小中学生1500円  ※要証明書 \nチケット＆問合せ：078-335-7088（神戸新開地・喜楽館）
URL:https://yuho-tsukitei.com/event/%e7%a5%9e%e6%88%b8%e6%96%b0%e9%96%8b%e5%9c%b0%e3%83%bb%e5%96%9c%e6%a5%bd%e9%a4%a8%e3%80%9c%e6%a1%82%e6%a2%85%e6%9e%9d%e3%83%bb%e6%a1%82%e6%85%b6%e6%9e%9dw%e8%a5%b2%e5%90%8d%e5%85%ac%e6%bc%946%e6%97%a5
ATTACH;FMTTYPE=image/jpeg:https://yuho-tsukitei.com/wp-content/uploads/2024/09/IMG_1688.jpeg
END:VEVENT
BEGIN:VEVENT
DTSTART;TZID=Asia/Tokyo:20241110T150000
DTEND;TZID=Asia/Tokyo:20241110T173000
DTSTAMP:20260426T012109
CREATED:20241003T094028Z
LAST-MODIFIED:20241015T071142Z
UID:3321-1731250800-1731259800@yuho-tsukitei.com
SUMMARY:第67回 こころ坂・楽々落語会
DESCRIPTION:日時：11月10日（日）午後3時開演（2時30分開場） \n場所：集酉楽Syu-Yu-Raku・サカタニ（京阪「七条」駅2番出口より東へ徒歩2分、ファミリーマート上2階 \n出演：桂米二『鯉舟』『植木屋娘』\n     月亭遊方『親分の謝罪』\n     笑福亭呂翔『米揚げ笊』\n     ☆ロック・トークあり \n料金：前売・予約2500円、当日3000円、ユース（U25）500円（要年齢証明、5席限定） \n申し込み・問合せ：075-561-7974（サカタニ 月〜水休）\n        yoneji.k-yoyaku.0906@ezweb.ne.jp（桂米二）
URL:https://yuho-tsukitei.com/event/%e3%81%93%e3%81%93%e3%82%8d%e5%9d%82%e3%83%bb%e6%a5%bd%e3%80%85%e8%90%bd%e8%aa%9e%e4%bc%9a%ef%bc%88%e6%a1%82%e7%b1%b3%e4%ba%8c%e5%85%84%e3%81%95%e3%82%93%e3%81%ae%e4%bc%9a%ef%bc%89
ATTACH;FMTTYPE=image/jpeg:https://yuho-tsukitei.com/wp-content/uploads/2024/10/IMG_3427.jpeg
END:VEVENT
BEGIN:VEVENT
DTSTART;TZID=Asia/Tokyo:20241116T133000
DTEND;TZID=Asia/Tokyo:20241116T163000
DTSTAMP:20260426T012109
CREATED:20240629T150952Z
LAST-MODIFIED:20240629T150952Z
UID:3149-1731763800-1731774600@yuho-tsukitei.com
SUMMARY:新作落語まつり in 岸和田〜SWAメンバー×浪花LED〜
DESCRIPTION:日時：11月16日（土）午後1時30分開演（1時開場） \n場所：南海浪切ホール大ホール（南海本線「岸和田」駅より徒歩10分） \n出演：\nSWAメンバー：春風亭昇太、三遊亭白鳥、柳家喬太郎、林家彦いち\n浪花LED：桂あやめ、桂三風、笑福亭鶴笑、月亭遊方 \n料金：友の会4500円、一般5000円、大学生以下2500円（全席指定） \nチケット：浪切チケットカウンター、Nami-Web、チケットぴあ（Pコード:526-522、ローソンチケット（Lコード:56957、CNプレイガイド、e+（イープラス） \n問合せ：072-439-4915（浪切チケットカウンター）
URL:https://yuho-tsukitei.com/event/%e6%96%b0%e4%bd%9c%e8%90%bd%e8%aa%9e%e3%81%be%e3%81%a4%e3%82%8a-in-%e5%b2%b8%e5%92%8c%e7%94%b0%e3%80%9cswa%e3%83%a1%e3%83%b3%e3%83%90%e3%83%bcx%e6%b5%aa%e8%8a%b1led%e3%80%9c
ATTACH;FMTTYPE=image/jpeg:https://yuho-tsukitei.com/wp-content/uploads/2024/06/IMG_7690.jpeg
END:VEVENT
BEGIN:VEVENT
DTSTART;TZID=Asia/Tokyo:20241117T140000
DTEND;TZID=Asia/Tokyo:20241117T163000
DTSTAMP:20260426T012109
CREATED:20240928T053807Z
LAST-MODIFIED:20240928T053807Z
UID:3309-1731852000-1731861000@yuho-tsukitei.com
SUMMARY:動楽亭昼席
DESCRIPTION:日時：11月17日（日）午後2時開演（1時30分開場、4時30頃終演） \n場所：動楽亭（地下鉄「動物園前」駅①番出口上がってすぐ目の前、コンビニストアの上2階） \n出演：桂八十助、桂米輝、桂ちょうば、月亭遊方 〜仲入り〜 桂雀喜、桂文太 \n料金：2500円（当日受付、全席自由） \n問合せ：06-6365-8281（米朝事務所 平日10時〜18時）
URL:https://yuho-tsukitei.com/event/%e5%8b%95%e6%a5%bd%e4%ba%ad%e6%98%bc%e5%b8%ad-11
ATTACH;FMTTYPE=image/jpeg:https://yuho-tsukitei.com/wp-content/uploads/2024/09/IMG_2484.jpeg
END:VEVENT
BEGIN:VEVENT
DTSTART;TZID=Asia/Tokyo:20241118T140000
DTEND;TZID=Asia/Tokyo:20241118T163000
DTSTAMP:20260426T012109
CREATED:20240928T054005Z
LAST-MODIFIED:20240928T054025Z
UID:3312-1731938400-1731947400@yuho-tsukitei.com
SUMMARY:動楽亭昼席
DESCRIPTION:日時：11月18日（月）午後2時開演（1時30分開場、4時30頃終演） \n場所：動楽亭（地下鉄「動物園前」駅①番出口上がってすぐ目の前、コンビニストアの上2階） \n出演：桂りょうば、桂鯛蔵、桂ちょうば、月亭遊方 〜仲入り〜 桂雀喜、桂文太 \n料金：2500円（当日受付、全席自由） \n問合せ：06-6365-8281（米朝事務所 平日10時〜18時）
URL:https://yuho-tsukitei.com/event/%e5%8b%95%e6%a5%bd%e4%ba%ad%e6%98%bc%e5%b8%ad-12
ATTACH;FMTTYPE=image/jpeg:https://yuho-tsukitei.com/wp-content/uploads/2024/09/IMG_2484.jpeg
END:VEVENT
BEGIN:VEVENT
DTSTART;TZID=Asia/Tokyo:20241119T140000
DTEND;TZID=Asia/Tokyo:20241119T163000
DTSTAMP:20260426T012109
CREATED:20240928T054211Z
LAST-MODIFIED:20240928T054211Z
UID:3314-1732024800-1732033800@yuho-tsukitei.com
SUMMARY:動楽亭昼席
DESCRIPTION:日時：11月19日（火）午後2時開演（1時30分開場、4時30頃終演） \n場所：動楽亭（地下鉄「動物園前」駅①番出口上がってすぐ目の前、コンビニストアの上2階） \n出演：桂弥っこ、月亭太遊、桂鯛蔵、月亭遊方 〜仲入り〜 桂南天、桂米團治 \n料金：2500円（当日受付、全席自由） \n問合せ：06-6365-8281（米朝事務所 平日10時〜18時）
URL:https://yuho-tsukitei.com/event/%e5%8b%95%e6%a5%bd%e4%ba%ad%e6%98%bc%e5%b8%ad-13
ATTACH;FMTTYPE=image/jpeg:https://yuho-tsukitei.com/wp-content/uploads/2024/09/IMG_2484.jpeg
END:VEVENT
BEGIN:VEVENT
DTSTART;TZID=Asia/Tokyo:20241128T140000
DTEND;TZID=Asia/Tokyo:20241128T163000
DTSTAMP:20260426T012109
CREATED:20240918T045344Z
LAST-MODIFIED:20240928T053204Z
UID:3283-1732802400-1732811400@yuho-tsukitei.com
SUMMARY:第5回 大阪落語祭 〜新作派集合〜
DESCRIPTION:日時：11月28日（木）午後2時開演（1時30分開場、4時半頃終演） \n場所：動楽亭（地下鉄「動物園前」駅①番出口上がってすぐ目の前、コンビニストアの上2階） \n出演：笑福亭智丸、桂米輝、笑福亭由瓶、月亭遊方 〜仲入り〜 桂文鹿、桂小春團治 \n料金：前売3000円 当日3500円（全席自由） \nチケット＆問合せ：06-7177-6938（平日10時〜17時）\n               大阪文化芸術祭事業運営事務局\nPコード：529-560
URL:https://yuho-tsukitei.com/event/%e7%ac%ac5%e5%9b%9e-%e5%a4%a7%e9%98%aa%e8%90%bd%e8%aa%9e%e7%a5%ad-%e3%80%9c%e6%96%b0%e4%bd%9c%e6%b4%be%e9%9b%86%e5%90%88%e3%80%9c
ATTACH;FMTTYPE=image/jpeg:https://yuho-tsukitei.com/wp-content/uploads/2024/09/IMG_2617.jpeg
END:VEVENT
BEGIN:VEVENT
DTSTART;TZID=Asia/Tokyo:20241130T140000
DTEND;TZID=Asia/Tokyo:20241130T160000
DTSTAMP:20260426T012109
CREATED:20240825T095052Z
LAST-MODIFIED:20240825T095052Z
UID:3246-1732975200-1732982400@yuho-tsukitei.com
SUMMARY:西二階寄席〜第二章〜
DESCRIPTION:日時：11月30日（土）午後2時開演（1時30分開場、チケッ\n     トは13:15から） \n場所：七福座（JR「姫路」駅からお城へ向かって徒歩8分 /\n     姫路市西二階町37 西二階町商店街内） \n出演：五代目桂慶枝（三風改メ）、桂三語\n     ゲスト：月亭遊方 \n料金：前売2000円 当日2500円 小中高大学生1000円 \n予約＆問合せ：0120-874-315（落語ファクトリー）\n           メール：sango-katsura@gmail.com
URL:https://yuho-tsukitei.com/event/%e8%a5%bf%e4%ba%8c%e9%9a%8e%e5%af%84%e5%b8%ad%e3%80%9c%e7%ac%ac%e4%ba%8c%e7%ab%a0%e3%80%9c
ATTACH;FMTTYPE=image/jpeg:https://yuho-tsukitei.com/wp-content/uploads/2024/08/IMG_9479.jpeg
END:VEVENT
BEGIN:VEVENT
DTSTART;TZID=Asia/Tokyo:20241202T193000
DTEND;TZID=Asia/Tokyo:20241202T210000
DTSTAMP:20260426T012109
CREATED:20241003T095532Z
LAST-MODIFIED:20241003T095532Z
UID:3328-1733167800-1733173200@yuho-tsukitei.com
SUMMARY:第99回 山端寄席
DESCRIPTION:日時：12月2日（月）午後7時30分開演（7時開場、9時終演予定） \n場所：山端自治会館（京阪叡山電鉄「修学院」駅より徒歩2分） \n出演：桂小鯛、三遊亭丈二、月亭遊方\n☆遊方 ×丈二のオープニングトークあり \n料金：500円（当日のみ） \n問合せ：075-781-5301（谷川洋品店）
URL:https://yuho-tsukitei.com/event/%e7%ac%ac99%e5%9b%9e-%e5%b1%b1%e7%ab%af%e5%af%84%e5%b8%ad
ATTACH;FMTTYPE=image/jpeg:https://yuho-tsukitei.com/wp-content/uploads/2024/07/IMG_9344.jpeg
END:VEVENT
BEGIN:VEVENT
DTSTART;TZID=Asia/Tokyo:20241210T183000
DTEND;TZID=Asia/Tokyo:20241210T210000
DTSTAMP:20260426T012109
CREATED:20240825T095553Z
LAST-MODIFIED:20241124T104059Z
UID:3249-1733855400-1733864400@yuho-tsukitei.com
SUMMARY:月亭遊方独演会〜弦歌宴滑稽奇譚〜
DESCRIPTION:《月亭遊方還暦記念公演》 \n日時：12月10日（火）午後6時30分開演（6時開場、9\n     時終演予定） \n場所：天満天神繁昌亭（地下鉄「南森町」駅4-A出口より徒\n     歩3分） \n出演：月亭遊方「重貞夢（ジュテーム）」「寝床」\n     ゲスト：内海英華（女道楽）\n     開口一番：月亭遊真\n     ☆遊方 × 英華 対談あり \n料金：前売3000円 当日：3500円（10月10日チケット発売） \nチケット：天満天神繁昌亭\n        Pコード：597-700\n問い合わせ：075-279-2868（京升堂）
URL:https://yuho-tsukitei.com/event/%e6%9c%88%e4%ba%ad%e9%81%8a%e6%96%b9%e7%8b%ac%e6%bc%94%e4%bc%9a%e3%80%9c%e5%bc%a6%e6%ad%8c%e5%ae%b4%e6%bb%91%e7%a8%bd%e5%a5%87%e8%ad%9a%e3%80%9c
ATTACH;FMTTYPE=image/jpeg:https://yuho-tsukitei.com/wp-content/uploads/2024/08/IMG_2364.jpeg
END:VEVENT
BEGIN:VEVENT
DTSTART;TZID=Asia/Tokyo:20241214T140000
DTEND;TZID=Asia/Tokyo:20241214T160000
DTSTAMP:20260426T012109
CREATED:20240825T100043Z
LAST-MODIFIED:20241203T130724Z
UID:3252-1734184800-1734192000@yuho-tsukitei.com
SUMMARY:月亭遊方の噺のROCK＃3
DESCRIPTION:日時：12月14日（土）午後2時開演（1時30分開場） \n場所：アートスペース兜座5F演芸フロア（地下鉄「日本橋」     駅より徒歩3分、地下鉄「茅場町」駅より徒歩3分）\n     ※会場は全席椅子席です \n出演：月亭遊方（落語3席） \n料金：前売2500円 当日3000円 \n予約＆問合せ：さかいひろこworks\n          yoyaku@sakaihirokoworks.net\n       （公演名、お名前、人数、TELをご記載ください）\n          電話：06-6155-5561（平日10:00〜17:30） \n予約フォーム
URL:https://yuho-tsukitei.com/event/%e6%9c%88%e4%ba%ad%e9%81%8a%e6%96%b9%e3%81%ae%e5%99%ba%e3%81%aerock%ef%bc%833
ATTACH;FMTTYPE=image/jpeg:https://yuho-tsukitei.com/wp-content/uploads/2024/08/IMG_2747.jpeg
END:VEVENT
BEGIN:VEVENT
DTSTART;TZID=Asia/Tokyo:20241216T133000
DTEND;TZID=Asia/Tokyo:20241216T163000
DTSTAMP:20260426T012109
CREATED:20241003T100210Z
LAST-MODIFIED:20241003T100210Z
UID:3330-1734355800-1734366600@yuho-tsukitei.com
SUMMARY:天満天神繁昌亭昼席
DESCRIPTION:日時：12月16日（月）午後1時30分開演（1時開場、4時過ぎ終演予定） \n場所：天満天神繁昌亭（地下鉄「南森町」駅4-A出口より徒歩3分） \n出演：笑福亭呂翔、笑福亭笑利、月亭遊方、田渕岩夫（漫談）、林家竹丸、桂九雀 〜仲入り〜 林家染太、笑福亭達瓶、豊来家幸輝（太神楽）、桂枝三郎 \n料金：前売2500円、当日2800円  /  65歳以上 前売2300円、当日2500円 / 身障者 前売2000円、当日2200円 / 学生（25歳未満）前売1000円 当日1500円   ※各種料金要証明書 \nチケット＆問合せ：06-6352-4874（天満天神繁昌亭）
URL:https://yuho-tsukitei.com/event/%e5%a4%a9%e6%ba%80%e5%a4%a9%e7%a5%9e%e7%b9%81%e6%98%8c%e4%ba%ad%e6%98%bc%e5%b8%ad-25
ATTACH;FMTTYPE=image/jpeg:https://yuho-tsukitei.com/wp-content/uploads/2024/10/IMG_1407.jpeg
END:VEVENT
BEGIN:VEVENT
DTSTART;TZID=Asia/Tokyo:20241217T133000
DTEND;TZID=Asia/Tokyo:20241217T163000
DTSTAMP:20260426T012109
CREATED:20241003T100608Z
LAST-MODIFIED:20241003T101653Z
UID:3333-1734442200-1734453000@yuho-tsukitei.com
SUMMARY:天満天神繁昌亭昼席
DESCRIPTION:日時：12月17日（火）午後1時30分開演（1時開場、4時過ぎ終演予定） \n場所：天満天神繁昌亭（地下鉄「南森町」駅4-A出口より徒歩3分） \n出演：笑福亭呂翔、笑福亭笑利、月亭遊方、田渕岩夫（漫談）、林家竹丸、桂九雀 〜仲入り〜 桂慶治郎、笑福亭達瓶、豊来家幸輝（太神楽）、桂枝三郎 \n料金：前売2500円、当日2800円 / 65歳以上 前売2300円、当日2500円 / 身障者 前売2000円、当日2200円 / 学生（25歳未満）前売1000円 当日1500円 ※各種料金要証明書 \nチケット＆問合せ：06-6352-4874（天満天神繁昌亭）
URL:https://yuho-tsukitei.com/event/%e5%a4%a9%e6%ba%80%e5%a4%a9%e7%a5%9e%e7%b9%81%e6%98%8c%e4%ba%ad%e6%98%bc%e5%b8%ad-26
ATTACH;FMTTYPE=image/jpeg:https://yuho-tsukitei.com/wp-content/uploads/2024/10/IMG_1407.jpeg
END:VEVENT
BEGIN:VEVENT
DTSTART;TZID=Asia/Tokyo:20241218T133000
DTEND;TZID=Asia/Tokyo:20241218T163000
DTSTAMP:20260426T012109
CREATED:20241003T100731Z
LAST-MODIFIED:20241003T100731Z
UID:3335-1734528600-1734539400@yuho-tsukitei.com
SUMMARY:天満天神繁昌亭昼席
DESCRIPTION:日時：12月18日（水）午後1時30分開演（1時開場、4時過ぎ終演予定） \n場所：天満天神繁昌亭（地下鉄「南森町」駅4-A出口より徒歩3分） \n出演：笑福亭呂翔、笑福亭笑利、月亭遊方、田渕岩夫（漫談）、林家竹丸、桂九雀 〜仲入り〜 林家染太、笑福亭達瓶、豊来家幸輝（太神楽）、桂枝三郎 \n料金：前売2500円、当日2800円  /  65歳以上 前売2300円、当日2500円 / 身障者 前売2000円、当日2200円 / 学生（25歳未満）前売1000円 当日1500円   ※各種料金要証明書 \nチケット＆問合せ：06-6352-4874（天満天神繁昌亭）
URL:https://yuho-tsukitei.com/event/%e5%a4%a9%e6%ba%80%e5%a4%a9%e7%a5%9e%e7%b9%81%e6%98%8c%e4%ba%ad%e6%98%bc%e5%b8%ad-27
ATTACH;FMTTYPE=image/jpeg:https://yuho-tsukitei.com/wp-content/uploads/2024/10/IMG_1407.jpeg
END:VEVENT
BEGIN:VEVENT
DTSTART;TZID=Asia/Tokyo:20241219T133000
DTEND;TZID=Asia/Tokyo:20241219T163000
DTSTAMP:20260426T012109
CREATED:20241003T100911Z
LAST-MODIFIED:20241003T100911Z
UID:3337-1734615000-1734625800@yuho-tsukitei.com
SUMMARY:天満天神繁昌亭昼席
DESCRIPTION:日時：12月19日（木）午後1時30分開演（1時開場、4時過ぎ終演予定） \n場所：天満天神繁昌亭（地下鉄「南森町」駅4-A出口より徒歩3分） \n出演：笑福亭呂翔、笑福亭笑利、月亭遊方、田渕岩夫（漫談）、桂枝曾丸、桂九雀 〜仲入り〜 林家染太、笑福亭達瓶、豊来家幸輝（太神楽）、桂枝三郎 \n料金：前売2500円、当日2800円  /  65歳以上 前売2300円、当日2500円 / 身障者 前売2000円、当日2200円 / 学生（25歳未満）前売1000円 当日1500円   ※各種料金要証明書 \nチケット＆問合せ：06-6352-4874（天満天神繁昌亭）
URL:https://yuho-tsukitei.com/event/%e5%a4%a9%e6%ba%80%e5%a4%a9%e7%a5%9e%e7%b9%81%e6%98%8c%e4%ba%ad%e6%98%bc%e5%b8%ad-28
ATTACH;FMTTYPE=image/jpeg:https://yuho-tsukitei.com/wp-content/uploads/2024/10/IMG_1407.jpeg
END:VEVENT
BEGIN:VEVENT
DTSTART;TZID=Asia/Tokyo:20241220T133000
DTEND;TZID=Asia/Tokyo:20241220T163000
DTSTAMP:20260426T012109
CREATED:20241003T101021Z
LAST-MODIFIED:20241003T101021Z
UID:3339-1734701400-1734712200@yuho-tsukitei.com
SUMMARY:天満天神繁昌亭昼席
DESCRIPTION:日時：12月20日（金）午後1時30分開演（1時開場、4時過ぎ終演予定） \n場所：天満天神繁昌亭（地下鉄「南森町」駅4-A出口より徒歩3分） \n出演：笑福亭呂翔、笑福亭笑利、月亭遊方、田渕岩夫（漫談）、林家竹丸、桂九雀 〜仲入り〜 林家染太、笑福亭達瓶、豊来家幸輝（太神楽）、桂枝三郎 \n料金：前売2500円、当日2800円  /  65歳以上 前売2300円、当日2500円 / 身障者 前売2000円、当日2200円 / 学生（25歳未満）前売1000円 当日1500円   ※各種料金要証明書 \nチケット＆問合せ：06-6352-4874（天満天神繁昌亭）
URL:https://yuho-tsukitei.com/event/%e5%a4%a9%e6%ba%80%e5%a4%a9%e7%a5%9e%e7%b9%81%e6%98%8c%e4%ba%ad%e6%98%bc%e5%b8%ad-29
ATTACH;FMTTYPE=image/jpeg:https://yuho-tsukitei.com/wp-content/uploads/2024/10/IMG_1407.jpeg
END:VEVENT
BEGIN:VEVENT
DTSTART;TZID=Asia/Tokyo:20241221T133000
DTEND;TZID=Asia/Tokyo:20241221T163000
DTSTAMP:20260426T012109
CREATED:20241003T101808Z
LAST-MODIFIED:20241003T101808Z
UID:3342-1734787800-1734798600@yuho-tsukitei.com
SUMMARY:天満天神繁昌亭昼席
DESCRIPTION:日時：12月21日（土）午後1時30分開演（1時開場、4時過ぎ終演予定） \n場所：天満天神繁昌亭（地下鉄「南森町」駅4-A出口より徒歩3分） \n出演：笑福亭呂翔、林家染吉、月亭遊方、田渕岩夫（漫談）、林家竹丸、桂九雀 〜仲入り〜 林家染太、笑福亭達瓶、豊来家幸輝（太神楽）、桂枝三郎 \n料金：前売2500円、当日2800円  /  65歳以上 前売2300円、当日2500円 / 身障者 前売2000円、当日2200円 / 学生（25歳未満）前売1000円 当日1500円   ※各種料金要証明書 \nチケット＆問合せ：06-6352-4874（天満天神繁昌亭）
URL:https://yuho-tsukitei.com/event/%e5%a4%a9%e6%ba%80%e5%a4%a9%e7%a5%9e%e7%b9%81%e6%98%8c%e4%ba%ad%e6%98%bc%e5%b8%ad-30
ATTACH;FMTTYPE=image/jpeg:https://yuho-tsukitei.com/wp-content/uploads/2024/10/IMG_1407.jpeg
END:VEVENT
BEGIN:VEVENT
DTSTART;TZID=Asia/Tokyo:20241222T133000
DTEND;TZID=Asia/Tokyo:20241222T163000
DTSTAMP:20260426T012109
CREATED:20241003T101928Z
LAST-MODIFIED:20241003T101928Z
UID:3344-1734874200-1734885000@yuho-tsukitei.com
SUMMARY:天満天神繁昌亭昼席
DESCRIPTION:日時：12月22日（日）午後1時30分開演（1時開場、4時過ぎ終演予定） \n場所：天満天神繁昌亭（地下鉄「南森町」駅4-A出口より徒歩3分） \n出演：笑福亭呂翔、桂弥太郎、月亭遊方、田渕岩夫（漫談）、林家竹丸、桂九雀 〜仲入り〜 林家染太、笑福亭達瓶、豊来家幸輝（太神楽）、桂枝三郎 \n料金：前売2500円、当日2800円  /  65歳以上 前売2300円、当日2500円 / 身障者 前売2000円、当日2200円 / 学生（25歳未満）前売1000円 当日1500円   ※各種料金要証明書 \nチケット＆問合せ：06-6352-4874（天満天神繁昌亭）
URL:https://yuho-tsukitei.com/event/%e5%a4%a9%e6%ba%80%e5%a4%a9%e7%a5%9e%e7%b9%81%e6%98%8c%e4%ba%ad%e6%98%bc%e5%b8%ad-31
ATTACH;FMTTYPE=image/jpeg:https://yuho-tsukitei.com/wp-content/uploads/2024/10/IMG_1407.jpeg
END:VEVENT
BEGIN:VEVENT
DTSTART;TZID=Asia/Tokyo:20241226T190000
DTEND;TZID=Asia/Tokyo:20241226T210000
DTSTAMP:20260426T012109
CREATED:20240918T025415Z
LAST-MODIFIED:20240922T122001Z
UID:3275-1735239600-1735246800@yuho-tsukitei.com
SUMMARY:第10 回遊方 × 文鹿 新作トライアル
DESCRIPTION:日時：12月26日（木）19:00開演（18:30開場、21時終演予定） \n場所：ツギハギ荘（（地下鉄「南森町」駅より南へ徒歩10分 / 大阪市北区天神橋1-8-15） \n出演：月亭遊方『夢芝居』『いらちの悩み相談室』\n     桂文鹿『にしんそば』『2時間飲み放題』\n     ☆4席の創作秘話あり \n料金：2500円（ご予約整理番号入場制） \n予約：味わい企画 090-3977-1102\n               ajiwaikikaku@outlook.jp
URL:https://yuho-tsukitei.com/event/%e7%ac%ac10-%e5%9b%9e%e9%81%8a%e6%96%b9-x-%e6%96%87%e9%b9%bf-%e6%96%b0%e4%bd%9c%e3%83%88%e3%83%a9%e3%82%a4%e3%82%a2%e3%83%ab
ATTACH;FMTTYPE=image/jpeg:https://yuho-tsukitei.com/wp-content/uploads/2024/09/IMG_2289.jpeg
END:VEVENT
BEGIN:VEVENT
DTSTART;TZID=Asia/Tokyo:20241230T183000
DTEND;TZID=Asia/Tokyo:20241230T210000
DTSTAMP:20260426T012109
CREATED:20241105T051602Z
LAST-MODIFIED:20241106T142404Z
UID:3383-1735583400-1735592400@yuho-tsukitei.com
SUMMARY:ROS 〜ROCK'N OWARAI SHOW〜
DESCRIPTION:落語とバンドとお笑いショー \n日時：12月30日（月）午後6時30分開演（5時30分開場） \n場所：ベガーズバンケット（地下鉄四ツ橋線「本町」駅より徒歩5分 / 大阪市中央区久宝寺町4-7-2 野崎ビル2F） \n出演：月亭遊方、ナオユキ、露の新幸、桂りょうば、小笠原義弘 \n料金：前売3500円（ドリンク別途） \n問合せ：kyoushoudou@hotmail.com（ROS事務局）
URL:https://yuho-tsukitei.com/event/ros-%e3%80%9crockn-owarai-show%e3%80%9c
ATTACH;FMTTYPE=image/jpeg:https://yuho-tsukitei.com/wp-content/uploads/2024/11/IMG_4160.jpeg
END:VEVENT
BEGIN:VEVENT
DTSTART;TZID=Asia/Tokyo:20250101T180000
DTEND;TZID=Asia/Tokyo:20250101T203000
DTSTAMP:20260426T012109
CREATED:20241105T044410Z
LAST-MODIFIED:20241105T044410Z
UID:3377-1735754400-1735763400@yuho-tsukitei.com
SUMMARY:天満天神繁昌亭新春特別公演 第3回
DESCRIPTION:日時：1月1日（水）午後6時開演（5時30分開場） \n場所：天満天神繁昌亭（地下鉄「南森町」駅4-A出口より徒歩3分） \n出演：桂団治郎、桂福丸、月亭遊方、桂塩鯛 〜仲入り〜 新春大喜利（司会/桂小枝、笑福亭仁福、桂坊枝、桂文昇、月亭天使、桂鞠輔、露の棗）、笑福亭鶴二、桂小枝\n※出演順 \n料金：前3500円 当日4000円 身障者・高校・大学生3300円（全席指定） \nお問い合わせ：06-6352-4874（天満天神繁昌亭）
URL:https://yuho-tsukitei.com/event/%e5%a4%a9%e6%ba%80%e5%a4%a9%e7%a5%9e%e7%b9%81%e6%98%8c%e4%ba%ad%e6%96%b0%e6%98%a5%e7%89%b9%e5%88%a5%e5%85%ac%e6%bc%94-%e7%ac%ac3%e5%9b%9e
ATTACH;FMTTYPE=image/jpeg:https://yuho-tsukitei.com/wp-content/uploads/2024/10/IMG_1407.jpeg
END:VEVENT
BEGIN:VEVENT
DTSTART;TZID=Asia/Tokyo:20250104T133000
DTEND;TZID=Asia/Tokyo:20250104T163000
DTSTAMP:20260426T012109
CREATED:20241105T050640Z
LAST-MODIFIED:20241105T050640Z
UID:3379-1735997400-1736008200@yuho-tsukitei.com
SUMMARY:天満天神繁昌亭昼席
DESCRIPTION:日時：1月4日（土）午後13時30分開演（1時開場、4時過ぎ終演予定） \n場所：天満天神繁昌亭（地下鉄「南森町」駅4-A出口より徒歩3分） \n出演：桂枝之進、桂弥っこ、桂三扇、豊来家社中（獅子舞曲芸）、月亭遊方、笑福亭仁扇 〜仲入り〜 桂文五郎、笑福亭松喬、笑福亭学光、桂福團治 \n料金：前売2500円、当日2800円  /  65歳以上 前売2300円、当日2500円 / 身障者 前売2000円、当日2200円 / 学生（25歳未満）前売1000円 当日1500円   ※各種料金要証明書 \nチケット＆問合せ：06-6352-4874（天満天神繁昌亭）
URL:https://yuho-tsukitei.com/event/%e5%a4%a9%e6%ba%80%e5%a4%a9%e7%a5%9e%e7%b9%81%e6%98%8c%e4%ba%ad%e6%98%bc%e5%b8%ad-32
ATTACH;FMTTYPE=image/jpeg:https://yuho-tsukitei.com/wp-content/uploads/2024/10/IMG_1407.jpeg
END:VEVENT
BEGIN:VEVENT
DTSTART;TZID=Asia/Tokyo:20250105T133000
DTEND;TZID=Asia/Tokyo:20250105T163000
DTSTAMP:20260426T012109
CREATED:20241105T050754Z
LAST-MODIFIED:20241105T050754Z
UID:3381-1736083800-1736094600@yuho-tsukitei.com
SUMMARY:天満天神繁昌亭昼席
DESCRIPTION:日時：1月4日（土）午後13時30分開演（1時開場、4時過ぎ終演予定） \n場所：天満天神繁昌亭（地下鉄「南森町」駅4-A出口より徒歩3分） \n出演：桂枝之進、桂白鹿、桂三扇、豊来家社中（獅子舞曲芸）、月亭遊方、笑福亭仁扇 〜仲入り〜 桂弥っこ、笑福亭松喬、笑福亭学光、桂福團治 \n料金：前売2500円、当日2800円  /  65歳以上 前売2300円、当日2500円 / 身障者 前売2000円、当日2200円 / 学生（25歳未満）前売1000円 当日1500円   ※各種料金要証明書 \nチケット＆問合せ：06-6352-4874（天満天神繁昌亭）
URL:https://yuho-tsukitei.com/event/%e5%a4%a9%e6%ba%80%e5%a4%a9%e7%a5%9e%e7%b9%81%e6%98%8c%e4%ba%ad%e6%98%bc%e5%b8%ad-33
ATTACH;FMTTYPE=image/jpeg:https://yuho-tsukitei.com/wp-content/uploads/2024/10/IMG_1407.jpeg
END:VEVENT
BEGIN:VEVENT
DTSTART;TZID=Asia/Tokyo:20250108T190000
DTEND;TZID=Asia/Tokyo:20250108T210000
DTSTAMP:20260426T012109
CREATED:20241122T230218Z
LAST-MODIFIED:20241122T230218Z
UID:3404-1736362800-1736370000@yuho-tsukitei.com
SUMMARY:第27回 ロン毛・トーク・ファニー〜古民家で新作落語を楽しむ会〜
DESCRIPTION:日時：1月8日（水）午後7時開演（6時30分開場、9時終演予定） \n場所：ツギハギ荘（地下鉄「南森町」駅より南へ徒歩10分 / 大阪市北区天神橋1-8-15） \n出演：月亭遊方『シバイたった』\n     桂 雀喜『ファンミ！』\n     ☆正装でこたつトークあり \n料金：予約1800円、当日2000円 \n予約フォーム：https://r.goope.jp/marumarupanda/reservation/event/detail/27793 \n問合せ：jacky7super@nifty.com（ロン毛カンパニー）
URL:https://yuho-tsukitei.com/event/%e7%ac%ac27%e5%9b%9e-%e3%83%ad%e3%83%b3%e6%af%9b%e3%83%bb%e3%83%88%e3%83%bc%e3%82%af%e3%83%bb%e3%83%95%e3%82%a1%e3%83%8b%e3%83%bc%e3%80%9c%e5%8f%a4%e6%b0%91%e5%ae%b6%e3%81%a7%e6%96%b0%e4%bd%9c-2
ATTACH;FMTTYPE=image/jpeg:https://yuho-tsukitei.com/wp-content/uploads/2024/11/IMG_4515.jpeg
END:VEVENT
BEGIN:VEVENT
DTSTART;TZID=Asia/Tokyo:20250116T190000
DTEND;TZID=Asia/Tokyo:20250116T210000
DTSTAMP:20260426T012109
CREATED:20241024T225949Z
LAST-MODIFIED:20241024T225949Z
UID:3361-1737054000-1737061200@yuho-tsukitei.com
SUMMARY:百年長屋・遊方基地 #5
DESCRIPTION:日時：2025年1月16日午後7時開演（6時30分開場、9時過ぎ終演） \n場所：百年長屋（JR「玉造」駅、JR「森ノ宮」駅より徒歩6分） \n出演：月亭遊方『つぼ算』他１席\n     ゲスト：林家染左『演目はお楽しみ』\n     ☆遊方 × 染左 対談あり \n料金：予約2000円 当日2500円（全席自由） \n予約＆問合せ：京升堂 電話:075-279-2868\n            メール:kyoushoudou@hotmail.com \n予約フォーム：https://business.form-mailer.jp/fms/ddd1ae29261902
URL:https://yuho-tsukitei.com/event/%e7%99%be%e5%b9%b4%e9%95%b7%e5%b1%8b%e3%83%bb%e9%81%8a%e6%96%b9%e5%9f%ba%e5%9c%b0-5
ATTACH;FMTTYPE=image/jpeg:https://yuho-tsukitei.com/wp-content/uploads/2024/10/IMG_3564.jpeg
END:VEVENT
BEGIN:VEVENT
DTSTART;TZID=Asia/Tokyo:20250118T140000
DTEND;TZID=Asia/Tokyo:20250118T160000
DTSTAMP:20260426T012109
CREATED:20241122T231007Z
LAST-MODIFIED:20241122T231007Z
UID:3407-1737208800-1737216000@yuho-tsukitei.com
SUMMARY:らくごキッチン in さんだ
DESCRIPTION:日時：1月18日（土）午後2時開演（1時30分開場） \n場所：さんだキッチンスタジオ（JR「三田」駅より徒歩8分 / 三田市中央町14-15） \n出演：月亭遊方（2席） \n料金：2000円 \n予約＆問合せ：070-8440-9339（事務局）\n           SandaRakugo@icloud.com\n           https://rakugokitchen1.peatix.com\n           www.facebook.com/SandaRakugo/
URL:https://yuho-tsukitei.com/event/%e3%82%89%e3%81%8f%e3%81%94%e3%82%ad%e3%83%83%e3%83%81%e3%83%b3-in-%e3%81%95%e3%82%93%e3%81%a0
ATTACH;FMTTYPE=image/jpeg:https://yuho-tsukitei.com/wp-content/uploads/2024/11/IMG_4553.jpeg
END:VEVENT
BEGIN:VEVENT
DTSTART;TZID=Asia/Tokyo:20250122T130000
DTEND;TZID=Asia/Tokyo:20250122T160000
DTSTAMP:20260426T012109
CREATED:20241122T223433Z
LAST-MODIFIED:20241122T223433Z
UID:3395-1737550800-1737561600@yuho-tsukitei.com
SUMMARY:第135回 上方演芸特選会
DESCRIPTION:日時：1月22日（水）午後1時開演（12時30分開場、3時50分終演予定） \n場所：国立文楽劇場小ホール（地下鉄・近鉄「日本橋」駅⑦出口より徒歩1分） \n出演：\n［落   語］ 笑福亭　智丸\n［浪   曲］ 天中軒　すみれ\n［漫   談］ ナオユキ\n［落   語］ 月亭　遊方\n    ― 仲 入 ―\n［漫   才］ パピヨンズ\n［太 神 楽］ 豊来家　板里\n［浪   曲］ 京山　幸枝若 \n料金：2\,300円、学生 1\,600円、シルバー（満65歳以上）      1\,700円（全席指定）\n     ※障害者の方と介護者1名は2割引（1\,840円）です     （他の割引と併用不可）。\n     ※インターネットでも学生料金・シルバー料金・障害      者割引による申し込みが可能です。 \nチケット＆問合せ：0570-07-9900 / 03-3230-3000\n              （国立劇場チケットセンター） \n電話・インターネット予約開始：2024年12月18日(水) 10:00～\n窓口販売開始：2024年12月19日(木)\n※窓口販売用に別枠でのお取り置きはございません。
URL:https://yuho-tsukitei.com/event/%e7%ac%ac135%e5%9b%9e-%e4%b8%8a%e6%96%b9%e6%bc%94%e8%8a%b8%e7%89%b9%e9%81%b8%e4%bc%9a
ATTACH;FMTTYPE=image/jpeg:https://yuho-tsukitei.com/wp-content/uploads/2024/11/IMG_4712.jpeg
END:VEVENT
END:VCALENDAR