BEGIN:VCALENDAR
VERSION:2.0
PRODID:-//遊方 FOR YOU! - ECPv6.15.20//NONSGML v1.0//EN
CALSCALE:GREGORIAN
METHOD:PUBLISH
X-WR-CALNAME:遊方 FOR YOU!
X-ORIGINAL-URL:https://yuho-tsukitei.com
X-WR-CALDESC:遊方 FOR YOU! のイベント
REFRESH-INTERVAL;VALUE=DURATION:PT1H
X-Robots-Tag:noindex
X-PUBLISHED-TTL:PT1H
BEGIN:VTIMEZONE
TZID:Asia/Tokyo
BEGIN:STANDARD
TZOFFSETFROM:+0900
TZOFFSETTO:+0900
TZNAME:JST
DTSTART:20220101T000000
END:STANDARD
END:VTIMEZONE
BEGIN:VEVENT
DTSTART;TZID=Asia/Tokyo:20230806T110000
DTEND;TZID=Asia/Tokyo:20230806T130000
DTSTAMP:20260426T130404
CREATED:20230717T221431Z
LAST-MODIFIED:20230717T222006Z
UID:2605-1691319600-1691326800@yuho-tsukitei.com
SUMMARY:Y.&N.Ikeda Memorial Event〜父や母を想う〜
DESCRIPTION:日時：8月6日（日）午前11時開演（10時30分開場） \n場所：表現者工房セミナールーム（地下鉄「肥後橋」駅⑨出口から徒歩5分） \n出演：朗読「Nobuhide Ikeda Memorial」木下菜穂子\n     パフォーマンス・フォー・ペアレンツ 巣山賢太郎＆\n                  タニア・コーク\n     落語「親の慈しみを想うテーマの1席」月亭遊方 \n料金：一般3500円、お食事付5000円（お弁当）\n     当日4000円  *お弁当は3日前までの予約でお願いします。 \n問合せ＆予約：表現者工房\n           メール：iksalonhyogensha@gmail.com\n           電話：06-6147-2897
URL:https://yuho-tsukitei.com/event/y-n-ikeda-memorial-event%e3%80%8c%e7%88%b6%e3%82%84%e6%af%8d%e3%82%92%e6%83%b3%e3%81%86%e3%80%8d
ATTACH;FMTTYPE=image/jpeg:https://yuho-tsukitei.com/wp-content/uploads/2023/07/IMG_5547-1.jpeg
END:VEVENT
BEGIN:VEVENT
DTSTART;TZID=Asia/Tokyo:20230806T160000
DTEND;TZID=Asia/Tokyo:20230806T180000
DTSTAMP:20260426T130404
CREATED:20230717T221838Z
LAST-MODIFIED:20230717T221838Z
UID:2609-1691337600-1691344800@yuho-tsukitei.com
SUMMARY:Y&N.Ikeda Memorial Event〜父や母を想う〜
DESCRIPTION:日時：8月6日（日）午後16時開演（15時30分開場） \n場所：表現者工房セミナールーム（地下鉄「肥後橋」駅⑨出口から徒歩5分） \n出演：朗読「Nobuhide Ikeda Memorial」木下菜穂子\n     パフォーマンス・フォー・ペアレンツ 巣山賢太郎＆\n                  タニア・コーク\n     落語「親の慈しみを想うテーマの1席」月亭遊方 \n料金：一般3500円、お食事付5000円（お弁当）\n     当日4000円  *お弁当は3日前までの予約でお願いします。 \n問合せ＆予約：表現者工房\n           メール：iksalonhyogensha@gmail.com\n           電話：06-6147-2897
URL:https://yuho-tsukitei.com/event/yn-ikeda-memorial-event%e3%80%9c%e7%88%b6%e3%82%84%e6%af%8d%e3%82%92%e6%83%b3%e3%81%86%e3%80%9c
ATTACH;FMTTYPE=image/jpeg:https://yuho-tsukitei.com/wp-content/uploads/2023/07/IMG_5547-1.jpeg
END:VEVENT
BEGIN:VEVENT
DTSTART;TZID=Asia/Tokyo:20230807T150000
DTEND;TZID=Asia/Tokyo:20230807T170000
DTSTAMP:20260426T130404
CREATED:20230717T222314Z
LAST-MODIFIED:20230717T222314Z
UID:2612-1691420400-1691427600@yuho-tsukitei.com
SUMMARY:Y&N.Ikeda Memorial Event〜父や母を想う〜
DESCRIPTION:日時：8月7日（月）午後3時開演（2時30分開場） \n場所：表現者工房セミナールーム（地下鉄「肥後橋」駅⑨出口から徒歩5分） \n出演：朗読「Nobuhide Ikeda Memorial」木下菜穂子\n     パフォーマンス・フォー・ペアレンツ 巣山賢太郎＆\n                  タニア・コーク\n     落語「親の慈しみを想うテーマの1席」月亭遊方 \n料金：一般3500円、お食事付6000円（夕食会）\n     当日4000円  *お弁当は3日前までの予約でお願いします。 \n問合せ＆予約：表現者工房\n           メール：iksalonhyogensha@gmail.com\n           電話：06-6147-2897
URL:https://yuho-tsukitei.com/event/yn-ikeda-memorial-event%e3%80%9c%e7%88%b6%e3%82%84%e6%af%8d%e3%82%92%e6%83%b3%e3%81%86%e3%80%9c-2
ATTACH;FMTTYPE=image/jpeg:https://yuho-tsukitei.com/wp-content/uploads/2023/07/IMG_5547-1.jpeg
END:VEVENT
BEGIN:VEVENT
DTSTART;TZID=Asia/Tokyo:20230809T190000
DTEND;TZID=Asia/Tokyo:20230809T210000
DTSTAMP:20260426T130404
CREATED:20230718T033111Z
LAST-MODIFIED:20230718T033111Z
UID:2616-1691607600-1691614800@yuho-tsukitei.com
SUMMARY:９に飛び入り寄席
DESCRIPTION:日時：8月9日（水）午後7時開演（6時30分開場）\n                終演9時 \n場所：ツギハギ荘（（地下鉄「南森町」駅より南へ徒歩10分 / 大阪市北区天神橋1-8-15） \n出演：露の新治、月亭遊方、春風亭吉好、露の新幸 \n料金：1900円 \n予約：irebaokuba@yahoo.co.jp\n     または「９に飛び入り寄席」のツイッターフォロー後  DMで
URL:https://yuho-tsukitei.com/event/%ef%bc%99%e3%81%ab%e9%a3%9b%e3%81%b3%e5%85%a5%e3%82%8a%e5%af%84%e5%b8%ad
ATTACH;FMTTYPE=image/jpeg:https://yuho-tsukitei.com/wp-content/uploads/2023/07/IMG_5552-scaled.jpeg
END:VEVENT
BEGIN:VEVENT
DTSTART;TZID=Asia/Tokyo:20230814T183000
DTEND;TZID=Asia/Tokyo:20230814T210000
DTSTAMP:20260426T130404
CREATED:20230531T132935Z
LAST-MODIFIED:20230531T132935Z
UID:2568-1692037800-1692046800@yuho-tsukitei.com
SUMMARY:橘家文蔵 × 月亭遊方 二人会
DESCRIPTION:日時：8月14日（月）午後6時30分開演（6時開場） \n場所：動楽亭（地下鉄「動物園前」駅①番出口上がってすぐ目の前、コンビニストアの上2階） \n出演：橘家文蔵『芝浜』/月亭遊方『らくだ』\n☆トークあり \n料金：前売・予約3000円、当日3500円 \nチケット＆問合せ：050-3503-3639 / tsunagariyose@gmail.com（つながり寄席事務局）
URL:https://yuho-tsukitei.com/event/%e6%a9%98%e5%ae%b6%e6%96%87%e8%94%b5-x-%e6%9c%88%e4%ba%ad%e9%81%8a%e6%96%b9-%e4%ba%8c%e4%ba%ba%e4%bc%9a
ATTACH;FMTTYPE=image/jpeg:https://yuho-tsukitei.com/wp-content/uploads/2023/05/IMG_3860.jpeg
END:VEVENT
BEGIN:VEVENT
DTSTART;TZID=Asia/Tokyo:20230819T140000
DTEND;TZID=Asia/Tokyo:20230819T163000
DTSTAMP:20260426T130404
CREATED:20230808T121824Z
LAST-MODIFIED:20230808T122723Z
UID:2658-1692453600-1692462600@yuho-tsukitei.com
SUMMARY:八頭町落語
DESCRIPTION:日時：8月19日（土）午後3時開演（2時30分開場） \n場所：船岡地区公民館大集会室 \n出演：桂三風（八頭町観光大使）、桂あやめ、笑福亭鶴笑、月亭遊方、旭堂南湖  三味線：入谷和女 \n料金：無料 \n問合せ：0858-72-0144（八頭町役場商工観光室）
URL:https://yuho-tsukitei.com/event/%e5%85%ab%e9%a0%ad%e7%94%ba%e8%90%bd%e8%aa%9e
ATTACH;FMTTYPE=image/jpeg:https://yuho-tsukitei.com/wp-content/uploads/2023/08/IMG_6443.jpeg
END:VEVENT
BEGIN:VEVENT
DTSTART;TZID=Asia/Tokyo:20230820T133000
DTEND;TZID=Asia/Tokyo:20230820T160000
DTSTAMP:20260426T130404
CREATED:20230808T122132Z
LAST-MODIFIED:20230808T122132Z
UID:2661-1692538200-1692547200@yuho-tsukitei.com
SUMMARY:上方落語がやってくる！清流茶屋寄席（鳥取県）
DESCRIPTION:日時：8月20日（日）午後1時30分開演（1時開場） \n場所：道の駅 清流茶屋かわはら情報コーナー \n出演：桂三風（八頭町観光大使）、桂あやめ、笑福亭鶴笑、月亭遊方、旭堂南湖  三味線：入谷和女 \n料金：無料 \n問合せ：0858-85-5331（清流茶屋かわはら）
URL:https://yuho-tsukitei.com/event/%e4%b8%8a%e6%96%b9%e8%90%bd%e8%aa%9e%e3%81%8c%e3%82%84%e3%81%a3%e3%81%a6%e3%81%8f%e3%82%8b%ef%bc%81%e6%b8%85%e6%b5%81%e8%8c%b6%e5%b1%8b%e5%af%84%e5%b8%ad%ef%bc%88%e9%b3%a5%e5%8f%96%e7%9c%8c%ef%bc%89
ATTACH;FMTTYPE=image/jpeg:https://yuho-tsukitei.com/wp-content/uploads/2023/08/IMG_6425.jpeg
END:VEVENT
BEGIN:VEVENT
DTSTART;TZID=Asia/Tokyo:20230829T183000
DTEND;TZID=Asia/Tokyo:20230829T203000
DTSTAMP:20260426T130404
CREATED:20230718T034435Z
LAST-MODIFIED:20230718T034435Z
UID:2621-1693333800-1693341000@yuho-tsukitei.com
SUMMARY:落語たっぷり演芸会
DESCRIPTION:日時：8月29日（火）午後6時30分開演（6時開場） \n場所：なんばグランド花月 \n出演：月亭遊方、桂文三、桂小留、桂健枝郎、テンダラー、和牛、ゆにばーす、男性ブランコ 司会/もりやすバンバンビガロ \n料金：大人2500円、小学生以下1000円 \nチケット：0570-550-110（FANYチケット）
URL:https://yuho-tsukitei.com/event/%e8%90%bd%e8%aa%9e%e3%81%9f%e3%81%a3%e3%81%b7%e3%82%8a%e6%bc%94%e8%8a%b8%e4%bc%9a
ATTACH;FMTTYPE=image/jpeg:https://yuho-tsukitei.com/wp-content/uploads/2023/07/IMG_5548.jpeg
END:VEVENT
BEGIN:VEVENT
DTSTART;TZID=Asia/Tokyo:20230831T190000
DTEND;TZID=Asia/Tokyo:20230831T210000
DTSTAMP:20260426T130404
CREATED:20230729T051511Z
LAST-MODIFIED:20230729T131409Z
UID:2636-1693508400-1693515600@yuho-tsukitei.com
SUMMARY:清水宏×月亭遊方×旭堂南璃 スタンダップ・コメディ３P寄席
DESCRIPTION:日時：8月31日（木）午後7時開演（6時30分開場）\n                          ※9時過ぎ終演予定 \n場所：動楽亭（地下鉄「動物園前」駅①番出口上がってすぐ目の前、コンビニストアの上2階） \n出演：清水宏（スタンダップ・コメディ＋物語）\n     月亭遊方（落語1席＋スタンダップ・コメディ）\n     旭堂南璃（講談1席＋スタンダップ・コメディ） \n料金：予約2500円 当日3000円 \n予約＆問合せ：godo.shimizuhiroshi@gmail.com（合同会社）
URL:https://yuho-tsukitei.com/event/%e3%82%b9%e3%82%bf%e3%83%b3%e3%83%80%e3%83%83%e3%83%97%e3%83%bb%e3%82%b3%e3%83%a1%e3%83%87%e3%82%a3%ef%bc%93p%e5%af%84%e5%b8%ad
ATTACH;FMTTYPE=image/jpeg:https://yuho-tsukitei.com/wp-content/uploads/2023/07/IMG_6119.jpeg
END:VEVENT
END:VCALENDAR