BEGIN:VCALENDAR
VERSION:2.0
PRODID:-//遊方 FOR YOU! - ECPv6.15.20//NONSGML v1.0//EN
CALSCALE:GREGORIAN
METHOD:PUBLISH
X-WR-CALNAME:遊方 FOR YOU!
X-ORIGINAL-URL:https://yuho-tsukitei.com
X-WR-CALDESC:遊方 FOR YOU! のイベント
REFRESH-INTERVAL;VALUE=DURATION:PT1H
X-Robots-Tag:noindex
X-PUBLISHED-TTL:PT1H
BEGIN:VTIMEZONE
TZID:Asia/Tokyo
BEGIN:STANDARD
TZOFFSETFROM:+0900
TZOFFSETTO:+0900
TZNAME:JST
DTSTART:20220101T000000
END:STANDARD
END:VTIMEZONE
BEGIN:VEVENT
DTSTART;TZID=Asia/Tokyo:20231006T140000
DTEND;TZID=Asia/Tokyo:20231006T153000
DTSTAMP:20260426T095737
CREATED:20230912T055615Z
LAST-MODIFIED:20230912T055615Z
UID:2688-1696600800-1696606200@yuho-tsukitei.com
SUMMARY:此花千鳥亭 金曜JAM.１
DESCRIPTION:日時：10月6日（金）午後2時開演（1時30分開場、3時半終演） \n場所：此花千鳥亭（阪神「千鳥橋」駅より徒歩5分） \n出演：月亭遊方、旭堂小南陵、旭堂南璃 ☆トークあり \n料金：予約当日とも1000円 \n予約：此花千鳥亭ホームページ予約フォームからご入力ください。\nhttps://www.konohana-chidoritei.com/jam/
URL:https://yuho-tsukitei.com/event/%e6%ad%a4%e8%8a%b1%e5%8d%83%e9%b3%a5%e4%ba%ad-%e9%87%91%e6%9b%9cjam-%ef%bc%91
ATTACH;FMTTYPE=image/jpeg:https://yuho-tsukitei.com/wp-content/uploads/2023/09/IMG_7735.jpeg
END:VEVENT
BEGIN:VEVENT
DTSTART;TZID=Asia/Tokyo:20231016T183000
DTEND;TZID=Asia/Tokyo:20231016T210000
DTSTAMP:20260426T095737
CREATED:20230924T085313Z
LAST-MODIFIED:20230924T085313Z
UID:2702-1697481000-1697490000@yuho-tsukitei.com
SUMMARY:演芸落語×月亭遊方落語
DESCRIPTION:日時：10月16日（月）午後6時30分開演（6時開場） \n場所：ローズWAMワムホール（大阪府茨木市元町4-7） \n出演：演劇落語『抜け雀』：坂口修一、矢内文章\n     落語『演目はお楽しみ』：月亭遊方\n    ☆アフタートーク：坂口修一、矢内文章、月亭遊方、広瀬依子、司会:横田修 \n古典落語『抜け雀』を二人芝居で魅せる「演劇落語」と月亭遊方の落語を併せてお楽しみいただきます。 \n入場無料（要申込）\n※お申し込みはこちらのフォームから\nhttps://ws.formzu.net/sfgen/S726653391/ \nお問合せ：072-665-5024（追手門学院大学上方文化笑学センター）
URL:https://yuho-tsukitei.com/event/%e6%bc%94%e8%8a%b8%e8%90%bd%e8%aa%9ex%e6%9c%88%e4%ba%ad%e9%81%8a%e6%96%b9%e8%90%bd%e8%aa%9e
ATTACH;FMTTYPE=image/jpeg:https://yuho-tsukitei.com/wp-content/uploads/2023/09/IMG_7921.jpeg
END:VEVENT
BEGIN:VEVENT
DTSTART;TZID=Asia/Tokyo:20231021T140000
DTEND;TZID=Asia/Tokyo:20231021T160000
DTSTAMP:20260426T095737
CREATED:20230912T060230Z
LAST-MODIFIED:20230912T060230Z
UID:2690-1697896800-1697904000@yuho-tsukitei.com
SUMMARY:門戸寄席3周年記念特別公演〜月亭遊方ひとり新作まつり〜
DESCRIPTION:日時：10月21日（土）午後2時開演（1時30分開場、4時終演予定） \n場所：門戸寄席J:SPACE（阪急「門戸厄神」駅より東へ徒歩1分） \n出演：月亭遊方『苦労スロード』『ホット＆クール』『ティラノサウルス・アライブ』 \n予約：070-3603-3192 / jspace_event@yahoo.co.jp（席亭安田）
URL:https://yuho-tsukitei.com/event/%e9%96%80%e6%88%b8%e5%af%84%e5%b8%ad3%e5%91%a8%e5%b9%b4%e8%a8%98%e5%bf%b5%e7%89%b9%e5%88%a5%e5%85%ac%e6%bc%94%e3%80%9c%e6%9c%88%e4%ba%ad%e9%81%8a%e6%96%b9%e3%81%b2%e3%81%a8%e3%82%8a%e6%96%b0%e4%bd%9c
ATTACH;FMTTYPE=image/jpeg:https://yuho-tsukitei.com/wp-content/uploads/2023/09/IMG_7502-scaled.jpeg
END:VEVENT
BEGIN:VEVENT
DTSTART;TZID=Asia/Tokyo:20231024T133000
DTEND;TZID=Asia/Tokyo:20231024T163000
DTSTAMP:20260426T095737
CREATED:20230924T093702Z
LAST-MODIFIED:20231020T110824Z
UID:2721-1698154200-1698165000@yuho-tsukitei.com
SUMMARY:天満天神繁昌亭 桂そうば若手噺家グランプリ優勝記念ウィーク
DESCRIPTION:日時：10月24日（火）午後1時30分開演（1時開場、4時過ぎ終演予定） \n場所：天満天神繁昌亭（地下鉄「南森町」駅4-A出口より徒歩3分） \n出演：桂りょうば、桂文五郎、月亭遊方、トーク（そうば、ぽんぽ娘、遊方）、桂福丸、桂雀三郎 〜中入り〜 桂出丸！桂二葉、豊来家一輝（太神楽）、桂そうば ※出演順 \n料金：前売2500円、当日2800円  /  65歳以上 前売2300円、当日2500円 / 身障者 前売2000円、当日2200円 / 学生（25歳未満）前売1000円 当日1500円   ※各種料金要証明書 \nチケット＆問合せ：06-6352-4874（天満天神繁昌亭）
URL:https://yuho-tsukitei.com/event/%e5%a4%a9%e6%ba%80%e5%a4%a9%e7%a5%9e%e7%b9%81%e6%98%8c%e4%ba%ad-%e6%a1%82%e3%81%9d%e3%81%86%e3%81%b0%e8%8b%a5%e6%89%8b%e5%99%ba%e5%ae%b6%e3%82%b0%e3%83%a9%e3%83%b3%e3%83%97%e3%83%aa%e5%84%aa%e5%8b%9d
ATTACH;FMTTYPE=image/jpeg:https://yuho-tsukitei.com/wp-content/uploads/2023/09/IMG_9547.jpeg
END:VEVENT
BEGIN:VEVENT
DTSTART;TZID=Asia/Tokyo:20231025T190000
DTEND;TZID=Asia/Tokyo:20231025T203000
DTSTAMP:20260426T095737
CREATED:20231007T233316Z
LAST-MODIFIED:20231007T233316Z
UID:2748-1698260400-1698265800@yuho-tsukitei.com
SUMMARY:月亭遊方＋佐野真弓 隠れ屋ライブ
DESCRIPTION:日時：10月25日（水）午後7時開演（6時開場） \n場所：Bar de Nieve（北新地）\n大阪市北区曾根崎新地1-6-18 若林ビルB1F  \n出演：月亭遊方（Vo＆G）、佐野真弓（pf） \n☆ひょんなことから成り行きで決まったこの企画。\n佐野真弓さんのピアノ＆ピアニカを助けに遊方のギター弾き語りの会。オリジナル無し、好きな歌をうたいます。\n合間合間にトークは挟むけど、素人のこっちゃさかいそないようけは歌いません。小さなスペース、よろしければお越しください。 \n料金：1000円＋ドリンク代（500円〜） \n予約＆問合せ：arco1213@gmail.com（さの）
URL:https://yuho-tsukitei.com/event/%e6%9c%88%e4%ba%ad%e9%81%8a%e6%96%b9%ef%bc%8b%e4%bd%90%e9%87%8e%e7%9c%9f%e5%bc%93-%e9%9a%a0%e3%82%8c%e5%b1%8b%e3%83%a9%e3%82%a4%e3%83%96
ATTACH;FMTTYPE=image/jpeg:https://yuho-tsukitei.com/wp-content/uploads/2023/10/IMG_9023.jpeg
END:VEVENT
BEGIN:VEVENT
DTSTART;TZID=Asia/Tokyo:20231030T190000
DTEND;TZID=Asia/Tokyo:20231030T210000
DTSTAMP:20260426T095737
CREATED:20230912T072350Z
LAST-MODIFIED:20230912T072350Z
UID:2694-1698692400-1698699600@yuho-tsukitei.com
SUMMARY:ロン毛・トーク・ファニー〜古民家で新作落語を楽しむ会〜
DESCRIPTION:日時：10月30日（月）午後7時開演（6時30分開場、9時終演） \n場所：空色画房（地下鉄「北浜」駅より徒歩10分）\n※今回だけ都合によりいつもと会場が変わります。ご注意ください \n出演：月亭遊方『彫刻の腕』、桂雀喜『つり仲間』\n☆銀杏を剥きながらこたつトークあり \n料金：予約1800円、当日2000円 \n予約：jacky7super@nifty.com（ロン毛カンパニー）
URL:https://yuho-tsukitei.com/event/%e3%83%ad%e3%83%b3%e6%af%9b%e3%83%bb%e3%83%88%e3%83%bc%e3%82%af%e3%83%bb%e3%83%95%e3%82%a1%e3%83%8b%e3%83%bc%e3%80%9c%e5%8f%a4%e6%b0%91%e5%ae%b6%e3%81%a7%e6%96%b0%e4%bd%9c%e8%90%bd%e8%aa%9e%e3%82%92
ATTACH;FMTTYPE=image/jpeg:https://yuho-tsukitei.com/wp-content/uploads/2023/09/IMG_8132.jpeg
END:VEVENT
END:VCALENDAR