BEGIN:VCALENDAR
VERSION:2.0
PRODID:-//遊方 FOR YOU! - ECPv6.15.20//NONSGML v1.0//EN
CALSCALE:GREGORIAN
METHOD:PUBLISH
X-WR-CALNAME:遊方 FOR YOU!
X-ORIGINAL-URL:https://yuho-tsukitei.com
X-WR-CALDESC:遊方 FOR YOU! のイベント
REFRESH-INTERVAL;VALUE=DURATION:PT1H
X-Robots-Tag:noindex
X-PUBLISHED-TTL:PT1H
BEGIN:VTIMEZONE
TZID:Asia/Tokyo
BEGIN:STANDARD
TZOFFSETFROM:+0900
TZOFFSETTO:+0900
TZNAME:JST
DTSTART:20230101T000000
END:STANDARD
END:VTIMEZONE
BEGIN:VEVENT
DTSTART;TZID=Asia/Tokyo:20240503T190000
DTEND;TZID=Asia/Tokyo:20240503T210000
DTSTAMP:20260425T202742
CREATED:20240319T130257Z
LAST-MODIFIED:20240319T130257Z
UID:2967-1714762800-1714770000@yuho-tsukitei.com
SUMMARY:星時ちいさな落語会
DESCRIPTION:日時：5月3日（金祝）午後7時開演（6時30分開場） \n場所：喫茶星時（名鉄「岐阜」駅より徒歩10分 / 岐阜市神田町3丁目3 加藤石原ビル2F） \n出演：月亭遊方（落語2〜3席） \n料金：2500円（1ドリンク付）※定員30名 \n予約＆問合せ：hoshiraku55@gmail.com（星時）\n※お名前と予約人数をお知らせください
URL:https://yuho-tsukitei.com/event/%e6%98%9f%e6%99%82%e3%81%a1%e3%81%84%e3%81%95%e3%81%aa%e8%90%bd%e8%aa%9e%e4%bc%9a-2
ATTACH;FMTTYPE=image/jpeg:https://yuho-tsukitei.com/wp-content/uploads/2024/03/IMG_4666.jpeg
END:VEVENT
BEGIN:VEVENT
DTSTART;TZID=Asia/Tokyo:20240504T160000
DTEND;TZID=Asia/Tokyo:20240504T173000
DTSTAMP:20260425T202742
CREATED:20240319T130811Z
LAST-MODIFIED:20240319T130811Z
UID:2970-1714838400-1714843800@yuho-tsukitei.com
SUMMARY:珈琲家まめの まめな落語会
DESCRIPTION:日時：5月4日（土祝）午後4時開演（3時30分開場、5時30分終演予定） \n場所：珈琲家まめ（岐阜県揖斐郡揖斐川町市場194） \n出演：月亭遊方（落語2席） \n料金：2500円（1ドリンク付）※定員20名 \n予約＆問合せ：0585-52-9193（珈琲家まめ）\n            gifudeufo@gmail.com（事務局）
URL:https://yuho-tsukitei.com/event/%e7%8f%88%e7%90%b2%e5%ae%b6%e3%81%be%e3%82%81%e3%81%ae-%e3%81%be%e3%82%81%e3%81%aa%e8%90%bd%e8%aa%9e%e4%bc%9a
ATTACH;FMTTYPE=image/jpeg:https://yuho-tsukitei.com/wp-content/uploads/2024/03/IMG_4760.jpeg
END:VEVENT
BEGIN:VEVENT
DTSTART;TZID=Asia/Tokyo:20240508T140000
DTEND;TZID=Asia/Tokyo:20240508T163000
DTSTAMP:20260425T202742
CREATED:20240321T133459Z
LAST-MODIFIED:20240418T225817Z
UID:2991-1715176800-1715185800@yuho-tsukitei.com
SUMMARY:喜楽館昼席〜音楽ウィーク〜
DESCRIPTION:日時：5月8日（水）午後2時開演（1時30分開場、1時45分から若手高座あり、4時半頃終演） \n場所：神戸新開地・喜楽館 \n出演：桂笑金、桂米輝、リピート山中（青春フォーク漫談）、笑福亭岐代松 〜中入り〜 月亭遊方、桂九雀、ホーンなあほな（バンド演奏）※出演順 \n【ホーンなあほなメンバー】\n桂小春團治（sax）\n桂九雀（cl）\n笑福亭岐代松（ds）\n桂あやめ（acc）\n月亭遊方（g）\n林家染八（per）\n桂米輝（tb）\n桂笑金（b）\nリピート山中（vo＆banjo）\nこっこ（tp）
URL:https://yuho-tsukitei.com/event/%e5%96%9c%e6%a5%bd%e9%a4%a8%e6%98%bc%e5%b8%ad%e3%80%9c%e9%9f%b3%e6%a5%bd%e3%82%a6%e3%82%a3%e3%83%bc%e3%82%af%e3%80%9c
ATTACH;FMTTYPE=image/jpeg:https://yuho-tsukitei.com/wp-content/uploads/2024/03/IMG_6223.jpeg
END:VEVENT
BEGIN:VEVENT
DTSTART;TZID=Asia/Tokyo:20240509T140000
DTEND;TZID=Asia/Tokyo:20240509T163000
DTSTAMP:20260425T202742
CREATED:20240321T133631Z
LAST-MODIFIED:20240418T225914Z
UID:2994-1715263200-1715272200@yuho-tsukitei.com
SUMMARY:喜楽館昼席〜音楽ウィーク〜
DESCRIPTION:日時：5月9日（木）午後2時開演（1時30分開場、1時45分から若手高座あり、4時半頃終演） \n場所：神戸新開地・喜楽館 \n出演：桂笑金、桂米輝、リピート山中（青春フォーク漫談）、笑福亭岐代松 〜中入り〜 月亭遊方、桂九雀、ホーンなあほな（バンド演奏）※出演順 \n【ホーンなあほなメンバー】\n桂小春團治（sax）\n桂九雀（cl）\n笑福亭岐代松（ds）\n桂あやめ（acc）\n月亭遊方（g）\n林家染八（per）\n桂米輝（tb）\n桂笑金（b）\nリピート山中（vo＆banjo）\nこっこ（tp）
URL:https://yuho-tsukitei.com/event/%e5%96%9c%e6%a5%bd%e9%a4%a8%e6%98%bc%e5%b8%ad%e3%80%9c%e9%9f%b3%e6%a5%bd%e3%82%a6%e3%82%a3%e3%83%bc%e3%82%af%e3%80%9c-2
ATTACH;FMTTYPE=image/jpeg:https://yuho-tsukitei.com/wp-content/uploads/2024/03/IMG_6223.jpeg
END:VEVENT
BEGIN:VEVENT
DTSTART;TZID=Asia/Tokyo:20240509T183000
DTEND;TZID=Asia/Tokyo:20240509T203000
DTSTAMP:20260425T202742
CREATED:20240407T165340Z
LAST-MODIFIED:20240501T152521Z
UID:3020-1715279400-1715286600@yuho-tsukitei.com
SUMMARY:喜楽館 元気寄席
DESCRIPTION:日時：5月9日（木）午後6時30分開演（6時開場、8時終演予定） \n場所：神戸新開地・喜楽館（各線「新開地」駅東改札③番出口より徒歩2分） \n出演：桂笑金、桂米輝、月亭遊方 〜仲入り〜 笑福亭岐代松（出演順） \n料金：前売1500円、当日1800円（全席自由） \n問合せ：078-576-1218（新開地まちづくりNPO）
URL:https://yuho-tsukitei.com/event/%e5%96%9c%e6%a5%bd%e9%a4%a8-%e5%85%83%e6%b0%97%e5%af%84%e5%b8%ad-3
ATTACH;FMTTYPE=image/jpeg:https://yuho-tsukitei.com/wp-content/uploads/2024/04/IMG_6718.jpeg
END:VEVENT
BEGIN:VEVENT
DTSTART;TZID=Asia/Tokyo:20240510T140000
DTEND;TZID=Asia/Tokyo:20240510T163000
DTSTAMP:20260425T202742
CREATED:20240321T133759Z
LAST-MODIFIED:20240418T225957Z
UID:2996-1715349600-1715358600@yuho-tsukitei.com
SUMMARY:喜楽館昼席〜音楽ウィーク〜
DESCRIPTION:日時：5月10日（金）午後2時開演（1時30分開場、1時45分から若手高座あり、4時半頃終演） \n場所：神戸新開地・喜楽館 \n出演：桂笑金、桂米輝、リピート山中（青春フォーク漫談）、笑福亭岐代松 〜中入り〜 月亭遊方、桂九雀、ホーンなあほな（バンド演奏）※出演順 \n【ホーンなあほなメンバー】\n桂小春團治（sax）\n桂九雀（cl）\n笑福亭岐代松（ds）\n桂あやめ（acc）\n月亭遊方（g）\n林家染八（per）\n桂米輝（tb）\n桂笑金（b）\nリピート山中（vo＆banjo）\nこっこ（tp）
URL:https://yuho-tsukitei.com/event/%e5%96%9c%e6%a5%bd%e9%a4%a8%e6%98%bc%e5%b8%ad%e3%80%9c%e9%9f%b3%e6%a5%bd%e3%82%a6%e3%82%a3%e3%83%bc%e3%82%af%e3%80%9c-3
ATTACH;FMTTYPE=image/jpeg:https://yuho-tsukitei.com/wp-content/uploads/2024/03/IMG_6223.jpeg
END:VEVENT
BEGIN:VEVENT
DTSTART;TZID=Asia/Tokyo:20240514T120000
DTEND;TZID=Asia/Tokyo:20240514T130000
DTSTAMP:20260425T202742
CREATED:20240414T000629Z
LAST-MODIFIED:20240414T000629Z
UID:3053-1715688000-1715691600@yuho-tsukitei.com
SUMMARY:泉佐野ふるさと町屋館・火木亭
DESCRIPTION:日時：5月14日（火）午後12時20分開演（12時開場、12時\n     40分頃終演） \n場所：泉佐野ふるさと町屋館（南海「泉佐野」駅より徒歩10\n     分） \n出演：月亭遊方（落語1席）※30名限定 \n料金：ドリンクセット（お茶と焼き菓子付き）1500円\n     ランチセット（そばとお茶付き）1500円 \n予約＆問合せ：072-479-6789（ふるさと町屋館）
URL:https://yuho-tsukitei.com/event/%e6%b3%89%e4%bd%90%e9%87%8e%e3%81%b5%e3%82%8b%e3%81%95%e3%81%a8%e7%94%ba%e5%b1%8b%e9%a4%a8%e3%83%bb%e7%81%ab%e6%9c%a8%e4%ba%ad
ATTACH;FMTTYPE=image/jpeg:https://yuho-tsukitei.com/wp-content/uploads/2024/04/IMG_6133.jpeg
END:VEVENT
BEGIN:VEVENT
DTSTART;TZID=Asia/Tokyo:20240516T190000
DTEND;TZID=Asia/Tokyo:20240516T210000
DTSTAMP:20260425T202742
CREATED:20240407T113559Z
LAST-MODIFIED:20240408T140605Z
UID:3007-1715886000-1715893200@yuho-tsukitei.com
SUMMARY:百年長屋・遊方基地＃1 〜月亭遊方の落語会〜
DESCRIPTION:日時：5月16日（木）午後7時開演（6時30分開場、9時終演） \n場所：百年長屋（JR・地下鉄「玉造」駅より徒歩6分、JR・地下鉄「森ノ宮」駅より徒歩7分） \n出演：月亭遊方『胴乱の幸助』他1席\n     ゲスト：笑福亭喬介\n     三味線：はやしや律子\n     ☆遊方×喬介 対談あり \n料金：予約2000円 当日2500円 \n予約＆問合せ：075-279-2868\n            kyoushoudou@hotmail.com（京升堂）
URL:https://yuho-tsukitei.com/event/%e7%99%be%e5%b9%b4%e9%95%b7%e5%b1%8b%e3%83%bb%e9%81%8a%e6%96%b9%e5%9f%ba%e5%9c%b0%ef%bc%831-%e3%80%9c%e6%9c%88%e4%ba%ad%e9%81%8a%e6%96%b9%e3%81%ae%e8%90%bd%e8%aa%9e%e4%bc%9a%e3%80%9c
ATTACH;FMTTYPE=image/jpeg:https://yuho-tsukitei.com/wp-content/uploads/2024/04/IMG_5772.jpeg
END:VEVENT
BEGIN:VEVENT
DTSTART;TZID=Asia/Tokyo:20240518T110000
DTEND;TZID=Asia/Tokyo:20240518T180000
DTSTAMP:20260425T202742
CREATED:20240315T133635Z
LAST-MODIFIED:20240315T134131Z
UID:2945-1716030000-1716055200@yuho-tsukitei.com
SUMMARY:第31回 彦八まつり 初日
DESCRIPTION:日時：5月18日（土）午前11時〜午後18時 \n場所：生國魂神社（地下鉄「谷町九丁目」駅3番出口より徒歩3分 \n料金：無料 ※ただし社務所の奉納落語会、参集殿のイベントは各部1500円 \n奉納落語会、参集殿イベントのチケット販売：\n          繁昌亭窓口（Tel:06-6352-4874）\n          チケットぴあ（Pコード:525-029） \n☆遊方は参集殿イベント、19日の11時からの部と、同じく19日の17時からの部に出演\n☆桂あやめ・月亭遊方・林家染雀ブースは今年は雑貨店をいたします。
URL:https://yuho-tsukitei.com/event/%e7%ac%ac31%e5%9b%9e-%e5%bd%a6%e5%85%ab%e3%81%be%e3%81%a4%e3%82%8a
ATTACH;FMTTYPE=image/jpeg:https://yuho-tsukitei.com/wp-content/uploads/2024/03/IMG_4570.jpeg
END:VEVENT
BEGIN:VEVENT
DTSTART;TZID=Asia/Tokyo:20240519T110000
DTEND;TZID=Asia/Tokyo:20240519T180000
DTSTAMP:20260425T202742
CREATED:20240315T133925Z
LAST-MODIFIED:20240315T133925Z
UID:2950-1716116400-1716141600@yuho-tsukitei.com
SUMMARY:第31回 彦八まつり 楽日
DESCRIPTION:日時：5月18日（土）午前11時〜午後18時 \n場所：生國魂神社（地下鉄「谷町九丁目」駅3番出口より徒歩3分 \n料金：無料 ※ただし社務所の奉納落語会、参集殿のイベントは各部1500円 \n奉納落語会、参集殿イベントのチケット販売：\n          繁昌亭窓口（Tel:06-6352-4874）\n          チケットぴあ（Pコード:525-029） \n☆遊方は参集殿イベント、19日の11時からの部と、同じく19日の17時からの部に出演\n☆桂あやめ・月亭遊方・林家染雀ブースは今年は雑貨店をいたします。
URL:https://yuho-tsukitei.com/event/%e7%ac%ac31%e5%9b%9e-%e5%bd%a6%e5%85%ab%e3%81%be%e3%81%a4%e3%82%8a-%e6%a5%bd%e6%97%a5
ATTACH;FMTTYPE=image/jpeg:https://yuho-tsukitei.com/wp-content/uploads/2024/03/IMG_4570.jpeg
END:VEVENT
BEGIN:VEVENT
DTSTART;TZID=Asia/Tokyo:20240520T133000
DTEND;TZID=Asia/Tokyo:20240520T163000
DTSTAMP:20260425T202742
CREATED:20240319T131759Z
LAST-MODIFIED:20240319T133717Z
UID:2973-1716211800-1716222600@yuho-tsukitei.com
SUMMARY:天満天神繁昌亭昼席
DESCRIPTION:日時：5月20日（月）午後1時30分開演（1時開場、16時10分終演予定） \n場所：天満天神繁昌亭（地下鉄「南森町」駅4-A出口より徒歩3分） \n出演：桂白鹿、林家染吉、笑福亭達瓶、一魁斎京次郎（手品）、桂あさ吉、桂枝光 〜中入り〜 笑福亭松五、月亭遊方、喜味家たまご（三味線放談）、桂小春團治 \n料金：前売2500円、当日2800円  /  65歳以上 前売2300円、当日2500円 / 身障者 前売2000円、当日2200円 / 学生（25歳未満）前売1000円 当日1500円   ※各種料金要証明書 \nチケット＆問合せ：06-6352-4874（天満天神繁昌亭）
URL:https://yuho-tsukitei.com/event/%e5%a4%a9%e6%ba%80%e5%a4%a9%e7%a5%9e%e7%b9%81%e6%98%8c%e4%ba%ad%e6%98%bc%e5%b8%ad-21
ATTACH;FMTTYPE=image/jpeg:https://yuho-tsukitei.com/wp-content/uploads/2023/09/IMG_1407.jpeg
END:VEVENT
BEGIN:VEVENT
DTSTART;TZID=Asia/Tokyo:20240520T183000
DTEND;TZID=Asia/Tokyo:20240520T210000
DTSTAMP:20260425T202742
CREATED:20240319T133222Z
LAST-MODIFIED:20240319T134147Z
UID:2982-1716229800-1716238800@yuho-tsukitei.com
SUMMARY:第31回 彦八まつり・あとの祭り〜宴は終わってからもオモシロイ〜
DESCRIPTION:日時：5月20日（月）午後6時30分開演（6時開場） \n場所：天満天神繁昌亭（地下鉄「南森町」駅4-A出口より徒歩3分） \n出演：笑福亭遊喬、笑福亭生喬、桂文三、林家そめすけ、笑福亭喬楽、桂七福、林家花丸（全員落語出演）\n司会：月亭遊方\n☆彦八まつりを皆んなと振り返るスライドショーあり\n☆飛び入りあるかも！ \n料金：前売2500円、当日3000円  /  身障者・高大学生2000円 / 小中学生1500円 ※各種料金要証明書 （全席自由）\n※彦八まつりの協賛券でもご入場いただけます \nチケット：チケットぴあ、セブンイレブン（Pコード：597-700）、繁昌亭窓口 \n問合せ：06-6352-4874（天満天神繁昌亭）
URL:https://yuho-tsukitei.com/event/%e7%ac%ac31%e5%9b%9e-%e5%bd%a6%e5%85%ab%e3%81%be%e3%81%a4%e3%82%8a%e3%83%bb%e3%81%82%e3%81%a8%e3%81%ae%e7%a5%ad%e3%82%8a%e3%80%9c%e5%ae%b4%e3%81%af%e7%b5%82%e3%82%8f%e3%81%a3%e3%81%a6%e3%81%8b
ATTACH;FMTTYPE=image/jpeg:https://yuho-tsukitei.com/wp-content/uploads/2024/03/IMG_4574.jpeg
END:VEVENT
BEGIN:VEVENT
DTSTART;TZID=Asia/Tokyo:20240521T133000
DTEND;TZID=Asia/Tokyo:20240521T163000
DTSTAMP:20260425T202742
CREATED:20240319T131945Z
LAST-MODIFIED:20240321T134043Z
UID:2975-1716298200-1716309000@yuho-tsukitei.com
SUMMARY:天満天神繁昌亭昼席
DESCRIPTION:日時：5月21日（火）午後1時30分開演（1時開場、16時10分終演予定） \n場所：天満天神繁昌亭（地下鉄「南森町」駅4-A出口より徒歩3分） \n出演：桂白鹿、桂治門、笑福亭達瓶、一魁斎京次郎（手品）、桂あさ吉、桂枝光 〜中入り〜 笑福亭松五、月亭遊方、喜味家たまご（三味線放談）、笑福亭鶴光 \n料金：前売2500円、当日2800円  /  65歳以上 前売2300円、当日2500円 / 身障者 前売2000円、当日2200円 / 学生（25歳未満）前売1000円 当日1500円   ※各種料金要証明書 \nチケット＆問合せ：06-6352-4874（天満天神繁昌亭）
URL:https://yuho-tsukitei.com/event/%e5%a4%a9%e6%ba%80%e5%a4%a9%e7%a5%9e%e7%b9%81%e6%98%8c%e4%ba%ad%e6%98%bc%e5%b8%ad-22
ATTACH;FMTTYPE=image/jpeg:https://yuho-tsukitei.com/wp-content/uploads/2024/03/IMG_1407.jpeg
END:VEVENT
BEGIN:VEVENT
DTSTART;TZID=Asia/Tokyo:20240523T133000
DTEND;TZID=Asia/Tokyo:20240523T163000
DTSTAMP:20260425T202742
CREATED:20240319T132127Z
LAST-MODIFIED:20240321T134200Z
UID:2978-1716471000-1716481800@yuho-tsukitei.com
SUMMARY:天満天神繁昌亭昼席
DESCRIPTION:日時：5月23日（木）午後1時30分開演（1時開場、16時10分終演予定） \n場所：天満天神繁昌亭（地下鉄「南森町」駅4-A出口より徒歩3分） \n出演：桂白鹿、桂治門、笑福亭達瓶、一魁斎京次郎（手品）、桂あさ吉、桂枝光 〜中入り〜 笑福亭松五、月亭遊方、喜味家たまご（三味線放談）、笑福亭仁扇 \n料金：前売2500円、当日2800円  /  65歳以上 前売2300円、当日2500円 / 身障者 前売2000円、当日2200円 / 学生（25歳未満）前売1000円 当日1500円   ※各種料金要証明書 \nチケット＆問合せ：06-6352-4874（天満天神繁昌亭）
URL:https://yuho-tsukitei.com/event/%e5%a4%a9%e6%ba%80%e5%a4%a9%e7%a5%9e%e7%b9%81%e6%98%8c%e4%ba%ad%e6%98%bc%e5%b8%ad-23
ATTACH;FMTTYPE=image/jpeg:https://yuho-tsukitei.com/wp-content/uploads/2024/03/IMG_1407.jpeg
END:VEVENT
BEGIN:VEVENT
DTSTART;TZID=Asia/Tokyo:20240524T133000
DTEND;TZID=Asia/Tokyo:20240524T163000
DTSTAMP:20260425T202742
CREATED:20240319T132223Z
LAST-MODIFIED:20240321T134247Z
UID:2980-1716557400-1716568200@yuho-tsukitei.com
SUMMARY:天満天神繁昌亭昼席
DESCRIPTION:日時：5月24日（金）午後1時30分開演（1時開場、16時10分終演予定） \n場所：天満天神繁昌亭（地下鉄「南森町」駅4-A出口より徒歩3分） \n出演：桂白鹿、桂治門、笑福亭達瓶、一魁斎京次郎（手品）、桂あさ吉、桂枝光 〜中入り〜 笑福亭松五、月亭遊方、喜味家たまご（三味線放談）、笑福亭仁扇 \n料金：前売2500円、当日2800円  /  65歳以上 前売2300円、当日2500円 / 身障者 前売2000円、当日2200円 / 学生（25歳未満）前売1000円 当日1500円   ※各種料金要証明書 \nチケット＆問合せ：06-6352-4874（天満天神繁昌亭）
URL:https://yuho-tsukitei.com/event/%e5%a4%a9%e6%ba%80%e5%a4%a9%e7%a5%9e%e7%b9%81%e6%98%8c%e4%ba%ad%e6%98%bc%e5%b8%ad-24
ATTACH;FMTTYPE=image/jpeg:https://yuho-tsukitei.com/wp-content/uploads/2024/03/IMG_1407.jpeg
END:VEVENT
BEGIN:VEVENT
DTSTART;TZID=Asia/Tokyo:20240525T180000
DTEND;TZID=Asia/Tokyo:20240525T200000
DTSTAMP:20260425T202742
CREATED:20240407T112313Z
LAST-MODIFIED:20240408T060457Z
UID:3004-1716660000-1716667200@yuho-tsukitei.com
SUMMARY:月亭遊方倉吉独演会
DESCRIPTION:日時：6月25日（土）午後6時開演（5時30分開場） \n場所：ビーワイホール（倉吉市昭和町1-107 ビーワイヨシダ３階 Tel：0858-23-1611）\n※駐車場あり \n出演：月亭遊方（落語2〜３席）※演目はお楽しみ \n料金：予約2500円 当日3000円 \n予約＆問合せ：090-1683-9726（中島）※午後5時以降、お電話かショートメールでお願いします。
URL:https://yuho-tsukitei.com/event/%e6%9c%88%e4%ba%ad%e9%81%8a%e6%96%b9%e5%80%89%e5%90%89%e7%8b%ac%e6%bc%94%e4%bc%9a
ATTACH;FMTTYPE=image/jpeg:https://yuho-tsukitei.com/wp-content/uploads/2024/04/IMG_5998-scaled.jpeg
END:VEVENT
END:VCALENDAR