BEGIN:VCALENDAR
VERSION:2.0
PRODID:-//遊方 FOR YOU! - ECPv6.15.20//NONSGML v1.0//EN
CALSCALE:GREGORIAN
METHOD:PUBLISH
X-WR-CALNAME:遊方 FOR YOU!
X-ORIGINAL-URL:https://yuho-tsukitei.com
X-WR-CALDESC:遊方 FOR YOU! のイベント
REFRESH-INTERVAL;VALUE=DURATION:PT1H
X-Robots-Tag:noindex
X-PUBLISHED-TTL:PT1H
BEGIN:VTIMEZONE
TZID:Asia/Tokyo
BEGIN:STANDARD
TZOFFSETFROM:+0900
TZOFFSETTO:+0900
TZNAME:JST
DTSTART:20230101T000000
END:STANDARD
END:VTIMEZONE
BEGIN:VEVENT
DTSTART;TZID=Asia/Tokyo:20240903T123000
DTEND;TZID=Asia/Tokyo:20240903T130000
DTSTAMP:20260425T115612
CREATED:20240826T184104Z
LAST-MODIFIED:20240826T184104Z
UID:3256-1725366600-1725368400@yuho-tsukitei.com
SUMMARY:泉佐野 火木亭
DESCRIPTION:日時：9月3日（火）午後12時30分開演（12時開場、1時終演予定） \n場所：フレ関空泉佐野byベッセルホテルズ3F（南海本線「泉佐野」駅隣接） \n出演：月亭遊方（落語1席） \n料金：2000円（ソフトドリンクバー＆焼菓子パティスリーアンスリール付き） \n予約＆問合せ：080-4766-0911
URL:https://yuho-tsukitei.com/event/%e6%b3%89%e4%bd%90%e9%87%8e-%e7%81%ab%e6%9c%a8%e4%ba%ad
ATTACH;FMTTYPE=image/jpeg:https://yuho-tsukitei.com/wp-content/uploads/2024/08/IMG_1448.jpeg
END:VEVENT
BEGIN:VEVENT
DTSTART;TZID=Asia/Tokyo:20240905T140000
DTEND;TZID=Asia/Tokyo:20240905T163000
DTSTAMP:20260425T115612
CREATED:20240714T003747Z
LAST-MODIFIED:20240714T003747Z
UID:3176-1725544800-1725553800@yuho-tsukitei.com
SUMMARY:神戸新開地・喜楽館昼席
DESCRIPTION:日時：9月5日（木）午後2時開演（1時30分開場、4時30分頃終演） \n場所：神戸新開地・喜楽館（各線「新開地」駅東改札③番出口より徒歩2分） \n出演：桂おとめ、桂二乗、伏見紫水（曲独楽）、露の新治 〜仲入り〜 月亭遊方、笑福亭呂好、桂小春團治\n※1時45分から開演前の1席（演者未定）あり \n料金：前売2300円、当日2800円  /  以下前売当日共：65歳以上2300円、障がい者・高校・大学生2000円、小中学生1500円  ※要証明書 \nチケット＆問合せ：078-335-7088（神戸新開地・喜楽館）
URL:https://yuho-tsukitei.com/event/%e7%a5%9e%e6%88%b8%e6%96%b0%e9%96%8b%e5%9c%b0%e3%83%bb%e5%96%9c%e6%a5%bd%e9%a4%a8%e6%98%bc%e5%b8%ad
ATTACH;FMTTYPE=image/jpeg:https://yuho-tsukitei.com/wp-content/uploads/2024/06/IMG_9114.jpeg
END:VEVENT
BEGIN:VEVENT
DTSTART;TZID=Asia/Tokyo:20240905T183000
DTEND;TZID=Asia/Tokyo:20240905T203000
DTSTAMP:20260425T115612
CREATED:20240714T005242Z
LAST-MODIFIED:20240829T085026Z
UID:3188-1725561000-1725568200@yuho-tsukitei.com
SUMMARY:喜楽館 元気寄席
DESCRIPTION:日時：9月5日（木）午後6時30分開演（6時開場、8時30分頃終演） \n場所：神戸新開地・喜楽館（各線「新開地」駅東改札③番出口より徒歩2分） \n出演：桂九ノ一、笑福亭呂好、月亭遊方 〜仲入り〜 桂小春團治 \n料金：前売1500円、当日1800円 \nチケット＆問合せ：078-576-1218（新開地まちづくりNPO）
URL:https://yuho-tsukitei.com/event/%e5%96%9c%e6%a5%bd%e9%a4%a8-%e5%85%83%e6%b0%97%e5%af%84%e5%b8%ad-4
ATTACH;FMTTYPE=image/jpeg:https://yuho-tsukitei.com/wp-content/uploads/2024/07/IMG_1627.jpeg
END:VEVENT
BEGIN:VEVENT
DTSTART;TZID=Asia/Tokyo:20240906T190000
DTEND;TZID=Asia/Tokyo:20240906T210000
DTSTAMP:20260425T115612
CREATED:20240730T041753Z
LAST-MODIFIED:20240730T041753Z
UID:3205-1725649200-1725656400@yuho-tsukitei.com
SUMMARY:百年長屋・遊方基地 #3
DESCRIPTION:日時：9月6日（金）午後7時開演（6時30分開場、9時頃終演）\n場所：百年長屋（JR「玉造」駅より徒歩6分、JR「森ノ宮」駅より徒歩7分） \n出演：月亭遊方『算段の平兵衛』他、新作落語１席\n     ゲスト：桂文三\n     ☆遊方×文三 対談あり \n料金：予約2000円 当日2500円 \n予約＆問合せ：京升堂 075-279-2868\n                  kyoushoudou@hotmail.com
URL:https://yuho-tsukitei.com/event/%e7%99%be%e5%b9%b4%e9%95%b7%e5%b1%8b%e3%83%bb%e9%81%8a%e6%96%b9%e5%9f%ba%e5%9c%b0-3
ATTACH;FMTTYPE=image/jpeg:https://yuho-tsukitei.com/wp-content/uploads/2024/07/IMG_9767.jpeg
END:VEVENT
BEGIN:VEVENT
DTSTART;TZID=Asia/Tokyo:20240907T140000
DTEND;TZID=Asia/Tokyo:20240907T163000
DTSTAMP:20260425T115612
CREATED:20240714T003932Z
LAST-MODIFIED:20240714T003932Z
UID:3178-1725717600-1725726600@yuho-tsukitei.com
SUMMARY:神戸新開地・喜楽館昼席
DESCRIPTION:日時：9月7日（土）午後2時開演（1時30分開場、4時30分頃終演） \n場所：神戸新開地・喜楽館（各線「新開地」駅東改札③番出口より徒歩2分） \n出演：桂おとめ、桂二乗、伏見紫水（曲独楽）、月亭遊方 〜仲入り〜 月亭文都、笑福亭呂好、桂春若\n※1時45分から開演前の1席（演者未定）あり \n料金：前売2300円、当日2800円  /  以下前売当日共：65歳以上2300円、障がい者・高校・大学生2000円、小中学生1500円  ※要証明書 \nチケット＆問合せ：078-335-7088（神戸新開地・喜楽館）
URL:https://yuho-tsukitei.com/event/%e7%a5%9e%e6%88%b8%e6%96%b0%e9%96%8b%e5%9c%b0%e3%83%bb%e5%96%9c%e6%a5%bd%e9%a4%a8%e6%98%bc%e5%b8%ad-2
ATTACH;FMTTYPE=image/jpeg:https://yuho-tsukitei.com/wp-content/uploads/2024/06/IMG_9114.jpeg
END:VEVENT
BEGIN:VEVENT
DTSTART;TZID=Asia/Tokyo:20240909T140000
DTEND;TZID=Asia/Tokyo:20240909T163000
DTSTAMP:20260425T115612
CREATED:20240714T004212Z
LAST-MODIFIED:20240714T004212Z
UID:3180-1725890400-1725899400@yuho-tsukitei.com
SUMMARY:神戸新開地・喜楽館昼席〜兵庫県民ウィーク〜
DESCRIPTION:日時：9月9日（月）午後2時開演（1時30分開場、4時30分頃終演） \n場所：神戸新開地・喜楽館（各線「新開地」駅東改札③番出口より徒歩2分） \n出演：桂白鹿、笑福亭呂竹、れ・みぜらぶるず（音曲漫才）、月亭遊方 〜仲入り〜 桂わかば、林家竹丸、桂米團治\n※1時45分から開演前の1席（演者未定）あり \n料金：前売2300円、当日2800円  /  以下前売当日共：65歳以上2300円、障がい者・高校・大学生2000円、小中学生1500円  ※要証明書 \nチケット＆問合せ：078-335-7088（神戸新開地・喜楽館）
URL:https://yuho-tsukitei.com/event/%e7%a5%9e%e6%88%b8%e6%96%b0%e9%96%8b%e5%9c%b0%e3%83%bb%e5%96%9c%e6%a5%bd%e9%a4%a8%e6%98%bc%e5%b8%ad%e3%80%9c%e5%85%b5%e5%ba%ab%e7%9c%8c%e6%b0%91%e3%82%a6%e3%82%a3%e3%83%bc%e3%82%af%e3%80%9c
ATTACH;FMTTYPE=image/jpeg:https://yuho-tsukitei.com/wp-content/uploads/2024/06/IMG_9114.jpeg
END:VEVENT
BEGIN:VEVENT
DTSTART;TZID=Asia/Tokyo:20240910T140000
DTEND;TZID=Asia/Tokyo:20240910T163000
DTSTAMP:20260425T115612
CREATED:20240714T004456Z
LAST-MODIFIED:20240714T004456Z
UID:3182-1725976800-1725985800@yuho-tsukitei.com
SUMMARY:神戸新開地・喜楽館昼席〜兵庫県民ウィーク〜
DESCRIPTION:日時：9月10日（火）午後2時開演（1時30分開場、4時30分頃終演） \n場所：神戸新開地・喜楽館（各線「新開地」駅東改札③番出口より徒歩2分） \n出演：桂白鹿、笑福亭呂竹、リピート山中（青春フォーク漫談）、月亭遊方 〜仲入り〜 桂わかば、林家竹丸、桂あやめ\n※1時45分から開演前の1席（演者未定）あり \n料金：前売2300円、当日2800円 / 以下前売当日共：65歳以上2300円、障がい者・高校・大学生2000円、小中学生1500円 ※要証明書 \nチケット＆問合せ：078-335-7088（神戸新開地・喜楽館）
URL:https://yuho-tsukitei.com/event/%e7%a5%9e%e6%88%b8%e6%96%b0%e9%96%8b%e5%9c%b0%e3%83%bb%e5%96%9c%e6%a5%bd%e9%a4%a8%e6%98%bc%e5%b8%ad%e3%80%9c%e5%85%b5%e5%ba%ab%e7%9c%8c%e6%b0%91%e3%82%a6%e3%82%a3%e3%83%bc%e3%82%af%e3%80%9c-2
ATTACH;FMTTYPE=image/jpeg:https://yuho-tsukitei.com/wp-content/uploads/2024/06/IMG_9114.jpeg
END:VEVENT
BEGIN:VEVENT
DTSTART;TZID=Asia/Tokyo:20240910T193000
DTEND;TZID=Asia/Tokyo:20240910T210000
DTSTAMP:20260425T115612
CREATED:20240703T153512Z
LAST-MODIFIED:20240703T153512Z
UID:3160-1725996600-1726002000@yuho-tsukitei.com
SUMMARY:第97回 山端寄席
DESCRIPTION:日時：9月10日（火）午後7時30分開演（6時30分開場、9時頃終演） \n場所：山端自治会館（京阪叡山電鉄「修学院」駅より徒歩2分） \n出演：露の紫、月亭遊方、三遊亭丈二（出演順） \n料金：当日のみ500円 \n問合せ：075-781-3749
URL:https://yuho-tsukitei.com/event/%e7%ac%ac97%e5%9b%9e-%e5%b1%b1%e7%ab%af%e5%af%84%e5%b8%ad-2
ATTACH;FMTTYPE=image/jpeg:https://yuho-tsukitei.com/wp-content/uploads/2024/07/IMG_9344.jpeg
END:VEVENT
BEGIN:VEVENT
DTSTART;TZID=Asia/Tokyo:20240911T140000
DTEND;TZID=Asia/Tokyo:20240911T163000
DTSTAMP:20260425T115612
CREATED:20240714T004629Z
LAST-MODIFIED:20240714T004629Z
UID:3184-1726063200-1726072200@yuho-tsukitei.com
SUMMARY:神戸新開地・喜楽館昼席〜兵庫県民ウィーク〜
DESCRIPTION:日時：9月11日（水）午後2時開演（1時30分開場、4時30分頃終演） \n場所：神戸新開地・喜楽館（各線「新開地」駅東改札③番出口より徒歩2分） \n出演：桂白鹿、笑福亭呂竹、れ・みぜらぶるず（音曲漫才）、月亭遊方 〜仲入り〜 桂わかば、林家竹丸、笑福亭鶴瓶\n※1時45分から開演前の1席（演者未定）あり \n料金：前売2300円、当日2800円 / 以下前売当日共：65歳以上2300円、障がい者・高校・大学生2000円、小中学生1500円 ※要証明書 \nチケット＆問合せ：078-335-7088（神戸新開地・喜楽館）
URL:https://yuho-tsukitei.com/event/%e7%a5%9e%e6%88%b8%e6%96%b0%e9%96%8b%e5%9c%b0%e3%83%bb%e5%96%9c%e6%a5%bd%e9%a4%a8%e6%98%bc%e5%b8%ad%e3%80%9c%e5%85%b5%e5%ba%ab%e7%9c%8c%e6%b0%91%e3%82%a6%e3%82%a3%e3%83%bc%e3%82%af%e3%80%9c-3
ATTACH;FMTTYPE=image/jpeg:https://yuho-tsukitei.com/wp-content/uploads/2024/06/IMG_9114.jpeg
END:VEVENT
BEGIN:VEVENT
DTSTART;TZID=Asia/Tokyo:20240912T140000
DTEND;TZID=Asia/Tokyo:20240912T163000
DTSTAMP:20260425T115612
CREATED:20240714T004800Z
LAST-MODIFIED:20240714T004800Z
UID:3186-1726149600-1726158600@yuho-tsukitei.com
SUMMARY:神戸新開地・喜楽館昼席〜兵庫県民ウィーク〜
DESCRIPTION:日時：9月12日（木）午後2時開演（1時30分開場、4時30分頃終演） \n場所：神戸新開地・喜楽館（各線「新開地」駅東改札③番出口より徒歩2分） \n出演：桂白鹿、笑福亭呂竹、れ・みぜらぶるず（音曲漫才）、月亭遊方 〜仲入り〜 桂わかば、林家竹丸、桂文之助\n※1時45分から開演前の1席（演者未定）あり \n料金：前売2300円、当日2800円 / 以下前売当日共：65歳以上2300円、障がい者・高校・大学生2000円、小中学生1500円 ※要証明書 \nチケット＆問合せ：078-335-7088（神戸新開地・喜楽館）
URL:https://yuho-tsukitei.com/event/%e7%a5%9e%e6%88%b8%e6%96%b0%e9%96%8b%e5%9c%b0%e3%83%bb%e5%96%9c%e6%a5%bd%e9%a4%a8%e6%98%bc%e5%b8%ad%e3%80%9c%e5%85%b5%e5%ba%ab%e7%9c%8c%e6%b0%91%e3%82%a6%e3%82%a3%e3%83%bc%e3%82%af%e3%80%9c-4
ATTACH;FMTTYPE=image/jpeg:https://yuho-tsukitei.com/wp-content/uploads/2024/06/IMG_9114.jpeg
END:VEVENT
BEGIN:VEVENT
DTSTART;TZID=Asia/Tokyo:20240915T150000
DTEND;TZID=Asia/Tokyo:20240915T170000
DTSTAMP:20260425T115612
CREATED:20240816T163336Z
LAST-MODIFIED:20240816T163336Z
UID:3221-1726412400-1726419600@yuho-tsukitei.com
SUMMARY:博多らくごカフェ笑庵でたのしく落語を聴く会
DESCRIPTION:日時：9月15日（日）午後3時開演（2時30分開場、5時頃終演） \n場所：博多らくごカフェ笑庵（地下鉄「呉服町」 \n出演：月亭遊方（落語3席） \n料金：3000円(1ドリンク付) \n予約＆問合せ：\nたのしく落語をきく会：090-2038-5457\n博多らくごカフェ笑庵：092-710-7220
URL:https://yuho-tsukitei.com/event/%e5%8d%9a%e5%a4%9a%e3%82%89%e3%81%8f%e3%81%94%e3%82%ab%e3%83%95%e3%82%a7%e7%ac%91%e5%ba%b5%e3%81%a7%e3%81%9f%e3%81%ae%e3%81%97%e3%81%8f%e8%90%bd%e8%aa%9e%e3%82%92%e8%81%b4%e3%81%8f%e4%bc%9a
ATTACH;FMTTYPE=image/jpeg:https://yuho-tsukitei.com/wp-content/uploads/2024/08/IMG_1100.jpeg
END:VEVENT
BEGIN:VEVENT
DTSTART;TZID=Asia/Tokyo:20240921T140000
DTEND;TZID=Asia/Tokyo:20240921T160000
DTSTAMP:20260425T115612
CREATED:20240802T122200Z
LAST-MODIFIED:20240807T221606Z
UID:3211-1726927200-1726934400@yuho-tsukitei.com
SUMMARY:月亭遊方の現代浮世噺
DESCRIPTION:日時：9月21日（土）午後2時開演（1時30分開場、4時前終演） \n場所：西宮えびす亭（阪神「西宮」駅北口より徒歩4分） \n出演：月亭遊方（新作落語３席） \n料金：予約2500円（限定25名様） \n予約＆問合せ：FUJI鍋\n            072-355-8286\n            km@fujinabe.com
URL:https://yuho-tsukitei.com/event/%e6%9c%88%e4%ba%ad%e9%81%8a%e6%96%b9%e3%81%ae%e7%8f%be%e4%bb%a3%e6%b5%ae%e4%b8%96%e5%99%ba
ATTACH;FMTTYPE=image/jpeg:https://yuho-tsukitei.com/wp-content/uploads/2024/08/IMG_0789.jpeg
END:VEVENT
BEGIN:VEVENT
DTSTART;TZID=Asia/Tokyo:20240929T140000
DTEND;TZID=Asia/Tokyo:20240929T153000
DTSTAMP:20260425T115612
CREATED:20240714T081309Z
LAST-MODIFIED:20240719T050020Z
UID:3193-1727618400-1727623800@yuho-tsukitei.com
SUMMARY:第2回 平野郷・にゃんこ寄席
DESCRIPTION:日時：9月29日（日）午後2時開演（1時30分開場、3時過ぎには終わります） \n場所：平野郷・猫会議事堂（地下鉄「平野」駅、JR「平野」駅駅よりそれぞれ徒歩15分 / 大阪市平野区平野東2-8-8\n※駐車場はございません \n出演：月亭遊方、桂おとめ（落語1席ずつ） \n料金：予約1500円 \n予約＆問合せ：06-7171-5812（猫会議事堂）
URL:https://yuho-tsukitei.com/event/%e7%ac%ac2%e5%9b%9e-%e5%b9%b3%e9%87%8e%e9%83%b7%e3%83%bb%e3%81%ab%e3%82%83%e3%82%93%e3%81%93%e5%af%84%e5%b8%ad
ATTACH;FMTTYPE=image/jpeg:https://yuho-tsukitei.com/wp-content/uploads/2024/07/IMG_0075.jpeg
END:VEVENT
BEGIN:VEVENT
DTSTART;TZID=Asia/Tokyo:20240930T190000
DTEND;TZID=Asia/Tokyo:20240930T210000
DTSTAMP:20260425T115612
CREATED:20240629T151806Z
LAST-MODIFIED:20240714T073240Z
UID:3153-1727722800-1727730000@yuho-tsukitei.com
SUMMARY:月亭遊方東京公演「噺のROCK #2」
DESCRIPTION:日時：9月30日（月）午後7時開演（6時30分開場、9時終演予定） \n場所：ばばん場（JR、地下鉄「高田馬場」駅より徒歩10〜13分）東京都豊島区高田3丁目5-2 第2布施ビル3階（エレベーターほございません） \n出演：月亭遊方（落語3席） \n料金：予約2500円、当日3000円（全席自由） \nチケット＆問合せ：※7月30日より予約受付開始\n下記サイトの予約フォームよりお願いします\nhttps://baba-n-ba.com/ \n※チラシ画像は仮のものです
URL:https://yuho-tsukitei.com/event/%e6%9c%88%e4%ba%ad%e9%81%8a%e6%96%b9%e6%9d%b1%e4%ba%ac%e5%85%ac%e6%bc%94%e3%80%8c%e5%99%ba%e3%81%aerock-2%e3%80%8d
ATTACH;FMTTYPE=image/jpeg:https://yuho-tsukitei.com/wp-content/uploads/2024/06/IMG_9796.jpeg
END:VEVENT
END:VCALENDAR