BEGIN:VCALENDAR
VERSION:2.0
PRODID:-//遊方 FOR YOU! - ECPv6.15.20//NONSGML v1.0//EN
CALSCALE:GREGORIAN
METHOD:PUBLISH
X-ORIGINAL-URL:https://yuho-tsukitei.com
X-WR-CALDESC:遊方 FOR YOU! のイベント
REFRESH-INTERVAL;VALUE=DURATION:PT1H
X-Robots-Tag:noindex
X-PUBLISHED-TTL:PT1H
BEGIN:VTIMEZONE
TZID:Asia/Tokyo
BEGIN:STANDARD
TZOFFSETFROM:+0900
TZOFFSETTO:+0900
TZNAME:JST
DTSTART:20240101T000000
END:STANDARD
END:VTIMEZONE
BEGIN:VEVENT
DTSTART;TZID=Asia/Tokyo:20250101T180000
DTEND;TZID=Asia/Tokyo:20250101T203000
DTSTAMP:20260425T025454
CREATED:20241105T044410Z
LAST-MODIFIED:20241105T044410Z
UID:3377-1735754400-1735763400@yuho-tsukitei.com
SUMMARY:天満天神繁昌亭新春特別公演 第3回
DESCRIPTION:日時：1月1日（水）午後6時開演（5時30分開場） \n場所：天満天神繁昌亭（地下鉄「南森町」駅4-A出口より徒歩3分） \n出演：桂団治郎、桂福丸、月亭遊方、桂塩鯛 〜仲入り〜 新春大喜利（司会/桂小枝、笑福亭仁福、桂坊枝、桂文昇、月亭天使、桂鞠輔、露の棗）、笑福亭鶴二、桂小枝\n※出演順 \n料金：前3500円 当日4000円 身障者・高校・大学生3300円（全席指定） \nお問い合わせ：06-6352-4874（天満天神繁昌亭）
URL:https://yuho-tsukitei.com/event/%e5%a4%a9%e6%ba%80%e5%a4%a9%e7%a5%9e%e7%b9%81%e6%98%8c%e4%ba%ad%e6%96%b0%e6%98%a5%e7%89%b9%e5%88%a5%e5%85%ac%e6%bc%94-%e7%ac%ac3%e5%9b%9e
ATTACH;FMTTYPE=image/jpeg:https://yuho-tsukitei.com/wp-content/uploads/2024/10/IMG_1407.jpeg
END:VEVENT
BEGIN:VEVENT
DTSTART;TZID=Asia/Tokyo:20250104T133000
DTEND;TZID=Asia/Tokyo:20250104T163000
DTSTAMP:20260425T025454
CREATED:20241105T050640Z
LAST-MODIFIED:20241105T050640Z
UID:3379-1735997400-1736008200@yuho-tsukitei.com
SUMMARY:天満天神繁昌亭昼席
DESCRIPTION:日時：1月4日（土）午後13時30分開演（1時開場、4時過ぎ終演予定） \n場所：天満天神繁昌亭（地下鉄「南森町」駅4-A出口より徒歩3分） \n出演：桂枝之進、桂弥っこ、桂三扇、豊来家社中（獅子舞曲芸）、月亭遊方、笑福亭仁扇 〜仲入り〜 桂文五郎、笑福亭松喬、笑福亭学光、桂福團治 \n料金：前売2500円、当日2800円  /  65歳以上 前売2300円、当日2500円 / 身障者 前売2000円、当日2200円 / 学生（25歳未満）前売1000円 当日1500円   ※各種料金要証明書 \nチケット＆問合せ：06-6352-4874（天満天神繁昌亭）
URL:https://yuho-tsukitei.com/event/%e5%a4%a9%e6%ba%80%e5%a4%a9%e7%a5%9e%e7%b9%81%e6%98%8c%e4%ba%ad%e6%98%bc%e5%b8%ad-32
ATTACH;FMTTYPE=image/jpeg:https://yuho-tsukitei.com/wp-content/uploads/2024/10/IMG_1407.jpeg
END:VEVENT
BEGIN:VEVENT
DTSTART;TZID=Asia/Tokyo:20250105T133000
DTEND;TZID=Asia/Tokyo:20250105T163000
DTSTAMP:20260425T025454
CREATED:20241105T050754Z
LAST-MODIFIED:20241105T050754Z
UID:3381-1736083800-1736094600@yuho-tsukitei.com
SUMMARY:天満天神繁昌亭昼席
DESCRIPTION:日時：1月4日（土）午後13時30分開演（1時開場、4時過ぎ終演予定） \n場所：天満天神繁昌亭（地下鉄「南森町」駅4-A出口より徒歩3分） \n出演：桂枝之進、桂白鹿、桂三扇、豊来家社中（獅子舞曲芸）、月亭遊方、笑福亭仁扇 〜仲入り〜 桂弥っこ、笑福亭松喬、笑福亭学光、桂福團治 \n料金：前売2500円、当日2800円  /  65歳以上 前売2300円、当日2500円 / 身障者 前売2000円、当日2200円 / 学生（25歳未満）前売1000円 当日1500円   ※各種料金要証明書 \nチケット＆問合せ：06-6352-4874（天満天神繁昌亭）
URL:https://yuho-tsukitei.com/event/%e5%a4%a9%e6%ba%80%e5%a4%a9%e7%a5%9e%e7%b9%81%e6%98%8c%e4%ba%ad%e6%98%bc%e5%b8%ad-33
ATTACH;FMTTYPE=image/jpeg:https://yuho-tsukitei.com/wp-content/uploads/2024/10/IMG_1407.jpeg
END:VEVENT
BEGIN:VEVENT
DTSTART;TZID=Asia/Tokyo:20250108T190000
DTEND;TZID=Asia/Tokyo:20250108T210000
DTSTAMP:20260425T025454
CREATED:20241122T230218Z
LAST-MODIFIED:20241122T230218Z
UID:3404-1736362800-1736370000@yuho-tsukitei.com
SUMMARY:第27回 ロン毛・トーク・ファニー〜古民家で新作落語を楽しむ会〜
DESCRIPTION:日時：1月8日（水）午後7時開演（6時30分開場、9時終演予定） \n場所：ツギハギ荘（地下鉄「南森町」駅より南へ徒歩10分 / 大阪市北区天神橋1-8-15） \n出演：月亭遊方『シバイたった』\n     桂 雀喜『ファンミ！』\n     ☆正装でこたつトークあり \n料金：予約1800円、当日2000円 \n予約フォーム：https://r.goope.jp/marumarupanda/reservation/event/detail/27793 \n問合せ：jacky7super@nifty.com（ロン毛カンパニー）
URL:https://yuho-tsukitei.com/event/%e7%ac%ac27%e5%9b%9e-%e3%83%ad%e3%83%b3%e6%af%9b%e3%83%bb%e3%83%88%e3%83%bc%e3%82%af%e3%83%bb%e3%83%95%e3%82%a1%e3%83%8b%e3%83%bc%e3%80%9c%e5%8f%a4%e6%b0%91%e5%ae%b6%e3%81%a7%e6%96%b0%e4%bd%9c-2
ATTACH;FMTTYPE=image/jpeg:https://yuho-tsukitei.com/wp-content/uploads/2024/11/IMG_4515.jpeg
END:VEVENT
BEGIN:VEVENT
DTSTART;TZID=Asia/Tokyo:20250116T190000
DTEND;TZID=Asia/Tokyo:20250116T210000
DTSTAMP:20260425T025454
CREATED:20241024T225949Z
LAST-MODIFIED:20241024T225949Z
UID:3361-1737054000-1737061200@yuho-tsukitei.com
SUMMARY:百年長屋・遊方基地 #5
DESCRIPTION:日時：2025年1月16日午後7時開演（6時30分開場、9時過ぎ終演） \n場所：百年長屋（JR「玉造」駅、JR「森ノ宮」駅より徒歩6分） \n出演：月亭遊方『つぼ算』他１席\n     ゲスト：林家染左『演目はお楽しみ』\n     ☆遊方 × 染左 対談あり \n料金：予約2000円 当日2500円（全席自由） \n予約＆問合せ：京升堂 電話:075-279-2868\n            メール:kyoushoudou@hotmail.com \n予約フォーム：https://business.form-mailer.jp/fms/ddd1ae29261902
URL:https://yuho-tsukitei.com/event/%e7%99%be%e5%b9%b4%e9%95%b7%e5%b1%8b%e3%83%bb%e9%81%8a%e6%96%b9%e5%9f%ba%e5%9c%b0-5
ATTACH;FMTTYPE=image/jpeg:https://yuho-tsukitei.com/wp-content/uploads/2024/10/IMG_3564.jpeg
END:VEVENT
BEGIN:VEVENT
DTSTART;TZID=Asia/Tokyo:20250118T140000
DTEND;TZID=Asia/Tokyo:20250118T160000
DTSTAMP:20260425T025454
CREATED:20241122T231007Z
LAST-MODIFIED:20241122T231007Z
UID:3407-1737208800-1737216000@yuho-tsukitei.com
SUMMARY:らくごキッチン in さんだ
DESCRIPTION:日時：1月18日（土）午後2時開演（1時30分開場） \n場所：さんだキッチンスタジオ（JR「三田」駅より徒歩8分 / 三田市中央町14-15） \n出演：月亭遊方（2席） \n料金：2000円 \n予約＆問合せ：070-8440-9339（事務局）\n           SandaRakugo@icloud.com\n           https://rakugokitchen1.peatix.com\n           www.facebook.com/SandaRakugo/
URL:https://yuho-tsukitei.com/event/%e3%82%89%e3%81%8f%e3%81%94%e3%82%ad%e3%83%83%e3%83%81%e3%83%b3-in-%e3%81%95%e3%82%93%e3%81%a0
ATTACH;FMTTYPE=image/jpeg:https://yuho-tsukitei.com/wp-content/uploads/2024/11/IMG_4553.jpeg
END:VEVENT
BEGIN:VEVENT
DTSTART;TZID=Asia/Tokyo:20250122T130000
DTEND;TZID=Asia/Tokyo:20250122T160000
DTSTAMP:20260425T025454
CREATED:20241122T223433Z
LAST-MODIFIED:20241122T223433Z
UID:3395-1737550800-1737561600@yuho-tsukitei.com
SUMMARY:第135回 上方演芸特選会
DESCRIPTION:日時：1月22日（水）午後1時開演（12時30分開場、3時50分終演予定） \n場所：国立文楽劇場小ホール（地下鉄・近鉄「日本橋」駅⑦出口より徒歩1分） \n出演：\n［落   語］ 笑福亭　智丸\n［浪   曲］ 天中軒　すみれ\n［漫   談］ ナオユキ\n［落   語］ 月亭　遊方\n    ― 仲 入 ―\n［漫   才］ パピヨンズ\n［太 神 楽］ 豊来家　板里\n［浪   曲］ 京山　幸枝若 \n料金：2\,300円、学生 1\,600円、シルバー（満65歳以上）      1\,700円（全席指定）\n     ※障害者の方と介護者1名は2割引（1\,840円）です     （他の割引と併用不可）。\n     ※インターネットでも学生料金・シルバー料金・障害      者割引による申し込みが可能です。 \nチケット＆問合せ：0570-07-9900 / 03-3230-3000\n              （国立劇場チケットセンター） \n電話・インターネット予約開始：2024年12月18日(水) 10:00～\n窓口販売開始：2024年12月19日(木)\n※窓口販売用に別枠でのお取り置きはございません。
URL:https://yuho-tsukitei.com/event/%e7%ac%ac135%e5%9b%9e-%e4%b8%8a%e6%96%b9%e6%bc%94%e8%8a%b8%e7%89%b9%e9%81%b8%e4%bc%9a
ATTACH;FMTTYPE=image/jpeg:https://yuho-tsukitei.com/wp-content/uploads/2024/11/IMG_4712.jpeg
END:VEVENT
BEGIN:VEVENT
DTSTART;TZID=Asia/Tokyo:20250123T130000
DTEND;TZID=Asia/Tokyo:20250123T160000
DTSTAMP:20260425T025454
CREATED:20241122T223843Z
LAST-MODIFIED:20241122T223843Z
UID:3398-1737637200-1737648000@yuho-tsukitei.com
SUMMARY:第135回 上方演芸特選会
DESCRIPTION:日時：1月23日（木）午後1時開演（12時30分開場、3時50分終演予定） \n場所：国立文楽劇場小ホール（地下鉄・近鉄「日本橋」駅⑦出口より徒歩1分） \n出演：\n［落   語］ 桂   福枝\n［浪   曲］ 天中軒　すみれ\n［漫   談］ ナオユキ\n［落   語］ 月亭　遊方\n    ― 仲 入 ―\n［漫   才］ チキチキジョニー\n［太 神 楽］ 豊来家　板里\n［浪   曲］ 京山　幸枝若 \n料金：2\,300円、学生 1\,600円、シルバー（満65歳以上）      1\,700円（全席指定）\n     ※障害者の方と介護者1名は2割引（1\,840円）です     （他の割引と併用不可）。\n     ※インターネットでも学生料金・シルバー料金・障害      者割引による申し込みが可能です。 \nチケット＆問合せ：0570-07-9900 / 03-3230-3000\n              （国立劇場チケットセンター） \n電話・インターネット予約開始：2024年12月18日(水) 10:00～\n窓口販売開始：2024年12月19日(木)\n※窓口販売用に別枠でのお取り置きはございません。
URL:https://yuho-tsukitei.com/event/%e7%ac%ac135%e5%9b%9e-%e4%b8%8a%e6%96%b9%e6%bc%94%e8%8a%b8%e7%89%b9%e9%81%b8%e4%bc%9a-2
ATTACH;FMTTYPE=image/jpeg:https://yuho-tsukitei.com/wp-content/uploads/2024/11/IMG_4712.jpeg
END:VEVENT
BEGIN:VEVENT
DTSTART;TZID=Asia/Tokyo:20250124T130000
DTEND;TZID=Asia/Tokyo:20250124T160000
DTSTAMP:20260425T025454
CREATED:20241122T224103Z
LAST-MODIFIED:20241122T224103Z
UID:3400-1737723600-1737734400@yuho-tsukitei.com
SUMMARY:第135回 上方演芸特選会
DESCRIPTION:日時：1月24日（金）午後1時開演（12時30分開場、3時50分終演予定） \n場所：国立文楽劇場小ホール（地下鉄・近鉄「日本橋」駅⑦出口より徒歩1分） \n出演：\n［落   語］ 笑福亭　智丸\n［浪   曲］ 天中軒　すみれ\n［漫   談］ ナオユキ\n［落   語］ 月亭　遊方\n    ― 仲 入 ―\n［漫   才］ パピヨンズ\n［太 神 楽］ 豊来家　板里\n［浪   曲］ 京山　幸枝若 \n料金：2\,300円、学生 1\,600円、シルバー（満65歳以上）      1\,700円（全席指定）\n     ※障害者の方と介護者1名は2割引（1\,840円）です     （他の割引と併用不可）。\n     ※インターネットでも学生料金・シルバー料金・障害      者割引による申し込みが可能です。 \nチケット＆問合せ：0570-07-9900 / 03-3230-3000\n              （国立劇場チケットセンター） \n電話・インターネット予約開始：2024年12月18日(水) 10:00～\n窓口販売開始：2024年12月19日(木)\n※窓口販売用に別枠でのお取り置きはございません。
URL:https://yuho-tsukitei.com/event/%e7%ac%ac135%e5%9b%9e-%e4%b8%8a%e6%96%b9%e6%bc%94%e8%8a%b8%e7%89%b9%e9%81%b8%e4%bc%9a-3
ATTACH;FMTTYPE=image/jpeg:https://yuho-tsukitei.com/wp-content/uploads/2024/11/IMG_4712.jpeg
END:VEVENT
BEGIN:VEVENT
DTSTART;TZID=Asia/Tokyo:20250125T130000
DTEND;TZID=Asia/Tokyo:20250125T160000
DTSTAMP:20260425T025454
CREATED:20241122T224334Z
LAST-MODIFIED:20241122T224334Z
UID:3402-1737810000-1737820800@yuho-tsukitei.com
SUMMARY:第135回 上方演芸特選会
DESCRIPTION:日時：1月25日（土）午後1時開演（12時30分開場、3時50分終演予定） \n場所：国立文楽劇場小ホール（地下鉄・近鉄「日本橋」駅⑦出口より徒歩1分） \n出演：\n［落   語］ 桂　 福枝\n［浪   曲］ 天中軒　すみれ\n［漫   談］ ナオユキ\n［落   語］ 月亭　遊方\n    ― 仲 入 ―\n［漫   才］ パピヨンズ\n［太 神 楽］ 豊来家　板里\n［浪   曲］ 京山　幸枝若 \n料金：2\,300円、学生 1\,600円、シルバー（満65歳以上）      1\,700円（全席指定）\n     ※障害者の方と介護者1名は2割引（1\,840円）です     （他の割引と併用不可）。\n     ※インターネットでも学生料金・シルバー料金・障害      者割引による申し込みが可能です。 \nチケット＆問合せ：0570-07-9900 / 03-3230-3000\n              （国立劇場チケットセンター） \n電話・インターネット予約開始：2024年12月18日(水) 10:00～\n窓口販売開始：2024年12月19日(木)\n※窓口販売用に別枠でのお取り置きはございません。
URL:https://yuho-tsukitei.com/event/%e7%ac%ac135%e5%9b%9e-%e4%b8%8a%e6%96%b9%e6%bc%94%e8%8a%b8%e7%89%b9%e9%81%b8%e4%bc%9a-4
ATTACH;FMTTYPE=image/jpeg:https://yuho-tsukitei.com/wp-content/uploads/2024/11/IMG_4712.jpeg
END:VEVENT
END:VCALENDAR