BEGIN:VCALENDAR
VERSION:2.0
PRODID:-//遊方 FOR YOU! - ECPv6.15.20//NONSGML v1.0//EN
CALSCALE:GREGORIAN
METHOD:PUBLISH
X-WR-CALNAME:遊方 FOR YOU!
X-ORIGINAL-URL:https://yuho-tsukitei.com
X-WR-CALDESC:遊方 FOR YOU! のイベント
REFRESH-INTERVAL;VALUE=DURATION:PT1H
X-Robots-Tag:noindex
X-PUBLISHED-TTL:PT1H
BEGIN:VTIMEZONE
TZID:Asia/Tokyo
BEGIN:STANDARD
TZOFFSETFROM:+0900
TZOFFSETTO:+0900
TZNAME:JST
DTSTART:20240101T000000
END:STANDARD
END:VTIMEZONE
BEGIN:VEVENT
DTSTART;TZID=Asia/Tokyo:20250805T190000
DTEND;TZID=Asia/Tokyo:20250805T213000
DTSTAMP:20260424T055558
CREATED:20250413T130721Z
LAST-MODIFIED:20250603T233154Z
UID:3604-1754420400-1754429400@yuho-tsukitei.com
SUMMARY:百年長屋・遊方基地 #8
DESCRIPTION:日時：8月5日（火）午後7時開演（6時30分開場） \n場所：百年長屋（JR「玉造」駅、JR「森ノ宮」駅より徒歩6分） \n出演：月亭遊方：「両泥」他、新作落語1席\n     ゲスト：笑福亭松喬「子盗人」\n     ☆遊方 × 松喬 対談あり \n料金：予約2000円、当日2500円 \n予約＆問合せ：京升堂\n            075-279-2868\n            kyoushoudou@hotmail.com
URL:https://yuho-tsukitei.com/event/%e7%99%be%e5%b9%b4%e9%95%b7%e5%b1%8b%e3%83%bb%e9%81%8a%e6%96%b9%e5%9f%ba%e5%9c%b0-8
ATTACH;FMTTYPE=image/jpeg:https://yuho-tsukitei.com/wp-content/uploads/2025/04/25-8-5-yuho-ol.jpeg
END:VEVENT
BEGIN:VEVENT
DTSTART;TZID=Asia/Tokyo:20250811T133000
DTEND;TZID=Asia/Tokyo:20250811T163000
DTSTAMP:20260424T055558
CREATED:20250710T120131Z
LAST-MODIFIED:20250710T122202Z
UID:3771-1754919000-1754929800@yuho-tsukitei.com
SUMMARY:天満天神繁昌亭昼席
DESCRIPTION:日時：8月11日（月）午後1時30分開演（1時開場、4時10分終演予定） \n場所：天満天神繁昌亭（地下鉄「南森町」駅4-A出口より徒\n     歩3分） \n出演：桂健枝郎、桂和歌ぽん、月亭遊方、キングダムけんた\n    （ギター漫談）、笑福亭由瓶、桂文福 〜仲入り〜 桂\n     力造、桂わかば、横山ひろし・春けいこ（漫才）、桂\n     千朝\n     ※出演順 \n料金：前売2500円、当日2800円、65歳以上2300円/2500\n     円、身障者2000円/2200円、学生（25才未満）1000\n     円/1500円 \nチケット：チケットぴあ t.pia.jp 、セブンイレブン（ど\n         ちらもPコード：597-700）、繁昌亭窓口（11\n         時〜19時） \n問合せ：06-6352-4874（天満天神繁昌亭）
URL:https://yuho-tsukitei.com/event/%e5%a4%a9%e6%ba%80%e5%a4%a9%e7%a5%9e%e7%b9%81%e6%98%8c%e4%ba%ad%e6%98%bc%e5%b8%ad-35
ATTACH;FMTTYPE=image/jpeg:https://yuho-tsukitei.com/wp-content/uploads/2024/08/IMG_1407.jpeg
END:VEVENT
BEGIN:VEVENT
DTSTART;TZID=Asia/Tokyo:20250812T133000
DTEND;TZID=Asia/Tokyo:20250812T163000
DTSTAMP:20260424T055558
CREATED:20250710T120516Z
LAST-MODIFIED:20250710T121728Z
UID:3773-1755005400-1755016200@yuho-tsukitei.com
SUMMARY:天満天神繁昌亭昼席
DESCRIPTION:日時：8月12日（火）午後1時30分開演（1時開場、4時10分終演予定） \n場所：天満天神繁昌亭（地下鉄「南森町」駅4-A出口より徒\n     歩3分） \n出演：桂健枝郎、桂団治郎、月亭遊方、キングダムけんた\n    （ギター漫談）、笑福亭由瓶、桂文福 〜仲入り〜 笑\n     福亭鉄瓶、桂わかば、横山ひろし・春けいこ（漫\n     才）、桂千朝\n     ※出演順 \n料金：前売2500円、当日2800円、65歳以上2300円/2500\n     円、身障者2000円/2200円、学生（25才未満）1000\n     円/1500円 \nチケット：チケットぴあ t.pia.jp 、セブンイレブン（ど\n         ちらもPコード：597-700）、繁昌亭窓口（11\n         時〜19時） \n問合せ：06-6352-4874（天満天神繁昌亭）
URL:https://yuho-tsukitei.com/event/%e5%a4%a9%e6%ba%80%e5%a4%a9%e7%a5%9e%e7%b9%81%e6%98%8c%e4%ba%ad%e6%98%bc%e5%b8%ad-36
ATTACH;FMTTYPE=image/jpeg:https://yuho-tsukitei.com/wp-content/uploads/2025/07/IMG_1407.jpeg
END:VEVENT
BEGIN:VEVENT
DTSTART;TZID=Asia/Tokyo:20250813T133000
DTEND;TZID=Asia/Tokyo:20250813T163000
DTSTAMP:20260424T055558
CREATED:20250710T120722Z
LAST-MODIFIED:20250710T121848Z
UID:3776-1755091800-1755102600@yuho-tsukitei.com
SUMMARY:天満天神繁昌亭昼席
DESCRIPTION:日時：8月13日（水）午後1時30分開演（1時開場、4時10分終演予定） \n場所：天満天神繁昌亭（地下鉄「南森町」駅4-A出口より徒\n     歩3分） \n出演：桂健枝郎、桂和歌ぽん、月亭遊方、キングダムけんた\n    （ギター漫談）、笑福亭由瓶、桂文福 〜仲入り〜 笑\n     福亭鉄瓶、桂わかば、アルミカン（漫才）、桂千朝\n     ※出演順 \n料金：前売2500円、当日2800円、65歳以上2300円/2500\n     円、身障者2000円/2200円、学生（25才未満）1000\n     円/1500円 \nチケット：チケットぴあ t.pia.jp 、セブンイレブン（ど\n         ちらもPコード：597-700）、繁昌亭窓口（11\n         時〜19時） \n問合せ：06-6352-4874（天満天神繁昌亭）
URL:https://yuho-tsukitei.com/event/%e5%a4%a9%e6%ba%80%e5%a4%a9%e7%a5%9e%e7%b9%81%e6%98%8c%e4%ba%ad%e6%98%bc%e5%b8%ad-37
ATTACH;FMTTYPE=image/jpeg:https://yuho-tsukitei.com/wp-content/uploads/2025/07/IMG_1407.jpeg
END:VEVENT
BEGIN:VEVENT
DTSTART;TZID=Asia/Tokyo:20250814T133000
DTEND;TZID=Asia/Tokyo:20250814T163000
DTSTAMP:20260424T055558
CREATED:20250710T121001Z
LAST-MODIFIED:20250710T122008Z
UID:3778-1755178200-1755189000@yuho-tsukitei.com
SUMMARY:天満天神繁昌亭昼席
DESCRIPTION:日時：8月14日（木）午後1時30分開演（1時開場、4時10分終演予定） \n場所：天満天神繁昌亭（地下鉄「南森町」駅4-A出口より徒\n     歩3分） \n出演：桂八十助、桂和歌ぽん、月亭遊方、キングダムけんた\n    （ギター漫談）、笑福亭由瓶、桂文福 〜仲入り〜 桂\n     枝曾丸、桂わかば、横山ひろし・春けいこ（漫才）、\n     桂千朝\n     ※出演順 \n料金：前売2500円、当日2800円、65歳以上2300円/2500\n     円、身障者2000円/2200円、学生（25才未満）1000\n     円/1500円 \nチケット：チケットぴあ t.pia.jp 、セブンイレブン（ど\n         ちらもPコード：597-700）、繁昌亭窓口（11\n         時〜19時） \n問合せ：06-6352-4874（天満天神繁昌亭）
URL:https://yuho-tsukitei.com/event/%e5%a4%a9%e6%ba%80%e5%a4%a9%e7%a5%9e%e7%b9%81%e6%98%8c%e4%ba%ad%e6%98%bc%e5%b8%ad-38
ATTACH;FMTTYPE=image/jpeg:https://yuho-tsukitei.com/wp-content/uploads/2025/07/IMG_1407.jpeg
END:VEVENT
BEGIN:VEVENT
DTSTART;TZID=Asia/Tokyo:20250815T133000
DTEND;TZID=Asia/Tokyo:20250815T163000
DTSTAMP:20260424T055558
CREATED:20250710T121212Z
LAST-MODIFIED:20250710T122126Z
UID:3780-1755264600-1755275400@yuho-tsukitei.com
SUMMARY:天満天神繁昌亭昼席
DESCRIPTION:日時：8月15日（金）午後1時30分開演（1時開場、4時10分終演予定） \n場所：天満天神繁昌亭（地下鉄「南森町」駅4-A出口より徒\n     歩3分） \n出演：桂健枝郎、桂和歌ぽん、月亭遊方、キングダムけんた\n    （ギター漫談）、笑福亭由瓶、桂文福 〜仲入り〜 笑\n     福亭鉄瓶、桂わかば、アルミカン（漫才）、桂千朝\n     ※出演順 \n料金：前売2500円、当日2800円、65歳以上2300円/2500\n     円、身障者2000円/2200円、学生（25才未満）1000\n     円/1500円 \nチケット：チケットぴあ t.pia.jp 、セブンイレブン（ど\n         ちらもPコード：597-700）、繁昌亭窓口（11\n         時〜19時） \n問合せ：06-6352-4874（天満天神繁昌亭）
URL:https://yuho-tsukitei.com/event/%e5%a4%a9%e6%ba%80%e5%a4%a9%e7%a5%9e%e7%b9%81%e6%98%8c%e4%ba%ad%e6%98%bc%e5%b8%ad-39
ATTACH;FMTTYPE=image/jpeg:https://yuho-tsukitei.com/wp-content/uploads/2025/07/IMG_1407.jpeg
END:VEVENT
BEGIN:VEVENT
DTSTART;TZID=Asia/Tokyo:20250816T133000
DTEND;TZID=Asia/Tokyo:20250816T163000
DTSTAMP:20260424T055558
CREATED:20250710T121402Z
LAST-MODIFIED:20250710T121402Z
UID:3782-1755351000-1755361800@yuho-tsukitei.com
SUMMARY:天満天神繁昌亭昼席
DESCRIPTION:日時：8月16日（土）午後1時30分開演（1時開場、4時10分終演予定） \n場所：天満天神繁昌亭（地下鉄「南森町」駅4-A出口より徒\n     歩3分） \n出演：桂健枝郎、桂団治郎、月亭遊方、キングダムけんた\n    （ギター漫談）、笑福亭由瓶、桂文福 〜仲入り〜 笑\n     福亭鉄瓶、桂わかば、チキチキジョニー（漫才）、桂\n     千朝\n     ※出演順 \n料金：前売2500円、当日2800円、65歳以上2300円/2500\n     円、身障者2000円/2200円、学生（25才未満）1000\n     円/1500円 \nチケット：チケットぴあ t.pia.jp 、セブンイレブン（ど\n         ちらもPコード：597-700）、繁昌亭窓口（11\n         時〜19時） \n問合せ：06-6352-4874（天満天神繁昌亭）
URL:https://yuho-tsukitei.com/event/%e5%a4%a9%e6%ba%80%e5%a4%a9%e7%a5%9e%e7%b9%81%e6%98%8c%e4%ba%ad%e6%98%bc%e5%b8%ad-40
ATTACH;FMTTYPE=image/jpeg:https://yuho-tsukitei.com/wp-content/uploads/2025/07/IMG_1407.jpeg
END:VEVENT
BEGIN:VEVENT
DTSTART;TZID=Asia/Tokyo:20250817T133000
DTEND;TZID=Asia/Tokyo:20250817T163000
DTSTAMP:20260424T055558
CREATED:20250710T121619Z
LAST-MODIFIED:20250710T121619Z
UID:3784-1755437400-1755448200@yuho-tsukitei.com
SUMMARY:天満天神繁昌亭昼席
DESCRIPTION:日時：8月17日（日）午後1時30分開演（1時開場、4時10分終演予定） \n場所：天満天神繁昌亭（地下鉄「南森町」駅4-A出口より徒\n     歩3分） \n出演：桂健枝郎、桂団治郎、月亭遊方、キングダムけんた\n    （ギター漫談）、笑福亭由瓶、桂文福 〜仲入り〜 桂\n     枝曾丸、桂わかば、チキチキジョニー（漫才）、桂千\n     朝\n     ※出演順 \n料金：前売2500円、当日2800円、65歳以上2300円/2500\n     円、身障者2000円/2200円、学生（25才未満）1000\n     円/1500円 \nチケット：チケットぴあ t.pia.jp 、セブンイレブン（ど\n         ちらもPコード：597-700）、繁昌亭窓口（11\n         時〜19時） \n問合せ：06-6352-4874（天満天神繁昌亭）
URL:https://yuho-tsukitei.com/event/%e5%a4%a9%e6%ba%80%e5%a4%a9%e7%a5%9e%e7%b9%81%e6%98%8c%e4%ba%ad%e6%98%bc%e5%b8%ad-41
ATTACH;FMTTYPE=image/jpeg:https://yuho-tsukitei.com/wp-content/uploads/2025/07/IMG_1407.jpeg
END:VEVENT
BEGIN:VEVENT
DTSTART;TZID=Asia/Tokyo:20250822T183000
DTEND;TZID=Asia/Tokyo:20250822T210000
DTSTAMP:20260424T055558
CREATED:20250625T150542Z
LAST-MODIFIED:20250625T150542Z
UID:3739-1755887400-1755896400@yuho-tsukitei.com
SUMMARY:坂本頼光オンステージ in 大須
DESCRIPTION:日時：8月22日（金）午後6時30分開演（6時開場） \n場所：大須演芸場（名古屋市中区大須2丁目19-39 / 地下\n     鉄「大須観音」駅②番出口より徒歩5分） \n出演：坂本頼光\n     ゲスト：月亭遊方 \n料金：前売当日とも3500円（全席指定） \nチケット＆問合せ：MUGEプランニング\n               mugeplan51@au.com\n               070-2673-1203
URL:https://yuho-tsukitei.com/event/%e5%9d%82%e6%9c%ac%e9%a0%bc%e5%85%89%e3%82%aa%e3%83%b3%e3%82%b9%e3%83%86%e3%83%bc%e3%82%b8-in-%e5%a4%a7%e9%a0%88
ATTACH;FMTTYPE=image/jpeg:https://yuho-tsukitei.com/wp-content/uploads/2025/06/IMG_0334.jpeg
END:VEVENT
BEGIN:VEVENT
DTSTART;TZID=Asia/Tokyo:20250823T160000
DTEND;TZID=Asia/Tokyo:20250823T180000
DTSTAMP:20260424T055558
CREATED:20250625T150048Z
LAST-MODIFIED:20250625T150048Z
UID:3736-1755964800-1755972000@yuho-tsukitei.com
SUMMARY:月亭遊方 in 岐阜 まめな落語会
DESCRIPTION:日時：8月23日（土）午後4時開演（3時30分開場） \n場所：珈琲家まめ（岐阜県揖斐郡揖斐川町市場194）\n     ※駐車場あり \n出演：月亭遊方『ベガーズバンケット』他 \n料金：2500円（1ドリンク付） \n予約＆問合せ：0585-52-9193（珈琲家まめ）\n            gifudeufo@gmai.com（事務局）
URL:https://yuho-tsukitei.com/event/%e6%9c%88%e4%ba%ad%e9%81%8a%e6%96%b9-in-%e5%b2%90%e9%98%9c-%e3%81%be%e3%82%81%e3%81%aa%e8%90%bd%e8%aa%9e%e4%bc%9a
ATTACH;FMTTYPE=image/jpeg:https://yuho-tsukitei.com/wp-content/uploads/2025/06/IMG_1100.jpeg
END:VEVENT
BEGIN:VEVENT
DTSTART;TZID=Asia/Tokyo:20250830T183000
DTEND;TZID=Asia/Tokyo:20250830T203000
DTSTAMP:20260424T055558
CREATED:20250625T151104Z
LAST-MODIFIED:20250720T050424Z
UID:3742-1756578600-1756585800@yuho-tsukitei.com
SUMMARY:月亭遊方の噺の招待席＃2
DESCRIPTION:日時：8月30日（土）午後6時30分開演（6時開場、8時30分\n     終演）\n     ※甲子園球場で阪神戦ナイターの日ですが、お帰りの\n      阪神電車、混み合わない時間に終わります \n場所：西宮えびす亭（阪神｢西宮」駅より徒歩5分 / 西宮市\n     和上町8-14） \n出演：月亭遊方『つぼ算』『算段の平兵衛』他1席あるかも\n     ☆各演目の考察、エピソード、裏話等あり\n     ※生三味線ではありません \n料金：予約当日とも2500円（定員25名） \n予約＆問合せ：km@fujinabe.com（FUJI鍋）\n            072-355-8286（FUJI鍋）
URL:https://yuho-tsukitei.com/event/%e6%9c%88%e4%ba%ad%e9%81%8a%e6%96%b9%e3%81%ae%e5%99%ba%e3%81%ae%e6%8b%9b%e5%be%85%e5%b8%ad%ef%bc%832
ATTACH;FMTTYPE=image/jpeg:https://yuho-tsukitei.com/wp-content/uploads/2025/06/IMG_2949.jpeg
END:VEVENT
END:VCALENDAR