BEGIN:VCALENDAR
VERSION:2.0
PRODID:-//遊方 FOR YOU! - ECPv6.15.20//NONSGML v1.0//EN
CALSCALE:GREGORIAN
METHOD:PUBLISH
X-ORIGINAL-URL:https://yuho-tsukitei.com
X-WR-CALDESC:遊方 FOR YOU! のイベント
REFRESH-INTERVAL;VALUE=DURATION:PT1H
X-Robots-Tag:noindex
X-PUBLISHED-TTL:PT1H
BEGIN:VTIMEZONE
TZID:Asia/Tokyo
BEGIN:STANDARD
TZOFFSETFROM:+0900
TZOFFSETTO:+0900
TZNAME:JST
DTSTART:20220101T000000
END:STANDARD
END:VTIMEZONE
BEGIN:VEVENT
DTSTART;TZID=Asia/Tokyo:20230923T140000
DTEND;TZID=Asia/Tokyo:20230923T163000
DTSTAMP:20260426T130357
CREATED:20230808T122614Z
LAST-MODIFIED:20230808T122614Z
UID:2664-1695477600-1695486600@yuho-tsukitei.com
SUMMARY:月亭一門会（福井県）
DESCRIPTION:日時：9月23日（土祝）午後2時開演（1時30分開場） \n場所：パレア若狭音楽ホール \n出演：月亭八方、月亭遊方、月亭八光、月亭方正 \n料金：3000円  高校生以下1000円 ※未就学児入場不可 \nチケット＆問合せ：0770-62-2506（パレア若狭チケットカウンター）
URL:https://yuho-tsukitei.com/event/%e6%9c%88%e4%ba%ad%e4%b8%80%e9%96%80%e4%bc%9a%ef%bc%88%e7%a6%8f%e4%ba%95%e7%9c%8c%ef%bc%89
ATTACH;FMTTYPE=image/jpeg:https://yuho-tsukitei.com/wp-content/uploads/2023/08/IMG_6433.jpeg
END:VEVENT
END:VCALENDAR