BEGIN:VCALENDAR
VERSION:2.0
PRODID:-//遊方 FOR YOU! - ECPv6.15.20//NONSGML v1.0//EN
CALSCALE:GREGORIAN
METHOD:PUBLISH
X-ORIGINAL-URL:https://yuho-tsukitei.com
X-WR-CALDESC:遊方 FOR YOU! のイベント
REFRESH-INTERVAL;VALUE=DURATION:PT1H
X-Robots-Tag:noindex
X-PUBLISHED-TTL:PT1H
BEGIN:VTIMEZONE
TZID:Asia/Tokyo
BEGIN:STANDARD
TZOFFSETFROM:+0900
TZOFFSETTO:+0900
TZNAME:JST
DTSTART:20220101T000000
END:STANDARD
END:VTIMEZONE
BEGIN:VEVENT
DTSTART;TZID=Asia/Tokyo:20231110T133000
DTEND;TZID=Asia/Tokyo:20231110T163000
DTSTAMP:20260426T095658
CREATED:20230924T092844Z
LAST-MODIFIED:20230924T092844Z
UID:2715-1699623000-1699633800@yuho-tsukitei.com
SUMMARY:天満天神繁昌亭昼席
DESCRIPTION:日時：11月10日（金）午後1時30分開演（1時開場、4時過ぎ終演）\n場所：天満天神繁昌亭（（地下鉄「南森町」駅4-A出口より徒歩3分） \n出演：露の新幸、桂小梅、月亭遊方、こんばらさん（お笑いマジック）、露の眞、桂米左 〜中入り〜 笑福亭生寿、笑福亭達瓶、幸助福助（漫才）、笑福亭呂鶴 ※出演順 \n料金：前売2500円、当日2800円  /  65歳以上 前売2300円、当日2500円 / 身障者 前売2000円、当日2200円 / 学生（25歳未満）前売1000円 当日1500円   ※各種料金要証明書 \nチケット＆問合せ：06-6352-4874（天満天神繁昌亭）
URL:https://yuho-tsukitei.com/event/%e5%a4%a9%e6%ba%80%e5%a4%a9%e7%a5%9e%e7%b9%81%e6%98%8c%e4%ba%ad%e6%98%bc%e5%b8%ad-18
ATTACH;FMTTYPE=image/jpeg:https://yuho-tsukitei.com/wp-content/uploads/2023/09/IMG_1407.jpeg
END:VEVENT
BEGIN:VEVENT
DTSTART;TZID=Asia/Tokyo:20231110T193000
DTEND;TZID=Asia/Tokyo:20231110T210000
DTSTAMP:20260426T095658
CREATED:20231007T233658Z
LAST-MODIFIED:20231029T130344Z
UID:2751-1699644600-1699650000@yuho-tsukitei.com
SUMMARY:此花千鳥亭 金曜JAM vol.2
DESCRIPTION:日時：11月10日（金）午後7時30分開演（7時開場、9時終演） \n場所：此花千鳥亭（阪神電鉄「千鳥橋」駅より徒歩5分）\n     大阪市此花区梅香３丁目２０−１７ \n出演：月亭遊方、旭堂南龍、旭堂南照 \n料金：予約1000円 \n予約＆問合せ：此花千鳥亭ホームページよりhttps://www.konohana-chidoritei.com/jam/
URL:https://yuho-tsukitei.com/event/%e6%ad%a4%e8%8a%b1%e5%8d%83%e9%b3%a5%e4%ba%ad-%e9%87%91%e6%9b%9cjam-vol-2
ATTACH;FMTTYPE=image/jpeg:https://yuho-tsukitei.com/wp-content/uploads/2023/10/IMG_9082.jpeg
END:VEVENT
END:VCALENDAR