BEGIN:VCALENDAR
VERSION:2.0
PRODID:-//遊方 FOR YOU! - ECPv6.15.20//NONSGML v1.0//EN
CALSCALE:GREGORIAN
METHOD:PUBLISH
X-ORIGINAL-URL:https://yuho-tsukitei.com
X-WR-CALDESC:遊方 FOR YOU! のイベント
REFRESH-INTERVAL;VALUE=DURATION:PT1H
X-Robots-Tag:noindex
X-PUBLISHED-TTL:PT1H
BEGIN:VTIMEZONE
TZID:Asia/Tokyo
BEGIN:STANDARD
TZOFFSETFROM:+0900
TZOFFSETTO:+0900
TZNAME:JST
DTSTART:20220101T000000
END:STANDARD
END:VTIMEZONE
BEGIN:VEVENT
DTSTART;TZID=Asia/Tokyo:20231118T140000
DTEND;TZID=Asia/Tokyo:20231118T163000
DTSTAMP:20260426T095633
CREATED:20230924T094455Z
LAST-MODIFIED:20230924T094455Z
UID:2723-1700316000-1700325000@yuho-tsukitei.com
SUMMARY:第2回 長岡京奮闘落語会
DESCRIPTION:日時：11月18日（土）午後2時開演（1時30分開場、3時半過ぎ終演予定） \n場所：長岡京市中央生涯学習センター3階メインホール（JR「長岡京」駅西口直結） \n出演：笑福亭笑利、桂鞠輔、桂鯛蔵 〜中入り〜 月亭遊方、桂三幸 \n料金：前売1500円、当日2000円（全席自由）※10月2日10:30予約開始 \n申し込み＆お問合せ：075-963-5500（長岡京市中央生涯学習センター）
URL:https://yuho-tsukitei.com/event/%e7%ac%ac2%e5%9b%9e-%e9%95%b7%e5%b2%a1%e4%ba%ac%e5%a5%ae%e9%97%98%e8%90%bd%e8%aa%9e%e4%bc%9a
ATTACH;FMTTYPE=image/jpeg:https://yuho-tsukitei.com/wp-content/uploads/2023/09/IMG_8637-scaled.jpeg
END:VEVENT
END:VCALENDAR