BEGIN:VCALENDAR
VERSION:2.0
PRODID:-//遊方 FOR YOU! - ECPv6.15.20//NONSGML v1.0//EN
CALSCALE:GREGORIAN
METHOD:PUBLISH
X-WR-CALNAME:遊方 FOR YOU!
X-ORIGINAL-URL:https://yuho-tsukitei.com
X-WR-CALDESC:遊方 FOR YOU! のイベント
REFRESH-INTERVAL;VALUE=DURATION:PT1H
X-Robots-Tag:noindex
X-PUBLISHED-TTL:PT1H
BEGIN:VTIMEZONE
TZID:Asia/Tokyo
BEGIN:STANDARD
TZOFFSETFROM:+0900
TZOFFSETTO:+0900
TZNAME:JST
DTSTART:20230101T000000
END:STANDARD
END:VTIMEZONE
BEGIN:VEVENT
DTSTART;TZID=Asia/Tokyo:20240103T143000
DTEND;TZID=Asia/Tokyo:20240103T170000
DTSTAMP:20260426T064342
CREATED:20231027T235730Z
LAST-MODIFIED:20231027T235730Z
UID:2769-1704292200-1704301200@yuho-tsukitei.com
SUMMARY:天満天神繁昌亭新春特別公演３日目第２回
DESCRIPTION:日時：2024年1月3日（水）午後2時30分開演（2時開場、5時頃終演） \n場所：天満天神繁昌亭（地下鉄「南森町」駅4-A出口より徒歩3分） \n出演：笑福亭呂翔、桂三若、月亭遊方、笑福亭智之介（マジック）、露の都 〜中入り〜 桂文福（歌謡笑）、笑福亭仁福、桂福團治 ※出演順 \n料金：前売3500円、当日4000円  /  65歳以上 前売3300円 / 身障者 前売3000円、当日3500円 / ※各種料金要証明書 \nチケット＆問合せ：チケットぴあ（Pコード597-700）\n               06-6352-4874（天満天神繁昌亭）
URL:https://yuho-tsukitei.com/event/%e5%a4%a9%e6%ba%80%e5%a4%a9%e7%a5%9e%e7%b9%81%e6%98%8c%e4%ba%ad%e6%96%b0%e6%98%a5%e7%89%b9%e5%88%a5%e5%85%ac%e6%bc%94%ef%bc%93%e6%97%a5%e7%9b%ae%e7%ac%ac%ef%bc%92%e5%9b%9e
ATTACH;FMTTYPE=image/jpeg:https://yuho-tsukitei.com/wp-content/uploads/2023/10/IMG_9937.jpeg
END:VEVENT
END:VCALENDAR