BEGIN:VCALENDAR
VERSION:2.0
PRODID:-//遊方 FOR YOU! - ECPv6.15.20//NONSGML v1.0//EN
CALSCALE:GREGORIAN
METHOD:PUBLISH
X-ORIGINAL-URL:https://yuho-tsukitei.com
X-WR-CALDESC:遊方 FOR YOU! のイベント
REFRESH-INTERVAL;VALUE=DURATION:PT1H
X-Robots-Tag:noindex
X-PUBLISHED-TTL:PT1H
BEGIN:VTIMEZONE
TZID:Asia/Tokyo
BEGIN:STANDARD
TZOFFSETFROM:+0900
TZOFFSETTO:+0900
TZNAME:JST
DTSTART:20230101T000000
END:STANDARD
END:VTIMEZONE
BEGIN:VEVENT
DTSTART;TZID=Asia/Tokyo:20240128T120000
DTEND;TZID=Asia/Tokyo:20240128T133000
DTSTAMP:20260426T064516
CREATED:20231212T172249Z
LAST-MODIFIED:20231212T172249Z
UID:2802-1706443200-1706448600@yuho-tsukitei.com
SUMMARY:タコ焼き落語
DESCRIPTION:日時：1月28日（日）午後12時開演（11時30分開場、1時30分終演予定） \n場所：表現者工房5Fブラン（JR「寺田町」駅北口より徒歩15分 大阪市生野区生野東2丁目1-17） \n出演：月亭遊方「たこ焼きの出てくる新作落語」「時うどん」\nタコ焼き：真銅美織\n☆落語と落語の間に熱々タコ焼きタイム、その間に楽しい落語解説もございます \n料金：2500円（タコ焼き8個付き）\n※おかわりは500円、ドリンクなども販売しています。 \n予約＆問合せ：iksalonhyogensha@gmail.com\n06-6147-2897（表現者工房 平日10時〜19時）
URL:https://yuho-tsukitei.com/event/%e3%82%bf%e3%82%b3%e7%84%bc%e3%81%8d%e8%90%bd%e8%aa%9e
ATTACH;FMTTYPE=image/jpeg:https://yuho-tsukitei.com/wp-content/uploads/2023/12/IMG_1061.jpeg
END:VEVENT
END:VCALENDAR