BEGIN:VCALENDAR
VERSION:2.0
PRODID:-//遊方 FOR YOU! - ECPv6.15.20//NONSGML v1.0//EN
CALSCALE:GREGORIAN
METHOD:PUBLISH
X-WR-CALNAME:遊方 FOR YOU!
X-ORIGINAL-URL:https://yuho-tsukitei.com
X-WR-CALDESC:遊方 FOR YOU! のイベント
REFRESH-INTERVAL;VALUE=DURATION:PT1H
X-Robots-Tag:noindex
X-PUBLISHED-TTL:PT1H
BEGIN:VTIMEZONE
TZID:Asia/Tokyo
BEGIN:STANDARD
TZOFFSETFROM:+0900
TZOFFSETTO:+0900
TZNAME:JST
DTSTART:20230101T000000
END:STANDARD
END:VTIMEZONE
BEGIN:VEVENT
DTSTART;TZID=Asia/Tokyo:20240204T183000
DTEND;TZID=Asia/Tokyo:20240204T210000
DTSTAMP:20260426T050547
CREATED:20231028T002037Z
LAST-MODIFIED:20231028T002037Z
UID:2774-1707071400-1707080400@yuho-tsukitei.com
SUMMARY:文蔵組大落語会「音曲噺特集」
DESCRIPTION:日時：2024年2月4日（日）午後6時30分開演（6時開場） \n場所：渋谷ユーロライブ（JR「渋谷」駅から徒歩10分） \n出演：春風亭一朝『稽古屋』、月亭遊方『パンチ！パンチ！パンチ！』、古今亭菊之丞『法事の茶』、柳家小せん『昭和音曲噺』、林家正楽（紙切り） \n料金：前売4500円、当日5000円（全席指定） \nチケット＆問合せ：チケットぴあ（Pコード521-725）\n050-3503-3639 / tsunagariyose@gmail.com（つながり寄席）
URL:https://yuho-tsukitei.com/event/%e6%96%87%e8%94%b5%e7%b5%84%e5%a4%a7%e8%90%bd%e8%aa%9e%e4%bc%9a%e3%80%8c%e9%9f%b3%e6%9b%b2%e5%99%ba%e7%89%b9%e9%9b%86%e3%80%8d
ATTACH;FMTTYPE=image/jpeg:https://yuho-tsukitei.com/wp-content/uploads/2023/10/IMG_9742.jpeg
END:VEVENT
END:VCALENDAR