BEGIN:VCALENDAR
VERSION:2.0
PRODID:-//遊方 FOR YOU! - ECPv6.15.20//NONSGML v1.0//EN
CALSCALE:GREGORIAN
METHOD:PUBLISH
X-ORIGINAL-URL:https://yuho-tsukitei.com
X-WR-CALDESC:遊方 FOR YOU! のイベント
REFRESH-INTERVAL;VALUE=DURATION:PT1H
X-Robots-Tag:noindex
X-PUBLISHED-TTL:PT1H
BEGIN:VTIMEZONE
TZID:Asia/Tokyo
BEGIN:STANDARD
TZOFFSETFROM:+0900
TZOFFSETTO:+0900
TZNAME:JST
DTSTART:20230101T000000
END:STANDARD
END:VTIMEZONE
BEGIN:VEVENT
DTSTART;TZID=Asia/Tokyo:20240210T140000
DTEND;TZID=Asia/Tokyo:20240210T153000
DTSTAMP:20260426T035032
CREATED:20240108T122849Z
LAST-MODIFIED:20240127T212104Z
UID:2829-1707573600-1707579000@yuho-tsukitei.com
SUMMARY:第195回 池田落語みゅーじあむ寄席
DESCRIPTION:日時：2月10日（土）午後2時開演（1時開場、3時30分終演） \n場所：池田落語みゅーじあむ（阪急「池田」駅より徒歩10分、池田市栄本町7-3） \n出演：桂雪鹿、桂三河『河豚鍋』、月亭遊方『お楽しみ』（出演順） \n料金：予約1000円（当日1500円） \n申し込み＆問合せ：072-753-4440（池田落語みゅーじあむ）
URL:https://yuho-tsukitei.com/event/%e7%ac%ac195%e5%9b%9e-%e6%b1%a0%e7%94%b0%e8%90%bd%e8%aa%9e%e3%81%bf%e3%82%85%e3%83%bc%e3%81%98%e3%81%82%e3%82%80%e5%af%84%e5%b8%ad
ATTACH;FMTTYPE=image/jpeg:https://yuho-tsukitei.com/wp-content/uploads/2024/01/IMG_3470.jpeg
END:VEVENT
END:VCALENDAR