BEGIN:VCALENDAR
VERSION:2.0
PRODID:-//遊方 FOR YOU! - ECPv6.15.20//NONSGML v1.0//EN
CALSCALE:GREGORIAN
METHOD:PUBLISH
X-ORIGINAL-URL:https://yuho-tsukitei.com
X-WR-CALDESC:遊方 FOR YOU! のイベント
REFRESH-INTERVAL;VALUE=DURATION:PT1H
X-Robots-Tag:noindex
X-PUBLISHED-TTL:PT1H
BEGIN:VTIMEZONE
TZID:Asia/Tokyo
BEGIN:STANDARD
TZOFFSETFROM:+0900
TZOFFSETTO:+0900
TZNAME:JST
DTSTART:20230101T000000
END:STANDARD
END:VTIMEZONE
BEGIN:VEVENT
DTSTART;TZID=Asia/Tokyo:20240225T140000
DTEND;TZID=Asia/Tokyo:20240225T163000
DTSTAMP:20260426T034926
CREATED:20240207T143205Z
LAST-MODIFIED:20240207T143205Z
UID:2864-1708869600-1708878600@yuho-tsukitei.com
SUMMARY:神戸新開地・喜楽館〜猫LOVEウィーク Supported by フェリシモ猫部〜
DESCRIPTION:日時：2月25日（日）午後2時開演（1時30分開場、4時半頃終演） \n場所：神戸新開地・喜楽館（各線「新開地」駅東改札③番出口より徒歩2分） \n出演：桂米舞（開演前の一席）、月亭太遊、笑福亭飛梅、木村ライダー（ギター漫談）、桂米紫 〜仲入り〜 猫トーク、桂佐ん吉、月亭遊方 \n料金：前売2300円、当日2800円  /  以下前売当日共：65歳以上2300円、障がい者・高校・大学生2000円、小中学生1500円  ※要証明書 \nチケット＆問合せ：078-335-7088（神戸新開地・喜楽館）
URL:https://yuho-tsukitei.com/event/%e7%a5%9e%e6%88%b8%e6%96%b0%e9%96%8b%e5%9c%b0%e3%83%bb%e5%96%9c%e6%a5%bd%e9%a4%a8%e3%80%9c%e7%8c%ablove%e3%82%a6%e3%82%a3%e3%83%bc%e3%82%af-supported-by-%e3%83%95%e3%82%a7%e3%83%aa%e3%82%b7%e3%83%a2-5
ATTACH;FMTTYPE=image/jpeg:https://yuho-tsukitei.com/wp-content/uploads/2024/02/IMG_3873.jpeg
END:VEVENT
END:VCALENDAR