BEGIN:VCALENDAR
VERSION:2.0
PRODID:-//遊方 FOR YOU! - ECPv6.15.20//NONSGML v1.0//EN
CALSCALE:GREGORIAN
METHOD:PUBLISH
X-WR-CALNAME:遊方 FOR YOU!
X-ORIGINAL-URL:https://yuho-tsukitei.com
X-WR-CALDESC:遊方 FOR YOU! のイベント
REFRESH-INTERVAL;VALUE=DURATION:PT1H
X-Robots-Tag:noindex
X-PUBLISHED-TTL:PT1H
BEGIN:VTIMEZONE
TZID:Asia/Tokyo
BEGIN:STANDARD
TZOFFSETFROM:+0900
TZOFFSETTO:+0900
TZNAME:JST
DTSTART:20230101T000000
END:STANDARD
END:VTIMEZONE
BEGIN:VEVENT
DTSTART;TZID=Asia/Tokyo:20240311T140000
DTEND;TZID=Asia/Tokyo:20240311T163000
DTSTAMP:20260426T034748
CREATED:20240207T150416Z
LAST-MODIFIED:20240221T202107Z
UID:2880-1710165600-1710174600@yuho-tsukitei.com
SUMMARY:喜楽館AWARDファイナリストウィーク・桂佐ん吉の巻
DESCRIPTION:日時：3月11日（月）午後2時開演（1時30分開場、4時半頃終演） \n場所：神戸新開地・喜楽館（各線「新開地」駅東改札③番出口より徒歩2分） \n出演：開演前の一席未定、笑福亭笑利、月亭秀都、桂小鯛、桂米團治 〜仲入り〜 月亭遊方、内海英華（女道楽）、桂佐ん吉 \n料金：前売2300円、当日2800円  /  以下前売当日共：65歳以上2300円、障がい者・高校・大学生2000円、小中学生1500円  ※要証明書 \n問合せ：078-335-7088（神戸新開地・喜楽館）
URL:https://yuho-tsukitei.com/event/%e5%96%9c%e6%a5%bd%e9%a4%a8award%e3%83%95%e3%82%a1%e3%82%a4%e3%83%8a%e3%83%aa%e3%82%b9%e3%83%88%e3%82%a6%e3%82%a3%e3%83%bc%e3%82%af%e3%83%bb%e6%a1%82%e4%bd%90%e3%82%93%e5%90%89%e3%81%ae%e5%b7%bb
ATTACH;FMTTYPE=image/jpeg:https://yuho-tsukitei.com/wp-content/uploads/2024/02/IMG_4291.jpeg
END:VEVENT
END:VCALENDAR