BEGIN:VCALENDAR
VERSION:2.0
PRODID:-//遊方 FOR YOU! - ECPv6.15.20//NONSGML v1.0//EN
CALSCALE:GREGORIAN
METHOD:PUBLISH
X-ORIGINAL-URL:https://yuho-tsukitei.com
X-WR-CALDESC:遊方 FOR YOU! のイベント
REFRESH-INTERVAL;VALUE=DURATION:PT1H
X-Robots-Tag:noindex
X-PUBLISHED-TTL:PT1H
BEGIN:VTIMEZONE
TZID:Asia/Tokyo
BEGIN:STANDARD
TZOFFSETFROM:+0900
TZOFFSETTO:+0900
TZNAME:JST
DTSTART:20230101T000000
END:STANDARD
END:VTIMEZONE
BEGIN:VEVENT
DTSTART;TZID=Asia/Tokyo:20240314T140000
DTEND;TZID=Asia/Tokyo:20240314T163000
DTSTAMP:20260426T035041
CREATED:20240207T145914Z
LAST-MODIFIED:20240207T145914Z
UID:2878-1710424800-1710433800@yuho-tsukitei.com
SUMMARY:動楽亭昼席
DESCRIPTION:日時：3月14日（木）午後2時開演（1時30分開場、4時半頃終演） \n場所：動楽亭（地下鉄「動物園前」駅①番出口上がってすぐ目の前、コンビニストアの上2階） \n出演：桂りょうば、桂そうば、桂吉の丞、月亭遊方 〜中入り〜 桂ひろば、桂文之助 \n料金：当日のみ2500円（全席自由） \n問合せ：06-6365-8281（米朝事務所）
URL:https://yuho-tsukitei.com/event/%e5%8b%95%e6%a5%bd%e4%ba%ad%e6%98%bc%e5%b8%ad-10
ATTACH;FMTTYPE=image/jpeg:https://yuho-tsukitei.com/wp-content/uploads/2024/02/IMG_3891.jpeg
END:VEVENT
END:VCALENDAR