BEGIN:VCALENDAR
VERSION:2.0
PRODID:-//遊方 FOR YOU! - ECPv6.15.20//NONSGML v1.0//EN
CALSCALE:GREGORIAN
METHOD:PUBLISH
X-ORIGINAL-URL:https://yuho-tsukitei.com
X-WR-CALDESC:遊方 FOR YOU! のイベント
REFRESH-INTERVAL;VALUE=DURATION:PT1H
X-Robots-Tag:noindex
X-PUBLISHED-TTL:PT1H
BEGIN:VTIMEZONE
TZID:Asia/Tokyo
BEGIN:STANDARD
TZOFFSETFROM:+0900
TZOFFSETTO:+0900
TZNAME:JST
DTSTART:20230101T000000
END:STANDARD
END:VTIMEZONE
BEGIN:VEVENT
DTSTART;TZID=Asia/Tokyo:20240324T130000
DTEND;TZID=Asia/Tokyo:20240324T150000
DTSTAMP:20260426T004913
CREATED:20240207T192835Z
LAST-MODIFIED:20240207T195252Z
UID:2891-1711285200-1711292400@yuho-tsukitei.com
SUMMARY:演劇落語×月亭遊方落語
DESCRIPTION:※この回のみ未就学児参加可公演 \n日時：3月23日（土）午後1時開演（12時30分開場、3時頃終演） \n場所：表現者工房５Fブラン（JR「寺田町」駅北口より徒歩5分 / 大阪市生野区生野東2-1-27） \n出演：坂口修一×矢内文章 演劇落語『禁酒番屋』『死神』\n     月亭遊方 落語『持ち物検査』 \n料金：前売一般3500円、25歳以下3000円、未就学児：無料\n    （24日13時の回のみ）\n     ※当日は各500円アップ \nチケット：https://iksalon-hyogensha.com/lp/engekirakugo20240323 \n問合せ：06-6147-2897（平日10時〜19時）
URL:https://yuho-tsukitei.com/event/%e6%bc%94%e5%8a%87%e8%90%bd%e8%aa%9ex%e6%9c%88%e4%ba%ad%e9%81%8a%e6%96%b9%e8%90%bd%e8%aa%9e-2
ATTACH;FMTTYPE=image/jpeg:https://yuho-tsukitei.com/wp-content/uploads/2024/02/IMG_3896-1.jpeg
END:VEVENT
BEGIN:VEVENT
DTSTART;TZID=Asia/Tokyo:20240324T180000
DTEND;TZID=Asia/Tokyo:20240324T200000
DTSTAMP:20260426T004913
CREATED:20240207T193304Z
LAST-MODIFIED:20240207T195435Z
UID:2893-1711303200-1711310400@yuho-tsukitei.com
SUMMARY:演劇落語×月亭遊方落語
DESCRIPTION:日時：3月24日（土）午後6時開演（5時30分開場、8時頃終演） \n場所：表現者工房５Fブラン（JR「寺田町」駅北口より徒歩5分 / 大阪市生野区生野東2-1-27） \n出演：坂口修一×矢内文章 演劇落語『禁酒番屋』『死神』\n     月亭遊方 落語『持ち物検査』 \n料金：前売一般3500円、25歳以下3000円、未就学児：無料\n    （24日13時の回のみ）\n     ※当日は各500円アップ \nチケット：https://iksalon-hyogensha.com/lp/engekirakugo20240323 \n問合せ：06-6147-2897（平日10時〜19時）
URL:https://yuho-tsukitei.com/event/%e6%bc%94%e5%8a%87%e8%90%bd%e8%aa%9ex%e6%9c%88%e4%ba%ad%e9%81%8a%e6%96%b9%e8%90%bd%e8%aa%9e-3
ATTACH;FMTTYPE=image/jpeg:https://yuho-tsukitei.com/wp-content/uploads/2024/02/IMG_3896-1.jpeg
END:VEVENT
END:VCALENDAR