BEGIN:VCALENDAR
VERSION:2.0
PRODID:-//遊方 FOR YOU! - ECPv6.15.20//NONSGML v1.0//EN
CALSCALE:GREGORIAN
METHOD:PUBLISH
X-ORIGINAL-URL:https://yuho-tsukitei.com
X-WR-CALDESC:遊方 FOR YOU! のイベント
REFRESH-INTERVAL;VALUE=DURATION:PT1H
X-Robots-Tag:noindex
X-PUBLISHED-TTL:PT1H
BEGIN:VTIMEZONE
TZID:Asia/Tokyo
BEGIN:STANDARD
TZOFFSETFROM:+0900
TZOFFSETTO:+0900
TZNAME:JST
DTSTART:20230101T000000
END:STANDARD
END:VTIMEZONE
BEGIN:VEVENT
DTSTART;TZID=Asia/Tokyo:20240325T150000
DTEND;TZID=Asia/Tokyo:20240325T170000
DTSTAMP:20260426T004849
CREATED:20240207T194836Z
LAST-MODIFIED:20240207T194836Z
UID:2900-1711378800-1711386000@yuho-tsukitei.com
SUMMARY:演劇落語×月亭遊方落語
DESCRIPTION:日時：3月25日（月）午後3時開演（2時30分開場、5時頃終演） \n場所：表現者工房５Fブラン（JR「寺田町」駅北口より徒歩5分 / 大阪市生野区生野東2-1-27） \n出演：坂口修一×矢内文章 演劇落語『禁酒番屋』『死神』\n     月亭遊方 落語『持ち物検査』 \n料金：前売一般3500円、25歳以下3000円、未就学児：無料\n    （24日13時の回のみ）\n     ※当日は各500円アップ \nチケット：https://iksalon-hyogensha.com/lp/engekirakugo20240323 \n問合せ：06-6147-2897（平日10時〜19時）
URL:https://yuho-tsukitei.com/event/%e6%bc%94%e5%8a%87%e8%90%bd%e8%aa%9ex%e6%9c%88%e4%ba%ad%e9%81%8a%e6%96%b9%e8%90%bd%e8%aa%9e-4
ATTACH;FMTTYPE=image/jpeg:https://yuho-tsukitei.com/wp-content/uploads/2024/02/IMG_3896-1.jpeg
END:VEVENT
END:VCALENDAR