BEGIN:VCALENDAR
VERSION:2.0
PRODID:-//遊方 FOR YOU! - ECPv6.15.20//NONSGML v1.0//EN
CALSCALE:GREGORIAN
METHOD:PUBLISH
X-ORIGINAL-URL:https://yuho-tsukitei.com
X-WR-CALDESC:遊方 FOR YOU! のイベント
REFRESH-INTERVAL;VALUE=DURATION:PT1H
X-Robots-Tag:noindex
X-PUBLISHED-TTL:PT1H
BEGIN:VTIMEZONE
TZID:Asia/Tokyo
BEGIN:STANDARD
TZOFFSETFROM:+0900
TZOFFSETTO:+0900
TZNAME:JST
DTSTART:20230101T000000
END:STANDARD
END:VTIMEZONE
BEGIN:VEVENT
DTSTART;TZID=Asia/Tokyo:20240403T110000
DTEND;TZID=Asia/Tokyo:20240403T123000
DTSTAMP:20260425T232121
CREATED:20240302T210048Z
LAST-MODIFIED:20240308T163645Z
UID:2929-1712142000-1712147400@yuho-tsukitei.com
SUMMARY:道心寺縁日寄席
DESCRIPTION:日時：4月3日（水）午前11時開演 \n場所：道心寺（阪神「尼崎」駅より北へ徒歩10分 / 尼崎市西長洲町2-29-17） \n出演：旭堂南璃、月亭遊方、露の新幸（出演順）\n☆10時15分より住職による法話あり \n料金：大人1500円、こども500円 \n問合せ＆予約：06-4950-0452（道心寺 平日10時〜17時）
URL:https://yuho-tsukitei.com/event/%e9%81%93%e5%bf%83%e5%af%ba%e7%b8%81%e6%97%a5%e5%af%84%e5%b8%ad
ATTACH;FMTTYPE=image/jpeg:https://yuho-tsukitei.com/wp-content/uploads/2024/03/IMG_4803.jpeg
END:VEVENT
END:VCALENDAR