BEGIN:VCALENDAR
VERSION:2.0
PRODID:-//遊方 FOR YOU! - ECPv6.15.20//NONSGML v1.0//EN
CALSCALE:GREGORIAN
METHOD:PUBLISH
X-WR-CALNAME:遊方 FOR YOU!
X-ORIGINAL-URL:https://yuho-tsukitei.com
X-WR-CALDESC:遊方 FOR YOU! のイベント
REFRESH-INTERVAL;VALUE=DURATION:PT1H
X-Robots-Tag:noindex
X-PUBLISHED-TTL:PT1H
BEGIN:VTIMEZONE
TZID:Asia/Tokyo
BEGIN:STANDARD
TZOFFSETFROM:+0900
TZOFFSETTO:+0900
TZNAME:JST
DTSTART:20230101T000000
END:STANDARD
END:VTIMEZONE
BEGIN:VEVENT
DTSTART;TZID=Asia/Tokyo:20240404T113000
DTEND;TZID=Asia/Tokyo:20240404T163000
DTSTAMP:20260425T231712
CREATED:20240226T223610Z
LAST-MODIFIED:20240226T223610Z
UID:2923-1712230200-1712248200@yuho-tsukitei.com
SUMMARY:浅草演芸ホール昼席
DESCRIPTION:日時：4月4日（木）午後11時40分開演（16時40分頃終演） \n場所：浅草演芸ホール（つくばエクスプレス「浅草」駅より30秒） \n出演：春風亭昇吾、できたくん（発泡スチロール芸）、桂伸衛門、昔昔亭桃之助、おせつときょうた（漫才）、瀧川鯉朝、桂小文治・桂右團治（交互出演）、ナオユキ（スタンダップコメディー）、桂竹丸、柳家蝠丸・桂伸治（交互出演）、北見伸（奇術）、笑福亭鶴光 〜仲入り〜 桂鷹治、ねづっち（漫談）、月亭遊方、三遊亭笑遊、丸一小助・小時（太神楽曲芸）、桂文治 \n料金：（当日のみ）大人3000円、学生2500円、子供（4歳以上）1500円 \n問合せ：03-3841-6545（浅草演芸ホール）
URL:https://yuho-tsukitei.com/event/%e6%b5%85%e8%8d%89%e6%bc%94%e8%8a%b8%e3%83%9b%e3%83%bc%e3%83%ab%e6%98%bc%e5%b8%ad
ATTACH;FMTTYPE=image/jpeg:https://yuho-tsukitei.com/wp-content/uploads/2024/02/IMG_4457.jpeg
END:VEVENT
END:VCALENDAR