BEGIN:VCALENDAR
VERSION:2.0
PRODID:-//遊方 FOR YOU! - ECPv6.15.20//NONSGML v1.0//EN
CALSCALE:GREGORIAN
METHOD:PUBLISH
X-WR-CALNAME:遊方 FOR YOU!
X-ORIGINAL-URL:https://yuho-tsukitei.com
X-WR-CALDESC:遊方 FOR YOU! のイベント
REFRESH-INTERVAL;VALUE=DURATION:PT1H
X-Robots-Tag:noindex
X-PUBLISHED-TTL:PT1H
BEGIN:VTIMEZONE
TZID:Asia/Tokyo
BEGIN:STANDARD
TZOFFSETFROM:+0900
TZOFFSETTO:+0900
TZNAME:JST
DTSTART:20230101T000000
END:STANDARD
END:VTIMEZONE
BEGIN:VEVENT
DTSTART;TZID=Asia/Tokyo:20240406T100000
DTEND;TZID=Asia/Tokyo:20240406T123000
DTSTAMP:20260425T231722
CREATED:20240315T130923Z
LAST-MODIFIED:20240315T130923Z
UID:2933-1712397600-1712406600@yuho-tsukitei.com
SUMMARY:能登半島地震・復興支援チャリティー落語会
DESCRIPTION:日時：4月6日（土）午前10時開演（9時30分開場） \n場所：天満天神繁昌亭（地下鉄「南森町」駅4-A出口より徒歩3分） \n出演：林家染左、桂米二、桂文福、笑福亭仁智 〜中入り〜 月亭遊方、露の都、笑福亭鶴瓶 （出演順） \n※チラシに記載の林家小染に代わり月亭遊方が代演します。 \n料金：前売当時共 3500円（全席指定） \nチケット：繁昌亭窓口、チケットぴあ、セブンイレブン（Pコード:597-700） \n問合せ：06-6352-4874（天満天神繁昌亭）
URL:https://yuho-tsukitei.com/event/%e8%83%bd%e7%99%bb%e5%8d%8a%e5%b3%b6%e5%9c%b0%e9%9c%87%e3%83%bb%e5%be%a9%e8%88%88%e6%94%af%e6%8f%b4%e3%83%81%e3%83%a3%e3%83%aa%e3%83%86%e3%82%a3%e3%83%bc%e8%90%bd%e8%aa%9e%e4%bc%9a
ATTACH;FMTTYPE=image/jpeg:https://yuho-tsukitei.com/wp-content/uploads/2024/03/IMG_5089.jpeg
END:VEVENT
BEGIN:VEVENT
DTSTART;TZID=Asia/Tokyo:20240406T180000
DTEND;TZID=Asia/Tokyo:20240406T203000
DTSTAMP:20260425T231722
CREATED:20240108T124740Z
LAST-MODIFIED:20240126T124658Z
UID:2834-1712426400-1712435400@yuho-tsukitei.com
SUMMARY:遊方・銀瓶  細マッチョふたり会
DESCRIPTION:日時：4月6日（土）午後6時開演（5時30分開場） \n場所：天満天神繁昌亭（地下鉄「南森町」駅4-A出口より徒歩3分） \n出演：『開口一番』月亭遊真\n     『お楽しみ』笑福亭銀瓶\n     『ジムの怪物』月亭遊方\n     『マッチョトーク』遊方×銀瓶\n      ☆ゲスト：スポーツインストラクター大森元\n        〜中入り〜\n      『花筏』笑福亭銀瓶\n      『パンチ！パンチ！パンチ！』月亭遊方 \n料金：前売3000円（当日3500円）全席指定 \n※2月6日チケット発売 チケットぴあ、\n セブンイレブン（Pコード：597-700） \n問合せ：090-2358-7781（オフィスぎんぎん）
URL:https://yuho-tsukitei.com/event/%e9%81%8a%e6%96%b9%e3%83%bb%e9%8a%80%e7%93%b6-%e7%b4%b0%e3%83%9e%e3%83%83%e3%83%81%e3%83%a7%e3%81%b5%e3%81%9f%e3%82%8a%e4%bc%9a
ATTACH;FMTTYPE=image/jpeg:https://yuho-tsukitei.com/wp-content/uploads/2024/01/IMG_3438.jpeg
END:VEVENT
END:VCALENDAR