BEGIN:VCALENDAR
VERSION:2.0
PRODID:-//遊方 FOR YOU! - ECPv6.15.20//NONSGML v1.0//EN
CALSCALE:GREGORIAN
METHOD:PUBLISH
X-WR-CALNAME:遊方 FOR YOU!
X-ORIGINAL-URL:https://yuho-tsukitei.com
X-WR-CALDESC:遊方 FOR YOU! のイベント
REFRESH-INTERVAL;VALUE=DURATION:PT1H
X-Robots-Tag:noindex
X-PUBLISHED-TTL:PT1H
BEGIN:VTIMEZONE
TZID:Asia/Tokyo
BEGIN:STANDARD
TZOFFSETFROM:+0900
TZOFFSETTO:+0900
TZNAME:JST
DTSTART:20230101T000000
END:STANDARD
END:VTIMEZONE
BEGIN:VEVENT
DTSTART;TZID=Asia/Tokyo:20240416T190000
DTEND;TZID=Asia/Tokyo:20240416T210000
DTSTAMP:20260425T231751
CREATED:20240226T181626Z
LAST-MODIFIED:20240226T181626Z
UID:2920-1713294000-1713301200@yuho-tsukitei.com
SUMMARY:第24回 ロン毛・トーク・ファニー〜古民家で新作落語を聴く会〜
DESCRIPTION:日時：4月16日（火）午後7時開演（6時30分開場、9時終演） \n場所：ツギハギ荘（（地下鉄「南森町」駅より南へ徒歩10分 / 大阪市北区天神橋1-8-15） \n出演：月亭遊方『愛がとまらない』/ 桂雀喜『人気なき戦い』☆倍賞千恵子（さくら）を愛でながらこたつトークあり \n料金：予約1800円、当日2000円 \n予約：このURLをクリックして、予約フォームからお願いします。https://r.goope.jp/marumarupanda/reservation/event/detail/21964 \n問合せ：jacky7super@nifty.com（ロン毛カンパニー）
URL:https://yuho-tsukitei.com/event/%e7%ac%ac24%e5%9b%9e-%e3%83%ad%e3%83%b3%e6%af%9b%e3%83%bb%e3%83%88%e3%83%bc%e3%82%af%e3%83%bb%e3%83%95%e3%82%a1%e3%83%8b%e3%83%bc%e3%80%9c%e5%8f%a4%e6%b0%91%e5%ae%b6%e3%81%a7%e6%96%b0%e4%bd%9c
ATTACH;FMTTYPE=image/jpeg:https://yuho-tsukitei.com/wp-content/uploads/2024/02/IMG_3997.jpeg
END:VEVENT
END:VCALENDAR