BEGIN:VCALENDAR
VERSION:2.0
PRODID:-//遊方 FOR YOU! - ECPv6.15.20//NONSGML v1.0//EN
CALSCALE:GREGORIAN
METHOD:PUBLISH
X-WR-CALNAME:遊方 FOR YOU!
X-ORIGINAL-URL:https://yuho-tsukitei.com
X-WR-CALDESC:遊方 FOR YOU! のイベント
REFRESH-INTERVAL;VALUE=DURATION:PT1H
X-Robots-Tag:noindex
X-PUBLISHED-TTL:PT1H
BEGIN:VTIMEZONE
TZID:Asia/Tokyo
BEGIN:STANDARD
TZOFFSETFROM:+0900
TZOFFSETTO:+0900
TZNAME:JST
DTSTART:20230101T000000
END:STANDARD
END:VTIMEZONE
BEGIN:VEVENT
DTSTART;TZID=Asia/Tokyo:20240421T170000
DTEND;TZID=Asia/Tokyo:20240421T183000
DTSTAMP:20260425T232845
CREATED:20240315T131617Z
LAST-MODIFIED:20240319T123329Z
UID:2936-1713718800-1713724200@yuho-tsukitei.com
SUMMARY:カンティプール 笑ってネパール〜落語と講談とカレーの会〜
DESCRIPTION:日時：4月21日午後5時開演（4時30分開場） \n場所：カンティプール（JR「天満」駅より徒歩7分、地下鉄「天神橋筋六丁目」駅13番出口より徒歩3分） \n出演：月亭遊方（落語）、旭堂南璃（講談）\n     ☆各1席ずつ\n     ☆終演後希望者とカレーを食べながら懇親会あり \n料金：予約当日共1000円（なるべくご予約ください）\n     ※懇親会の飲食料は自費 \n予約：yuhotsukitei.69@gmail.com（遊方基地）
URL:https://yuho-tsukitei.com/event/%e3%82%ab%e3%83%b3%e3%83%86%e3%82%a3%e3%83%97%e3%83%bc%e3%83%ab-%e7%ac%91%e3%81%a3%e3%81%a6%e3%83%8d%e3%83%91%e3%83%bc%e3%83%ab%e3%80%9c%e8%90%bd%e8%aa%9e%e3%81%a8%e8%ac%9b%e8%ab%87%e3%81%a8%e3%82%ab
ATTACH;FMTTYPE=image/jpeg:https://yuho-tsukitei.com/wp-content/uploads/2024/03/IMG_5147.jpeg
END:VEVENT
END:VCALENDAR