BEGIN:VCALENDAR
VERSION:2.0
PRODID:-//遊方 FOR YOU! - ECPv6.15.20//NONSGML v1.0//EN
CALSCALE:GREGORIAN
METHOD:PUBLISH
X-ORIGINAL-URL:https://yuho-tsukitei.com
X-WR-CALDESC:遊方 FOR YOU! のイベント
REFRESH-INTERVAL;VALUE=DURATION:PT1H
X-Robots-Tag:noindex
X-PUBLISHED-TTL:PT1H
BEGIN:VTIMEZONE
TZID:Asia/Tokyo
BEGIN:STANDARD
TZOFFSETFROM:+0900
TZOFFSETTO:+0900
TZNAME:JST
DTSTART:20230101T000000
END:STANDARD
END:VTIMEZONE
BEGIN:VEVENT
DTSTART;TZID=Asia/Tokyo:20240427T140000
DTEND;TZID=Asia/Tokyo:20240427T160000
DTSTAMP:20260425T232124
CREATED:20240315T132315Z
LAST-MODIFIED:20240319T123921Z
UID:2940-1714226400-1714233600@yuho-tsukitei.com
SUMMARY:ジャッキー7 vol.139
DESCRIPTION:日時：4月27日（土）午後2時開演（1時30分開場） \n場所：摂津市民文化ホール大会議室（阪急「摂津市」駅東口より徒歩4分、いきいきプラザ3F） \n出演：桂雀喜『キリン』『仮面ライダーなにわ〜道頓堀\n     編〜』\n     月亭遊方『お楽しみ」\n     桂二豆『つる』 \n料金：2000円（当日受付） \n問合せ：072-635-1404（摂津市民文化ホール）
URL:https://yuho-tsukitei.com/event/%e3%82%b8%e3%83%a3%e3%83%83%e3%82%ad%e3%83%bc7
ATTACH;FMTTYPE=image/jpeg:https://yuho-tsukitei.com/wp-content/uploads/2024/03/IMG_5317-scaled.jpeg
END:VEVENT
END:VCALENDAR