BEGIN:VCALENDAR
VERSION:2.0
PRODID:-//遊方 FOR YOU! - ECPv6.15.20//NONSGML v1.0//EN
CALSCALE:GREGORIAN
METHOD:PUBLISH
X-ORIGINAL-URL:https://yuho-tsukitei.com
X-WR-CALDESC:遊方 FOR YOU! のイベント
REFRESH-INTERVAL;VALUE=DURATION:PT1H
X-Robots-Tag:noindex
X-PUBLISHED-TTL:PT1H
BEGIN:VTIMEZONE
TZID:Asia/Tokyo
BEGIN:STANDARD
TZOFFSETFROM:+0900
TZOFFSETTO:+0900
TZNAME:JST
DTSTART:20230101T000000
END:STANDARD
END:VTIMEZONE
BEGIN:VEVENT
DTSTART;TZID=Asia/Tokyo:20240429T140000
DTEND;TZID=Asia/Tokyo:20240429T163000
DTSTAMP:20260425T215304
CREATED:20240208T022910Z
LAST-MODIFIED:20240208T022910Z
UID:2905-1714399200-1714408200@yuho-tsukitei.com
SUMMARY:門戸寄席「月亭遊方落語会」
DESCRIPTION:日時：4月29日（月祝）午後2時開演（1時30分開場、4時頃終演） \n場所：門戸寄席J:SPACE（阪急「門戸厄神」駅より東へ徒歩1分） \n出演：月亭遊方『重貞夢（ジュテーム）』他１席\n     桂米輝（開口一番）\n    ☆遊方×米輝 対談あり \n料金：予約2500円 当日3000円（定員40名・全席自由） \n予約＆問合せ：070-3603-3192 /\n            jspace_event@yahoo.co.jp（安田）
URL:https://yuho-tsukitei.com/event/%e9%96%80%e6%88%b8%e5%af%84%e5%b8%ad%e3%80%8c%e6%9c%88%e4%ba%ad%e9%81%8a%e6%96%b9%e8%90%bd%e8%aa%9e%e4%bc%9a%e3%80%8d-3
ATTACH;FMTTYPE=image/jpeg:https://yuho-tsukitei.com/wp-content/uploads/2024/02/IMG_3906.jpeg
END:VEVENT
END:VCALENDAR