BEGIN:VCALENDAR
VERSION:2.0
PRODID:-//遊方 FOR YOU! - ECPv6.15.20//NONSGML v1.0//EN
CALSCALE:GREGORIAN
METHOD:PUBLISH
X-WR-CALNAME:遊方 FOR YOU!
X-ORIGINAL-URL:https://yuho-tsukitei.com
X-WR-CALDESC:遊方 FOR YOU! のイベント
REFRESH-INTERVAL;VALUE=DURATION:PT1H
X-Robots-Tag:noindex
X-PUBLISHED-TTL:PT1H
BEGIN:VTIMEZONE
TZID:Asia/Tokyo
BEGIN:STANDARD
TZOFFSETFROM:+0900
TZOFFSETTO:+0900
TZNAME:JST
DTSTART:20230101T000000
END:STANDARD
END:VTIMEZONE
BEGIN:VEVENT
DTSTART;TZID=Asia/Tokyo:20240516T190000
DTEND;TZID=Asia/Tokyo:20240516T210000
DTSTAMP:20260425T215228
CREATED:20240407T113559Z
LAST-MODIFIED:20240408T140605Z
UID:3007-1715886000-1715893200@yuho-tsukitei.com
SUMMARY:百年長屋・遊方基地＃1 〜月亭遊方の落語会〜
DESCRIPTION:日時：5月16日（木）午後7時開演（6時30分開場、9時終演） \n場所：百年長屋（JR・地下鉄「玉造」駅より徒歩6分、JR・地下鉄「森ノ宮」駅より徒歩7分） \n出演：月亭遊方『胴乱の幸助』他1席\n     ゲスト：笑福亭喬介\n     三味線：はやしや律子\n     ☆遊方×喬介 対談あり \n料金：予約2000円 当日2500円 \n予約＆問合せ：075-279-2868\n            kyoushoudou@hotmail.com（京升堂）
URL:https://yuho-tsukitei.com/event/%e7%99%be%e5%b9%b4%e9%95%b7%e5%b1%8b%e3%83%bb%e9%81%8a%e6%96%b9%e5%9f%ba%e5%9c%b0%ef%bc%831-%e3%80%9c%e6%9c%88%e4%ba%ad%e9%81%8a%e6%96%b9%e3%81%ae%e8%90%bd%e8%aa%9e%e4%bc%9a%e3%80%9c
ATTACH;FMTTYPE=image/jpeg:https://yuho-tsukitei.com/wp-content/uploads/2024/04/IMG_5772.jpeg
END:VEVENT
END:VCALENDAR