BEGIN:VCALENDAR
VERSION:2.0
PRODID:-//遊方 FOR YOU! - ECPv6.15.20//NONSGML v1.0//EN
CALSCALE:GREGORIAN
METHOD:PUBLISH
X-ORIGINAL-URL:https://yuho-tsukitei.com
X-WR-CALDESC:遊方 FOR YOU! のイベント
REFRESH-INTERVAL;VALUE=DURATION:PT1H
X-Robots-Tag:noindex
X-PUBLISHED-TTL:PT1H
BEGIN:VTIMEZONE
TZID:Asia/Tokyo
BEGIN:STANDARD
TZOFFSETFROM:+0900
TZOFFSETTO:+0900
TZNAME:JST
DTSTART:20230101T000000
END:STANDARD
END:VTIMEZONE
BEGIN:VEVENT
DTSTART;TZID=Asia/Tokyo:20240609T100000
DTEND;TZID=Asia/Tokyo:20240609T120000
DTSTAMP:20260425T202705
CREATED:20240413T053228Z
LAST-MODIFIED:20240413T053228Z
UID:3050-1717927200-1717934400@yuho-tsukitei.com
SUMMARY:第89回 桂三風の早起き寄席〜ドライブスペシャル〜
DESCRIPTION:日時：6月9日（日）午後10時開演（9時30分開場、11時45分頃終演） \n場所：天満天神繁昌亭（地下鉄「南森町」駅4-A出口より徒歩3分） \n出演：『さん風のたより』桂三風\n     『開口一番』桂健枝郎\n     『いらち俥』桂慶治郎\n     『絶叫ドライブ〜彼女を乗せて〜』月亭遊方\n     『運転手は君だ』桂三風 \n料金：前売2000円、当日2500円、小中高大生1000円（前当共） \nチケット：チケットぴあ t.pia.jp 、セブンイレブン（ど\n        ちらもPコード：597-700）、繁昌亭窓口（11\n        時〜19時）\n        0120-874-315（落語ファクトリー）
URL:https://yuho-tsukitei.com/event/%e7%ac%ac89%e5%9b%9e-%e6%a1%82%e4%b8%89%e9%a2%a8%e3%81%ae%e6%97%a9%e8%b5%b7%e3%81%8d%e5%af%84%e5%b8%ad%e3%80%9c%e3%83%89%e3%83%a9%e3%82%a4%e3%83%96%e3%82%b9%e3%83%9a%e3%82%b7%e3%83%a3%e3%83%ab
ATTACH;FMTTYPE=image/jpeg:https://yuho-tsukitei.com/wp-content/uploads/2024/04/IMG_6128.jpeg
END:VEVENT
BEGIN:VEVENT
DTSTART;TZID=Asia/Tokyo:20240609T180000
DTEND;TZID=Asia/Tokyo:20240609T203000
DTSTAMP:20260425T202705
CREATED:20240407T114437Z
LAST-MODIFIED:20240408T140719Z
UID:3010-1717956000-1717965000@yuho-tsukitei.com
SUMMARY:繁昌亭ロックフェスティバルvol.6
DESCRIPTION:日時：6月9日（日）午後6時開演（5時30分開場、8時30分終演予定） \n場所：天満天神繁昌亭（地下鉄「南森町」駅4-A出口より徒歩3分） \n出演：桂あやめ『ロック天神山』\n     月亭遊方『くっしゃみロッカー』\n     京山幸太『パンク侍〜斬られて候〜前編（作/町田\n             康）』曲師：一風亭初月\n     ゲスト：安齋肇（イラストレーター、ソラミミスト、\n            ミュージシャン）\n     ☆トークあり \n料金：前売3000円 当日3500円 \n問合せ：075-6775-9745（茶臼山舞台） \nチケット：天満天神繁昌亭窓口、セブンイレブン（Pコード：597-700）\n京升堂 075-279-2868 /\n      kyoushoudou@hotmail.com\n簡単予約フォーム：\nhttps://ssl.form-mailer.jp/fms/b9d84201817635
URL:https://yuho-tsukitei.com/event/%e7%b9%81%e6%98%8c%e4%ba%ad%e3%83%ad%e3%83%83%e3%82%af%e3%83%95%e3%82%a7%e3%82%b9%e3%83%86%e3%82%a3%e3%83%90%e3%83%abvol-6
ATTACH;FMTTYPE=image/jpeg:https://yuho-tsukitei.com/wp-content/uploads/2024/04/IMG_5925.jpeg
END:VEVENT
END:VCALENDAR