BEGIN:VCALENDAR
VERSION:2.0
PRODID:-//遊方 FOR YOU! - ECPv6.15.20//NONSGML v1.0//EN
CALSCALE:GREGORIAN
METHOD:PUBLISH
X-WR-CALNAME:遊方 FOR YOU!
X-ORIGINAL-URL:https://yuho-tsukitei.com
X-WR-CALDESC:遊方 FOR YOU! のイベント
REFRESH-INTERVAL;VALUE=DURATION:PT1H
X-Robots-Tag:noindex
X-PUBLISHED-TTL:PT1H
BEGIN:VTIMEZONE
TZID:Asia/Tokyo
BEGIN:STANDARD
TZOFFSETFROM:+0900
TZOFFSETTO:+0900
TZNAME:JST
DTSTART:20230101T000000
END:STANDARD
END:VTIMEZONE
BEGIN:VEVENT
DTSTART;TZID=Asia/Tokyo:20240616T130000
DTEND;TZID=Asia/Tokyo:20240616T170000
DTSTAMP:20260425T202228
CREATED:20240408T145630Z
LAST-MODIFIED:20240408T145630Z
UID:3038-1718542800-1718557200@yuho-tsukitei.com
SUMMARY:チャーリーニーシオ・ホット・レヴュー
DESCRIPTION:日時：6月16日（日）午後1時開演（12時30分開場） \n場所：グランドサロン十三（阪急「十三」駅西口より徒歩4分） \n出演：チャーリーニーシオ\n     月亭遊方（スタンダップ・コメディー）\n     オジョウサンズ（音曲漫才/内海英華・桂あやめ・め\n     ぐまりこ）\n     Steve Muller（タップダンス）\n     酒匂悠希（マジック）\n     グッドタイムバンド（酒井ヒロキ×斎藤一郎×杉山アキ\n     ノブ×村上剛）\n     ドライ山川（司会） \n料金：前売5000円  当日6000円（全席自由） \nチケット：チケットぴあ、セブンイレブン\n       （Pコード:652-908） \n予約＆お問合せ：090-3274-4236（ロックンロールドリーマー）月〜金12:00〜17:00
URL:https://yuho-tsukitei.com/event/%e3%83%81%e3%83%a3%e3%83%bc%e3%83%aa%e3%83%bc%e3%83%8b%e3%83%bc%e3%82%b7%e3%82%aa%e3%83%bb%e3%83%9b%e3%83%83%e3%83%88%e3%83%bb%e3%83%ac%e3%83%b4%e3%83%a5%e3%83%bc
ATTACH;FMTTYPE=image/jpeg:https://yuho-tsukitei.com/wp-content/uploads/2024/04/IMG_4759.jpeg
END:VEVENT
END:VCALENDAR