BEGIN:VCALENDAR
VERSION:2.0
PRODID:-//遊方 FOR YOU! - ECPv6.15.20//NONSGML v1.0//EN
CALSCALE:GREGORIAN
METHOD:PUBLISH
X-WR-CALNAME:遊方 FOR YOU!
X-ORIGINAL-URL:https://yuho-tsukitei.com
X-WR-CALDESC:遊方 FOR YOU! のイベント
REFRESH-INTERVAL;VALUE=DURATION:PT1H
X-Robots-Tag:noindex
X-PUBLISHED-TTL:PT1H
BEGIN:VTIMEZONE
TZID:Asia/Tokyo
BEGIN:STANDARD
TZOFFSETFROM:+0900
TZOFFSETTO:+0900
TZNAME:JST
DTSTART:20230101T000000
END:STANDARD
END:VTIMEZONE
BEGIN:VEVENT
DTSTART;TZID=Asia/Tokyo:20240620T193000
DTEND;TZID=Asia/Tokyo:20240620T210000
DTSTAMP:20260425T202159
CREATED:20240529T092509Z
LAST-MODIFIED:20240529T092509Z
UID:3120-1718911800-1718917200@yuho-tsukitei.com
SUMMARY:Nieveらくごナイト
DESCRIPTION:日時：6月20日（木）午後7時30分開演（6時開場） \n場所：北新地BAR DE NIEVE（大阪市北区曽根崎新地1-6-\n     18）\n     ※全面喫煙可 \n出演：月亭遊方（落語2席）\n     ※公演時間90〜100分 \n料金：2000円（別途1ドリンク500円〜） \n予約：arco1213@gmail.com（さの）
URL:https://yuho-tsukitei.com/event/nieve%e3%82%89%e3%81%8f%e3%81%94%e3%83%8a%e3%82%a4%e3%83%88
ATTACH;FMTTYPE=image/png:https://yuho-tsukitei.com/wp-content/uploads/2024/05/IMG_7711.png
END:VEVENT
END:VCALENDAR