BEGIN:VCALENDAR
VERSION:2.0
PRODID:-//遊方 FOR YOU! - ECPv6.15.20//NONSGML v1.0//EN
CALSCALE:GREGORIAN
METHOD:PUBLISH
X-ORIGINAL-URL:https://yuho-tsukitei.com
X-WR-CALDESC:遊方 FOR YOU! のイベント
REFRESH-INTERVAL;VALUE=DURATION:PT1H
X-Robots-Tag:noindex
X-PUBLISHED-TTL:PT1H
BEGIN:VTIMEZONE
TZID:Asia/Tokyo
BEGIN:STANDARD
TZOFFSETFROM:+0900
TZOFFSETTO:+0900
TZNAME:JST
DTSTART:20230101T000000
END:STANDARD
END:VTIMEZONE
BEGIN:VEVENT
DTSTART;TZID=Asia/Tokyo:20240627T183000
DTEND;TZID=Asia/Tokyo:20240627T210000
DTSTAMP:20260425T202634
CREATED:20240408T143949Z
LAST-MODIFIED:20240408T144147Z
UID:3033-1719513000-1719522000@yuho-tsukitei.com
SUMMARY:第155回 笑いのタニマチ〜仁智の新作落語道場〜
DESCRIPTION:日時：6月27日（木）午後6時30分開演（6時開場） \n場所：天満天神繁昌亭（地下鉄「南森町」駅4-A出口より徒歩3分） \n出演：笑福亭仁智（新作落語２席）、笑福亭智丸\n道場破り：月亭遊方、笑福亭たま\n☆遊方・たまの上方落語家人物評 \n料金：前売2500円 当日3000円（全席指定） \nチケット：繁昌亭窓口\n        チケットぴあ t.pia.jp（Pコード:597-700）\n        セブンイレブン（Pコード:597-700）
URL:https://yuho-tsukitei.com/event/%e7%ac%ac155%e5%9b%9e-%e7%ac%91%e3%81%84%e3%81%ae%e3%82%bf%e3%83%8b%e3%83%9e%e3%83%81%e3%80%9c%e4%bb%81%e6%99%ba%e3%81%ae%e6%96%b0%e4%bd%9c%e8%90%bd%e8%aa%9e%e9%81%93%e5%a0%b4%e3%80%9c
ATTACH;FMTTYPE=image/jpeg:https://yuho-tsukitei.com/wp-content/uploads/2024/04/IMG_5979-scaled.jpeg
END:VEVENT
END:VCALENDAR