BEGIN:VCALENDAR
VERSION:2.0
PRODID:-//遊方 FOR YOU! - ECPv6.15.20//NONSGML v1.0//EN
CALSCALE:GREGORIAN
METHOD:PUBLISH
X-WR-CALNAME:遊方 FOR YOU!
X-ORIGINAL-URL:https://yuho-tsukitei.com
X-WR-CALDESC:遊方 FOR YOU! のイベント
REFRESH-INTERVAL;VALUE=DURATION:PT1H
X-Robots-Tag:noindex
X-PUBLISHED-TTL:PT1H
BEGIN:VTIMEZONE
TZID:Asia/Tokyo
BEGIN:STANDARD
TZOFFSETFROM:+0900
TZOFFSETTO:+0900
TZNAME:JST
DTSTART:20230101T000000
END:STANDARD
END:VTIMEZONE
BEGIN:VEVENT
DTSTART;TZID=Asia/Tokyo:20241005T190000
DTEND;TZID=Asia/Tokyo:20241005T203000
DTSTAMP:20260425T115421
CREATED:20240703T153935Z
LAST-MODIFIED:20240719T050155Z
UID:3163-1728154800-1728160200@yuho-tsukitei.com
SUMMARY:星時ちいさな落語会 vol.4
DESCRIPTION:日時：10月5日（土）午後7時開演（6時30分開場、8時半頃終演） \n場所：喫茶星時（岐阜市神田町3丁目加藤石原ビル2階） \n出演：月亭遊方（落語2〜3席） \n料金：予約2500円（1ドリンク付）※30名限定 \n予約＆問合せ：hoshiraku55@gmail.com（実行委員会）
URL:https://yuho-tsukitei.com/event/%e6%98%9f%e6%99%82%e3%81%a1%e3%81%84%e3%81%95%e3%81%aa%e8%90%bd%e8%aa%9e%e4%bc%9a-vol-4
ATTACH;FMTTYPE=image/jpeg:https://yuho-tsukitei.com/wp-content/uploads/2024/07/IMG_0076.jpeg
END:VEVENT
END:VCALENDAR