BEGIN:VCALENDAR
VERSION:2.0
PRODID:-//遊方 FOR YOU! - ECPv6.15.20//NONSGML v1.0//EN
CALSCALE:GREGORIAN
METHOD:PUBLISH
X-ORIGINAL-URL:https://yuho-tsukitei.com
X-WR-CALDESC:遊方 FOR YOU! のイベント
REFRESH-INTERVAL;VALUE=DURATION:PT1H
X-Robots-Tag:noindex
X-PUBLISHED-TTL:PT1H
BEGIN:VTIMEZONE
TZID:Asia/Tokyo
BEGIN:STANDARD
TZOFFSETFROM:+0900
TZOFFSETTO:+0900
TZNAME:JST
DTSTART:20230101T000000
END:STANDARD
END:VTIMEZONE
BEGIN:VEVENT
DTSTART;TZID=Asia/Tokyo:20241006T160000
DTEND;TZID=Asia/Tokyo:20241006T173000
DTSTAMP:20260425T115510
CREATED:20240730T042629Z
LAST-MODIFIED:20240730T042629Z
UID:3208-1728230400-1728235800@yuho-tsukitei.com
SUMMARY:珈琲家まめのまめな落語会
DESCRIPTION:日時：10月6日（日）午後4時開演（3時30分開場、5時半頃終演） \n場所：珈琲家まめ（岐阜県揖斐郡揖斐川町市場194） \n出演：月亭遊方（落語2〜3席） \n料金：2500円（1ドリンク付） \n予約＆問合せ：0585-52-9193（珈琲家まめ）\ngifudeufo@gmail.com（事務局）
URL:https://yuho-tsukitei.com/event/%e7%8f%88%e7%90%b2%e5%ae%b6%e3%81%be%e3%82%81%e3%81%ae%e3%81%be%e3%82%81%e3%81%aa%e8%90%bd%e8%aa%9e%e4%bc%9a
ATTACH;FMTTYPE=image/jpeg:https://yuho-tsukitei.com/wp-content/uploads/2024/07/IMG_0089.jpeg
END:VEVENT
END:VCALENDAR