BEGIN:VCALENDAR
VERSION:2.0
PRODID:-//遊方 FOR YOU! - ECPv6.15.20//NONSGML v1.0//EN
CALSCALE:GREGORIAN
METHOD:PUBLISH
X-WR-CALNAME:遊方 FOR YOU!
X-ORIGINAL-URL:https://yuho-tsukitei.com
X-WR-CALDESC:遊方 FOR YOU! のイベント
REFRESH-INTERVAL;VALUE=DURATION:PT1H
X-Robots-Tag:noindex
X-PUBLISHED-TTL:PT1H
BEGIN:VTIMEZONE
TZID:Asia/Tokyo
BEGIN:STANDARD
TZOFFSETFROM:+0900
TZOFFSETTO:+0900
TZNAME:JST
DTSTART:20230101T000000
END:STANDARD
END:VTIMEZONE
BEGIN:VEVENT
DTSTART;TZID=Asia/Tokyo:20241130T140000
DTEND;TZID=Asia/Tokyo:20241130T160000
DTSTAMP:20260425T061247
CREATED:20240825T095052Z
LAST-MODIFIED:20240825T095052Z
UID:3246-1732975200-1732982400@yuho-tsukitei.com
SUMMARY:西二階寄席〜第二章〜
DESCRIPTION:日時：11月30日（土）午後2時開演（1時30分開場、チケッ\n     トは13:15から） \n場所：七福座（JR「姫路」駅からお城へ向かって徒歩8分 /\n     姫路市西二階町37 西二階町商店街内） \n出演：五代目桂慶枝（三風改メ）、桂三語\n     ゲスト：月亭遊方 \n料金：前売2000円 当日2500円 小中高大学生1000円 \n予約＆問合せ：0120-874-315（落語ファクトリー）\n           メール：sango-katsura@gmail.com
URL:https://yuho-tsukitei.com/event/%e8%a5%bf%e4%ba%8c%e9%9a%8e%e5%af%84%e5%b8%ad%e3%80%9c%e7%ac%ac%e4%ba%8c%e7%ab%a0%e3%80%9c
ATTACH;FMTTYPE=image/jpeg:https://yuho-tsukitei.com/wp-content/uploads/2024/08/IMG_9479.jpeg
END:VEVENT
END:VCALENDAR