BEGIN:VCALENDAR
VERSION:2.0
PRODID:-//遊方 FOR YOU! - ECPv6.15.20//NONSGML v1.0//EN
CALSCALE:GREGORIAN
METHOD:PUBLISH
X-WR-CALNAME:遊方 FOR YOU!
X-ORIGINAL-URL:https://yuho-tsukitei.com
X-WR-CALDESC:遊方 FOR YOU! のイベント
REFRESH-INTERVAL;VALUE=DURATION:PT1H
X-Robots-Tag:noindex
X-PUBLISHED-TTL:PT1H
BEGIN:VTIMEZONE
TZID:Asia/Tokyo
BEGIN:STANDARD
TZOFFSETFROM:+0900
TZOFFSETTO:+0900
TZNAME:JST
DTSTART:20230101T000000
END:STANDARD
END:VTIMEZONE
BEGIN:VEVENT
DTSTART;TZID=Asia/Tokyo:20241226T190000
DTEND;TZID=Asia/Tokyo:20241226T210000
DTSTAMP:20260425T061351
CREATED:20240918T025415Z
LAST-MODIFIED:20240922T122001Z
UID:3275-1735239600-1735246800@yuho-tsukitei.com
SUMMARY:第10 回遊方 × 文鹿 新作トライアル
DESCRIPTION:日時：12月26日（木）19:00開演（18:30開場、21時終演予定） \n場所：ツギハギ荘（（地下鉄「南森町」駅より南へ徒歩10分 / 大阪市北区天神橋1-8-15） \n出演：月亭遊方『夢芝居』『いらちの悩み相談室』\n     桂文鹿『にしんそば』『2時間飲み放題』\n     ☆4席の創作秘話あり \n料金：2500円（ご予約整理番号入場制） \n予約：味わい企画 090-3977-1102\n               ajiwaikikaku@outlook.jp
URL:https://yuho-tsukitei.com/event/%e7%ac%ac10-%e5%9b%9e%e9%81%8a%e6%96%b9-x-%e6%96%87%e9%b9%bf-%e6%96%b0%e4%bd%9c%e3%83%88%e3%83%a9%e3%82%a4%e3%82%a2%e3%83%ab
ATTACH;FMTTYPE=image/jpeg:https://yuho-tsukitei.com/wp-content/uploads/2024/09/IMG_2289.jpeg
END:VEVENT
END:VCALENDAR