BEGIN:VCALENDAR
VERSION:2.0
PRODID:-//遊方 FOR YOU! - ECPv6.15.20//NONSGML v1.0//EN
CALSCALE:GREGORIAN
METHOD:PUBLISH
X-WR-CALNAME:遊方 FOR YOU!
X-ORIGINAL-URL:https://yuho-tsukitei.com
X-WR-CALDESC:遊方 FOR YOU! のイベント
REFRESH-INTERVAL;VALUE=DURATION:PT1H
X-Robots-Tag:noindex
X-PUBLISHED-TTL:PT1H
BEGIN:VTIMEZONE
TZID:Asia/Tokyo
BEGIN:STANDARD
TZOFFSETFROM:+0900
TZOFFSETTO:+0900
TZNAME:JST
DTSTART:20240101T000000
END:STANDARD
END:VTIMEZONE
BEGIN:VEVENT
DTSTART;TZID=Asia/Tokyo:20250201T140000
DTEND;TZID=Asia/Tokyo:20250201T160000
DTSTAMP:20260425T005747
CREATED:20241126T105257Z
LAST-MODIFIED:20241210T020841Z
UID:3422-1738418400-1738425600@yuho-tsukitei.com
SUMMARY:門戸寄席「月亭遊方独り舞台」〜門戸寄席リニューアル休館に向けての特別公演〜
DESCRIPTION:日時：2月1日（土）午後2時開演（1時30分開場、4時終演予定） \n場所：門戸寄席J:SPACE（阪急「門戸厄神」駅より東へ徒歩1分 / 西宮市下大市東町13-1） \n出演：月亭遊方（選りすぐりネタ3席） \n料金：予約2500円、当日3000円 \n予約＆問合せ：070-3603-3192（安田）\n           jspace_event@yahoo.co.jp（門戸寄席） \n※門戸寄席は1年間おやすみします
URL:https://yuho-tsukitei.com/event/%e9%96%80%e6%88%b8%e5%af%84%e5%b8%ad%e3%80%8c%e6%9c%88%e4%ba%ad%e9%81%8a%e6%96%b9%e8%90%bd%e8%aa%9e%e4%bc%9a%e3%80%8d%e9%96%80%e6%88%b8%e5%af%84%e5%b8%ad1%e5%b9%b4%e9%96%93%e3%81%8a%e3%82%84%e3%81%99
ATTACH;FMTTYPE=image/jpeg:https://yuho-tsukitei.com/wp-content/uploads/2024/11/IMG_4915.jpeg
END:VEVENT
END:VCALENDAR