BEGIN:VCALENDAR
VERSION:2.0
PRODID:-//遊方 FOR YOU! - ECPv6.15.20//NONSGML v1.0//EN
CALSCALE:GREGORIAN
METHOD:PUBLISH
X-WR-CALNAME:遊方 FOR YOU!
X-ORIGINAL-URL:https://yuho-tsukitei.com
X-WR-CALDESC:遊方 FOR YOU! のイベント
REFRESH-INTERVAL;VALUE=DURATION:PT1H
X-Robots-Tag:noindex
X-PUBLISHED-TTL:PT1H
BEGIN:VTIMEZONE
TZID:Asia/Tokyo
BEGIN:STANDARD
TZOFFSETFROM:+0900
TZOFFSETTO:+0900
TZNAME:JST
DTSTART:20240101T000000
END:STANDARD
END:VTIMEZONE
BEGIN:VEVENT
DTSTART;TZID=Asia/Tokyo:20250205T190000
DTEND;TZID=Asia/Tokyo:20250205T210000
DTSTAMP:20260425T005723
CREATED:20250108T235025Z
LAST-MODIFIED:20250108T235025Z
UID:3466-1738782000-1738789200@yuho-tsukitei.com
SUMMARY:第119回 笑福亭喬介の北野田駅前寄席
DESCRIPTION:日時：2月5日（水）午後7時開演（6時30分開場） \n場所：堺市立東文化会館アミナス北野田3階（南海高野線「北野田」駅直結） \n出演：笑福亭喬介、笑福亭喬明\n     ゲスト：月亭遊方、月亭太遊 \n料金：当日1000円（25歳以下500円） \n予約＆問合せ：kyousuke-s@i.softbank.jp\n           090-8456-2637（笑福亭喬介）
URL:https://yuho-tsukitei.com/event/%e7%ac%ac119%e5%9b%9e-%e7%ac%91%e7%a6%8f%e4%ba%ad%e5%96%ac%e4%bb%8b%e3%81%ae%e5%8c%97%e9%87%8e%e7%94%b0%e9%a7%85%e5%89%8d%e5%af%84%e5%b8%ad
ATTACH;FMTTYPE=image/jpeg:https://yuho-tsukitei.com/wp-content/uploads/2025/01/IMG_6146.jpeg
END:VEVENT
END:VCALENDAR