BEGIN:VCALENDAR
VERSION:2.0
PRODID:-//遊方 FOR YOU! - ECPv6.15.20//NONSGML v1.0//EN
CALSCALE:GREGORIAN
METHOD:PUBLISH
X-WR-CALNAME:遊方 FOR YOU!
X-ORIGINAL-URL:https://yuho-tsukitei.com
X-WR-CALDESC:遊方 FOR YOU! のイベント
REFRESH-INTERVAL;VALUE=DURATION:PT1H
X-Robots-Tag:noindex
X-PUBLISHED-TTL:PT1H
BEGIN:VTIMEZONE
TZID:Asia/Tokyo
BEGIN:STANDARD
TZOFFSETFROM:+0900
TZOFFSETTO:+0900
TZNAME:JST
DTSTART:20240101T000000
END:STANDARD
END:VTIMEZONE
BEGIN:VEVENT
DTSTART;TZID=Asia/Tokyo:20250208T190000
DTEND;TZID=Asia/Tokyo:20250208T210000
DTSTAMP:20260424T224744
CREATED:20250102T064253Z
LAST-MODIFIED:20250102T064253Z
UID:3454-1739041200-1739048400@yuho-tsukitei.com
SUMMARY:第1回 月亭柳正しごきの会
DESCRIPTION:日時：2月8日（土）午後7時開演（6時30分開場） \n場所：西宮えびす亭（阪神「西宮」駅より徒歩5分、西宮市和上町8-14） \n出演：月亭柳正『干物箱（ネタおろし）』他\n     ゲスト：月亭遊方 \n料金：先行予約2000円（1/24までの予約）\n     通常予約2300円\n     当日2800円 \n予約＆問合せ：FUJI鍋\n            km@fujinabe.com\n            072-355-8286
URL:https://yuho-tsukitei.com/event/%e7%ac%ac1%e5%9b%9e-%e6%9c%88%e4%ba%ad%e6%9f%b3%e6%ad%a3%e3%81%97%e3%81%94%e3%81%8d%e3%81%ae%e4%bc%9a
ATTACH;FMTTYPE=image/jpeg:https://yuho-tsukitei.com/wp-content/uploads/2025/01/IMG_5982.jpeg
END:VEVENT
END:VCALENDAR