BEGIN:VCALENDAR
VERSION:2.0
PRODID:-//遊方 FOR YOU! - ECPv6.15.20//NONSGML v1.0//EN
CALSCALE:GREGORIAN
METHOD:PUBLISH
X-ORIGINAL-URL:https://yuho-tsukitei.com
X-WR-CALDESC:遊方 FOR YOU! のイベント
REFRESH-INTERVAL;VALUE=DURATION:PT1H
X-Robots-Tag:noindex
X-PUBLISHED-TTL:PT1H
BEGIN:VTIMEZONE
TZID:Asia/Tokyo
BEGIN:STANDARD
TZOFFSETFROM:+0900
TZOFFSETTO:+0900
TZNAME:JST
DTSTART:20240101T000000
END:STANDARD
END:VTIMEZONE
BEGIN:VEVENT
DTSTART;TZID=Asia/Tokyo:20250211T120000
DTEND;TZID=Asia/Tokyo:20250211T180000
DTSTAMP:20260425T005937
CREATED:20250118T235259Z
LAST-MODIFIED:20250118T235259Z
UID:3477-1739275200-1739296800@yuho-tsukitei.com
SUMMARY:にゃなかネコ祭り
DESCRIPTION:日時：2月11日（火祝）午後12時開場〜18時終演 \n場所：谷中サロン「まいの間」（地下鉄「千駄木」駅より徒歩3分 / 東京都文京区千駄木2-31-3 SWEDEN GRACE店内より2階） \n番組：13:00〜14:30\n     落語＆トークLIVE（月亭遊方＆川上麻衣子）\n            子）\n     15:30〜\n    「毎日がネコ曜日」公開収録（川上麻衣子＆東野ひろ\n     あき） \n参加費：3500円（1ドリンク付き） \nお申し込み方法：nyanaka.info@gmail.com に\n件名「にゃなか祭り」として、お名前、郵便番号&ご住所、連絡のつくお電話番号、人数をご記入の上、メールでお申し込みください。\n※お返事には2〜3日かかる場合があります
URL:https://yuho-tsukitei.com/event/%e3%81%ab%e3%82%83%e3%81%aa%e3%81%8b%e3%83%8d%e3%82%b3%e7%a5%ad%e3%82%8a
ATTACH;FMTTYPE=image/jpeg:https://yuho-tsukitei.com/wp-content/uploads/2025/01/IMG_6330.jpeg
END:VEVENT
BEGIN:VEVENT
DTSTART;TZID=Asia/Tokyo:20250211T180000
DTEND;TZID=Asia/Tokyo:20250211T210000
DTSTAMP:20260425T005937
CREATED:20241126T104130Z
LAST-MODIFIED:20250111T193803Z
UID:3419-1739296800-1739307600@yuho-tsukitei.com
SUMMARY:遊方と喧太とオガン〜生きてるうちが花なんだぜ〜
DESCRIPTION:日時：2月11日（火・祝）午後6時開演（5時30分開場） \n場所：JIROKICHI（JR「高円寺」駅北口より徒歩2分）\n     東京都杉並区高円寺北2-3-4-B1 \n出演：落語とバンドのコラボイベント\n     月亭遊方（落語）、原田喧太（Vo＆G）小笠原義弘（B）\n料金：3000円（ドリンク別） \n問合せ：075-279-2868\n       kyoushoudou@hotmail.com（京升堂） \n※チラシ画像製作中
URL:https://yuho-tsukitei.com/event/%e9%81%8a%e6%96%b9%e3%81%a8%e5%96%a7%e5%a4%aa%e3%81%a8%e3%82%aa%e3%82%ac%e3%83%b3%e3%80%9c%e7%94%9f%e3%81%8d%e3%81%a6%e3%82%8b%e3%81%86%e3%81%a1%e3%81%8c%e8%8a%b1%e3%81%aa%e3%82%93%e3%81%a0%e3%81%9c
ATTACH;FMTTYPE=image/jpeg:https://yuho-tsukitei.com/wp-content/uploads/2024/11/IMG_6173.jpeg
END:VEVENT
END:VCALENDAR