BEGIN:VCALENDAR
VERSION:2.0
PRODID:-//遊方 FOR YOU! - ECPv6.15.20//NONSGML v1.0//EN
CALSCALE:GREGORIAN
METHOD:PUBLISH
X-WR-CALNAME:遊方 FOR YOU!
X-ORIGINAL-URL:https://yuho-tsukitei.com
X-WR-CALDESC:遊方 FOR YOU! のイベント
REFRESH-INTERVAL;VALUE=DURATION:PT1H
X-Robots-Tag:noindex
X-PUBLISHED-TTL:PT1H
BEGIN:VTIMEZONE
TZID:Asia/Tokyo
BEGIN:STANDARD
TZOFFSETFROM:+0900
TZOFFSETTO:+0900
TZNAME:JST
DTSTART:20240101T000000
END:STANDARD
END:VTIMEZONE
BEGIN:VEVENT
DTSTART;TZID=Asia/Tokyo:20250308T140000
DTEND;TZID=Asia/Tokyo:20250308T160000
DTSTAMP:20260424T224854
CREATED:20241216T180443Z
LAST-MODIFIED:20241217T164001Z
UID:3437-1741442400-1741449600@yuho-tsukitei.com
SUMMARY:月亭遊方の噺のROCK＃4
DESCRIPTION:日時：3月8日（土）午後2時開演（1時30分開場、4時終演予定） \n場所：アートスペース兜座5F演芸フロア（地下鉄「日本橋」    「茅場町」駅より徒歩3〜4分）\n     ※全席椅子席 \n出演：月亭遊方（3席） \n料金：前売予約2500円、当日3000円（全席自由） \n予約＆問合せ：さかいひろこworks\n            06-6155-5561（留守電対応の場合あり）\n            yoyaku@sakaihirokoworks.net\n           （公演名、お名前、枚数、Telをご記入ください）
URL:https://yuho-tsukitei.com/event/%e6%9c%88%e4%ba%ad%e9%81%8a%e6%96%b9%e3%81%ae%e5%99%ba%e3%81%aerock%ef%bc%834
ATTACH;FMTTYPE=image/jpeg:https://yuho-tsukitei.com/wp-content/uploads/2024/12/IMG_5194.jpeg
END:VEVENT
END:VCALENDAR