BEGIN:VCALENDAR
VERSION:2.0
PRODID:-//遊方 FOR YOU! - ECPv6.15.20//NONSGML v1.0//EN
CALSCALE:GREGORIAN
METHOD:PUBLISH
X-WR-CALNAME:遊方 FOR YOU!
X-ORIGINAL-URL:https://yuho-tsukitei.com
X-WR-CALDESC:遊方 FOR YOU! のイベント
REFRESH-INTERVAL;VALUE=DURATION:PT1H
X-Robots-Tag:noindex
X-PUBLISHED-TTL:PT1H
BEGIN:VTIMEZONE
TZID:Asia/Tokyo
BEGIN:STANDARD
TZOFFSETFROM:+0900
TZOFFSETTO:+0900
TZNAME:JST
DTSTART:20240101T000000
END:STANDARD
END:VTIMEZONE
BEGIN:VEVENT
DTSTART;TZID=Asia/Tokyo:20250319T190000
DTEND;TZID=Asia/Tokyo:20250319T213000
DTSTAMP:20260424T205702
CREATED:20250123T202246Z
LAST-MODIFIED:20250123T202246Z
UID:3481-1742410800-1742419800@yuho-tsukitei.com
SUMMARY:第88回 新世紀落語の会〜オール新作！爆笑バトル〜
DESCRIPTION:日時：3月19日（水）午後7時開演（6時30分開場） \n場所：DAIHATSU心斎橋 角座（大阪市中央区東心斎橋1-\n     19-11） \n出演：露の新幸『AI弟子』\n     笑福亭呂竹『甲子園風景（作/堀文四郎）』\n     月亭遊方『ホット＆クール』\n       〜仲入り〜\n     桂まめだ『パンダ返還作戦（作/神崎辰也）』\n     笑福亭松喬『酒盗（作/米井敬人）』 \n料金：予約2500円 当日3000円 \n予約＆問合せ：新世紀落語の会\n          sinseikirakugo2010@yahoo.co.jp\n※氏名、枚数、連絡先電話番号を明記の上、送信して下さい
URL:https://yuho-tsukitei.com/event/%e7%ac%ac88%e5%9b%9e-%e6%96%b0%e4%b8%96%e7%b4%80%e8%90%bd%e8%aa%9e%e3%81%ae%e4%bc%9a%e3%80%9c%e3%82%aa%e3%83%bc%e3%83%ab%e6%96%b0%e4%bd%9c%ef%bc%81%e7%88%86%e7%ac%91%e3%83%90%e3%83%88%e3%83%ab
ATTACH;FMTTYPE=image/jpeg:https://yuho-tsukitei.com/wp-content/uploads/2025/01/IMG_6493-scaled.jpeg
END:VEVENT
END:VCALENDAR