BEGIN:VCALENDAR
VERSION:2.0
PRODID:-//遊方 FOR YOU! - ECPv6.15.20//NONSGML v1.0//EN
CALSCALE:GREGORIAN
METHOD:PUBLISH
X-ORIGINAL-URL:https://yuho-tsukitei.com
X-WR-CALDESC:遊方 FOR YOU! のイベント
REFRESH-INTERVAL;VALUE=DURATION:PT1H
X-Robots-Tag:noindex
X-PUBLISHED-TTL:PT1H
BEGIN:VTIMEZONE
TZID:Asia/Tokyo
BEGIN:STANDARD
TZOFFSETFROM:+0900
TZOFFSETTO:+0900
TZNAME:JST
DTSTART:20240101T000000
END:STANDARD
END:VTIMEZONE
BEGIN:VEVENT
DTSTART;TZID=Asia/Tokyo:20250321T080000
DTEND;TZID=Asia/Tokyo:20250321T170000
DTSTAMP:20260424T205741
CREATED:20250321T143324Z
LAST-MODIFIED:20250321T143324Z
UID:3561-1742544000-1742576400@yuho-tsukitei.com
SUMMARY:新開地音楽祭@喜楽館
DESCRIPTION:日時：5月10日（土）午後2時開演（1時30分開場、4時半頃終演） \n場所：神戸新開地・喜楽館（各線「新開地」駅東改札③番出口より徒歩2分） \n出演：開演前の一席（1時45分から出演者未定）、林家染八、桂米輝、リピート山中（青春フォーク漫談）、笑福亭岐代松 〜仲入り〜 月亭遊方、内海英華（女道楽）、桂小春團治、ホーンなあほな演奏（小春團治、岐代松、遊方、米輝、染八、リピート山中、英華、こっこ） \nホーンなあほなメンバー\n桂小春團治(A.Sax)、桂九雀(Cl)、笑福亭岐代松(Ds)、月亭遊方(Vo&G)、桂米輝(T.Sax)、林家染八(Per)、桂笑金(B)、リピート山中(Vo&Banj)、内海英華(Tb)、こっこ(Tp) \n料金：前売2300円、当日2800円 / 以下前売当日共：65歳以上2300円、障がい者・高校・大学生2000円、小中学生1500円 ※要証明証 \nチケット：喜楽館窓口、チケットぴあ(Pコード:597-410)、セブンイレブン(要Pコード) \n問合せ：078-335-7088（神戸新開地・喜楽館）
URL:https://yuho-tsukitei.com/event/%e6%96%b0%e9%96%8b%e5%9c%b0%e9%9f%b3%e6%a5%bd%e7%a5%ad%e5%96%9c%e6%a5%bd%e9%a4%a8-4
ATTACH;FMTTYPE=image/jpeg:https://yuho-tsukitei.com/wp-content/uploads/2025/03/IMG_8445.jpeg
END:VEVENT
END:VCALENDAR