BEGIN:VCALENDAR
VERSION:2.0
PRODID:-//遊方 FOR YOU! - ECPv6.15.20//NONSGML v1.0//EN
CALSCALE:GREGORIAN
METHOD:PUBLISH
X-WR-CALNAME:遊方 FOR YOU!
X-ORIGINAL-URL:https://yuho-tsukitei.com
X-WR-CALDESC:遊方 FOR YOU! のイベント
REFRESH-INTERVAL;VALUE=DURATION:PT1H
X-Robots-Tag:noindex
X-PUBLISHED-TTL:PT1H
BEGIN:VTIMEZONE
TZID:Asia/Tokyo
BEGIN:STANDARD
TZOFFSETFROM:+0900
TZOFFSETTO:+0900
TZNAME:JST
DTSTART:20240101T000000
END:STANDARD
END:VTIMEZONE
BEGIN:VEVENT
DTSTART;TZID=Asia/Tokyo:20250323T150000
DTEND;TZID=Asia/Tokyo:20250323T160000
DTSTAMP:20260424T205658
CREATED:20250204T193326Z
LAST-MODIFIED:20250204T193326Z
UID:3492-1742742000-1742745600@yuho-tsukitei.com
SUMMARY:さのDAY落語会
DESCRIPTION:日時：3月23日（日）午後3時開演（2時30分開場、4時終演予定） \n場所：レフ関空泉佐野byベッセルホテルズ3F（南海「泉佐野」駅隣接） \n出演：月亭遊方、月亭八織（落語1席ずつ） \n料金：2000円（ドリンクBAR、焼菓子1個付き） \n予約＆問合せ：080-4766-0911（sho-yaチケットセンター）
URL:https://yuho-tsukitei.com/event/%e3%81%95%e3%81%aeday%e8%90%bd%e8%aa%9e%e4%bc%9a
ATTACH;FMTTYPE=image/jpeg:https://yuho-tsukitei.com/wp-content/uploads/2025/02/IMG_6870.jpeg
END:VEVENT
END:VCALENDAR