BEGIN:VCALENDAR
VERSION:2.0
PRODID:-//遊方 FOR YOU! - ECPv6.15.20//NONSGML v1.0//EN
CALSCALE:GREGORIAN
METHOD:PUBLISH
X-ORIGINAL-URL:https://yuho-tsukitei.com
X-WR-CALDESC:遊方 FOR YOU! のイベント
REFRESH-INTERVAL;VALUE=DURATION:PT1H
X-Robots-Tag:noindex
X-PUBLISHED-TTL:PT1H
BEGIN:VTIMEZONE
TZID:Asia/Tokyo
BEGIN:STANDARD
TZOFFSETFROM:+0900
TZOFFSETTO:+0900
TZNAME:JST
DTSTART:20240101T000000
END:STANDARD
END:VTIMEZONE
BEGIN:VEVENT
DTSTART;TZID=Asia/Tokyo:20250328T180000
DTEND;TZID=Asia/Tokyo:20250328T203000
DTSTAMP:20260424T205826
CREATED:20250125T140202Z
LAST-MODIFIED:20250125T140202Z
UID:3485-1743184800-1743193800@yuho-tsukitei.com
SUMMARY:月亭可朝を忘れてはおまへんか？〜嘆きのボイン復活〜
DESCRIPTION:日時：3月28日（金）午後6時開演（5時30分開場） \n場所：天満天神繁昌亭（地下鉄「南森町」駅4-A出口より徒歩3分） \n出演：月亭八方、月亭遊方（大喜利出演）、月亭八光、月亭\n     方正、月亭方気、月亭八織、月亭遊真、松浦真也\n    （From吉本新喜劇） \n料金：前売3500円 当日4000円 \nチケットご購入：0570-550-100（FANYチケット）\n             チケットぴあ（Pコード:597-700）
URL:https://yuho-tsukitei.com/event/%e6%9c%88%e4%ba%ad%e5%8f%af%e6%9c%9d%e3%82%92%e5%bf%98%e3%82%8c%e3%81%a6%e3%81%af%e3%81%8a%e3%81%be%e3%81%b8%e3%82%93%e3%81%8b%ef%bc%9f%e3%80%9c%e5%98%86%e3%81%8d%e3%81%ae%e3%83%9c%e3%82%a4%e3%83%b3
ATTACH;FMTTYPE=image/jpeg:https://yuho-tsukitei.com/wp-content/uploads/2025/01/IMG_6523.jpeg
END:VEVENT
END:VCALENDAR