BEGIN:VCALENDAR
VERSION:2.0
PRODID:-//遊方 FOR YOU! - ECPv6.15.20//NONSGML v1.0//EN
CALSCALE:GREGORIAN
METHOD:PUBLISH
X-ORIGINAL-URL:https://yuho-tsukitei.com
X-WR-CALDESC:遊方 FOR YOU! のイベント
REFRESH-INTERVAL;VALUE=DURATION:PT1H
X-Robots-Tag:noindex
X-PUBLISHED-TTL:PT1H
BEGIN:VTIMEZONE
TZID:Asia/Tokyo
BEGIN:STANDARD
TZOFFSETFROM:+0900
TZOFFSETTO:+0900
TZNAME:JST
DTSTART:20240101T000000
END:STANDARD
END:VTIMEZONE
BEGIN:VEVENT
DTSTART;TZID=Asia/Tokyo:20250406T100000
DTEND;TZID=Asia/Tokyo:20250406T120000
DTSTAMP:20260424T171648
CREATED:20250214T185332Z
LAST-MODIFIED:20250214T185332Z
UID:3506-1743933600-1743940800@yuho-tsukitei.com
SUMMARY:第91回 桂慶枝の早起き寄席〜新生活スペシャル〜
DESCRIPTION:日時：4月6日（日）午前10時開演（9時30分開場、11時45分頃終演） \n場所：天満天神繁昌亭（地下鉄「南森町」駅4-A出口より徒歩3分） \n出演：桂慶枝『終の住処は楽屋部屋』\n     月亭遊方『憧れのひとり暮らし』\n     桂福丸『アニマルマンション管理組合』\n     桂三実『ロックンロールは鳴りやむっ』 \n料金：前売2000円、当日2500円、小中高大学生1000円 \n予約＆問合せ：0120-874-315（落語ファクトリー）\n            katsura-sunpoo.com（桂慶枝公式サイ\n            ト） \nチケット：天満天神繁昌亭窓口、チケットぴあ、セブンイレ\n        ブン（Pコード：597-700）
URL:https://yuho-tsukitei.com/event/%e7%ac%ac91%e5%9b%9e-%e6%a1%82%e6%85%b6%e6%9e%9d%e3%81%ae%e6%97%a9%e8%b5%b7%e3%81%8d%e5%af%84%e5%b8%ad%e3%80%9c%e6%96%b0%e7%94%9f%e6%b4%bb%e3%82%b9%e3%83%9a%e3%82%b7%e3%83%a3%e3%83%ab%e3%80%9c
ATTACH;FMTTYPE=image/jpeg:https://yuho-tsukitei.com/wp-content/uploads/2025/02/IMG_7183-scaled.jpeg
END:VEVENT
END:VCALENDAR