BEGIN:VCALENDAR
VERSION:2.0
PRODID:-//遊方 FOR YOU! - ECPv6.15.20//NONSGML v1.0//EN
CALSCALE:GREGORIAN
METHOD:PUBLISH
X-ORIGINAL-URL:https://yuho-tsukitei.com
X-WR-CALDESC:遊方 FOR YOU! のイベント
REFRESH-INTERVAL;VALUE=DURATION:PT1H
X-Robots-Tag:noindex
X-PUBLISHED-TTL:PT1H
BEGIN:VTIMEZONE
TZID:Asia/Tokyo
BEGIN:STANDARD
TZOFFSETFROM:+0900
TZOFFSETTO:+0900
TZNAME:JST
DTSTART:20240101T000000
END:STANDARD
END:VTIMEZONE
BEGIN:VEVENT
DTSTART;TZID=Asia/Tokyo:20250417T133000
DTEND;TZID=Asia/Tokyo:20250417T163000
DTSTAMP:20260424T171654
CREATED:20250306T133607Z
LAST-MODIFIED:20250306T133607Z
UID:3524-1744896600-1744907400@yuho-tsukitei.com
SUMMARY:花形落語家フェスティバル
DESCRIPTION:日時：4月17日（木）午後1時30分開演（1時開場、4時10分頃終演） \n場所：天満天神繁昌亭（地下鉄「南森町」駅4-A出口より徒歩3分） \n出演：笑福亭喬明、桂文五郎、笑福亭松喬、揚野バンリ（お笑い曲芸）、桂吉坊、笑福亭喬若 〜仲入り〜 桂かい枝、月亭遊方、桂ぽんぽ娘（メイド漫談）、笑福亭喬介 \n料金：前売2500円、当日2800円、65歳以上2300円/2500円、身障者2000円/2200円、学生（25才未満）1000円/1500円 \nチケット：チケットぴあ、セブンイレブン（Pコード：597-700）、繁昌亭窓口 \n問合せ：06-6352-4874（天満天神繁昌亭）
URL:https://yuho-tsukitei.com/event/%e8%8a%b1%e5%bd%a2%e8%90%bd%e8%aa%9e%e5%ae%b6%e3%83%95%e3%82%a7%e3%82%b9%e3%83%86%e3%82%a3%e3%83%90%e3%83%ab
ATTACH;FMTTYPE=image/jpeg:https://yuho-tsukitei.com/wp-content/uploads/2025/03/IMG_7821.jpeg
END:VEVENT
END:VCALENDAR