BEGIN:VCALENDAR
VERSION:2.0
PRODID:-//遊方 FOR YOU! - ECPv6.15.20//NONSGML v1.0//EN
CALSCALE:GREGORIAN
METHOD:PUBLISH
X-ORIGINAL-URL:https://yuho-tsukitei.com
X-WR-CALDESC:遊方 FOR YOU! のイベント
REFRESH-INTERVAL;VALUE=DURATION:PT1H
X-Robots-Tag:noindex
X-PUBLISHED-TTL:PT1H
BEGIN:VTIMEZONE
TZID:Asia/Tokyo
BEGIN:STANDARD
TZOFFSETFROM:+0900
TZOFFSETTO:+0900
TZNAME:JST
DTSTART:20240101T000000
END:STANDARD
END:VTIMEZONE
BEGIN:VEVENT
DTSTART;TZID=Asia/Tokyo:20250426T180000
DTEND;TZID=Asia/Tokyo:20250426T203000
DTSTAMP:20260424T190604
CREATED:20250223T132842Z
LAST-MODIFIED:20250223T132842Z
UID:3510-1745690400-1745699400@yuho-tsukitei.com
SUMMARY:できらく！〜いつもドキドキ新作ネタおろしの会〜
DESCRIPTION:日時：4月26日（土）午後6時開演（5時30分開場） \n場所：恵美寿寄（地下鉄「恵美須町」駅③出口より徒歩5\n             分） \n出演：桂あやめ「ネオ人間洗濯機」\n     桂慶枝「新機種登場」\n     月亭遊方「Let’s太極拳！」\n     旭堂南湖「インド狂言」 \n料金：2000円（予約当日とも） \n予約＆問合せ：桂あやめホームページ\n            https://www.katsura-ayame.com/
URL:https://yuho-tsukitei.com/event/%e3%81%a7%e3%81%8d%e3%82%89%e3%81%8f%ef%bc%81%e3%80%9c%e3%81%84%e3%81%a4%e3%82%82%e3%83%89%e3%82%ad%e3%83%89%e3%82%ad%e6%96%b0%e4%bd%9c%e3%83%8d%e3%82%bf%e3%81%8a%e3%82%8d%e3%81%97%e3%81%ae%e4%bc%9a
ATTACH;FMTTYPE=image/jpeg:https://yuho-tsukitei.com/wp-content/uploads/2025/02/IMG_7362.jpeg
END:VEVENT
END:VCALENDAR