BEGIN:VCALENDAR
VERSION:2.0
PRODID:-//遊方 FOR YOU! - ECPv6.15.20//NONSGML v1.0//EN
CALSCALE:GREGORIAN
METHOD:PUBLISH
X-ORIGINAL-URL:https://yuho-tsukitei.com
X-WR-CALDESC:遊方 FOR YOU! のイベント
REFRESH-INTERVAL;VALUE=DURATION:PT1H
X-Robots-Tag:noindex
X-PUBLISHED-TTL:PT1H
BEGIN:VTIMEZONE
TZID:Asia/Tokyo
BEGIN:STANDARD
TZOFFSETFROM:+0900
TZOFFSETTO:+0900
TZNAME:JST
DTSTART:20240101T000000
END:STANDARD
END:VTIMEZONE
BEGIN:VEVENT
DTSTART;TZID=Asia/Tokyo:20250429T133000
DTEND;TZID=Asia/Tokyo:20250429T163000
DTSTAMP:20260424T171652
CREATED:20250306T134052Z
LAST-MODIFIED:20250306T134052Z
UID:3527-1745933400-1745944200@yuho-tsukitei.com
SUMMARY:花形落語家フェスティバル
DESCRIPTION:日時：4月29日（火祝）午後1時30分開演（1時開場、4時過ぎ終演予定） \n場所：天満天神繁昌亭（地下鉄「南森町」駅4-A出口より徒歩3分） \n出演：桂二豆、露の紫、月亭文都、笑福亭智之介（マジック）、林家染左、月亭八方 〜仲入り〜 笑福亭喬介、月亭遊方、笑福亭鶴笑（パペット落語）、月亭八斗 \n料金：前売2500円、当日2800円、65歳以上2300円/2500円、身障者2000円/2200円、学生（25才未満）1000円/1500円 \nチケット：チケットぴあ、セブンイレブン（Pコード：597-700）、繁昌亭窓口 \n問合せ：06-6352-4874（天満天神繁昌亭）
URL:https://yuho-tsukitei.com/event/%e8%8a%b1%e5%bd%a2%e8%90%bd%e8%aa%9e%e5%ae%b6%e3%83%95%e3%82%a7%e3%82%b9%e3%83%86%e3%82%a3%e3%83%90%e3%83%ab-2
ATTACH;FMTTYPE=image/jpeg:https://yuho-tsukitei.com/wp-content/uploads/2025/03/IMG_7821.jpeg
END:VEVENT
END:VCALENDAR