BEGIN:VCALENDAR
VERSION:2.0
PRODID:-//遊方 FOR YOU! - ECPv6.15.20//NONSGML v1.0//EN
CALSCALE:GREGORIAN
METHOD:PUBLISH
X-WR-CALNAME:遊方 FOR YOU!
X-ORIGINAL-URL:https://yuho-tsukitei.com
X-WR-CALDESC:遊方 FOR YOU! のイベント
REFRESH-INTERVAL;VALUE=DURATION:PT1H
X-Robots-Tag:noindex
X-PUBLISHED-TTL:PT1H
BEGIN:VTIMEZONE
TZID:Asia/Tokyo
BEGIN:STANDARD
TZOFFSETFROM:+0900
TZOFFSETTO:+0900
TZNAME:JST
DTSTART:20240101T000000
END:STANDARD
END:VTIMEZONE
BEGIN:VEVENT
DTSTART;TZID=Asia/Tokyo:20250505T103000
DTEND;TZID=Asia/Tokyo:20250505T130000
DTSTAMP:20260424T171611
CREATED:20250306T135358Z
LAST-MODIFIED:20250306T135358Z
UID:3529-1746441000-1746450000@yuho-tsukitei.com
SUMMARY:繁昌亭ゴールデンウィーク特別公演 5月5日第1回
DESCRIPTION:日時：5月5日（月祝）午後10時30分開演（10時開場、1時頃終演） \n場所：天満天神繁昌亭（地下鉄「南森町」駅4-A出口より徒歩3分） \n終演：桂三度、桂佐ん吉、月亭遊方、桂塩鯛 〜仲入り〜 噺家クイズ合戦：司会/桂慶枝、出題/平井史（クイズバー・スアール大阪店クイズマスター）、笑福亭鶴二、林家染雀、笑福亭呂竹、笑福亭生寿）、桂団朝、笑福亭仁智 \n料金：前売3500円、当日4000円  /  65歳以上 前売当日とも3300円 / 身障者、高校、大学生（25歳未満）前売当日とも3300円 / 小中学生前売当日とも3000円\n ※各種料金要証明書 \nチケット：チケットぴあ Pコード597-700（t.pia.jp）、セブンイレブン（要Pコード）、繁昌亭窓口 \n問合せ：06-6352-4874（天満天神繁昌亭）
URL:https://yuho-tsukitei.com/event/%e7%b9%81%e6%98%8c%e4%ba%ad%e3%82%b4%e3%83%bc%e3%83%ab%e3%83%87%e3%83%b3%e3%82%a6%e3%82%a3%e3%83%bc%e3%82%af%e7%89%b9%e5%88%a5%e5%85%ac%e6%bc%94-5%e6%9c%885%e6%97%a5%e7%ac%ac1%e5%9b%9e
ATTACH;FMTTYPE=image/jpeg:https://yuho-tsukitei.com/wp-content/uploads/2025/03/IMG_7978-scaled.jpeg
END:VEVENT
END:VCALENDAR